BEGIN:VCALENDAR
VERSION:2.0
PRODID:-//https://techplay.jp//JP
CALSCALE:GREGORIAN
METHOD:PUBLISH
X-WR-CALDESC:デジマ女子部#7～ スマホ時代のデジタルマー
 ケティング - 動画編 ＆ 顧問西井さんによる最新刊「
 デジタルマーケティングで売上の壁を超える方法」特
 別編～
X-WR-CALNAME:デジマ女子部#7～ スマホ時代のデジタルマー
 ケティング - 動画編 ＆ 顧問西井さんによる最新刊「
 デジタルマーケティングで売上の壁を超える方法」特
 別編～
X-WR-TIMEZONE:Asia/Tokyo
BEGIN:VTIMEZONE
TZID:Asia/Tokyo
BEGIN:STANDARD
DTSTART:19700101T000000
TZOFFSETFROM:+0900
TZOFFSETTO:+0900
TZNAME:JST
END:STANDARD
END:VTIMEZONE
BEGIN:VEVENT
UID:638583@techplay.jp
SUMMARY:デジマ女子部#7～ スマホ時代のデジタルマーケテ
 ィング - 動画編 ＆ 顧問西井さんによる最新刊「デジ
 タルマーケティングで売上の壁を超える方法」特別編
 ～
DTSTART;TZID=Asia/Tokyo:20171205T160000
DTEND;TZID=Asia/Tokyo:20171205T213000
DTSTAMP:20260419T120731Z
CREATED:20171026T032237Z
DESCRIPTION:イベント詳細はこちら\nhttps://techplay.jp/event/63858
 3?utm_medium=referral&utm_source=ics&utm_campaign=ics\n\nマーケティ
 ングを基礎からしっかり学ぼう特別号 「スマホ時代の
 デジタルマーケティング 動画活用編」～\n\n概要\n\nデ
 ジタルマーケターとして、もしくはなろうとして、み
 なさんこんな悩みをお持ちではありませんか？\n\n\n何
 から学んだらいいのかわからない！\n基本から知りた
 い！\n変化が早いから最新の情報を交換したい！\nキャ
 リアパスやスキルなど社内には聞ける人が少ないから
 情報交換したい！\n\n\nなど、本部活では定期的にマー
 ケティング知識向上、情報発信、交流を目的として活
 動しています！\n\n今回は2017年最後の特別企画になり
 ます。\n昨今のデジタルマーケティングにおける圧倒
 的なHOT TOPIC「動画」\nスマホ普及に伴い、従来テキス
 トと画像だけだった世界に動画が追加されたことで、
 生活者のコンテンツ接触体験が大きく変わっています
 。\nテレビで観ていた動画は、今やスマホで視聴する
 のが当たり前。接触回数の多いスマホを中心に据えた
 メディアプランニングが必要となっています。\nゲス
 トにC CHANNELさまとクラシルさまをお呼びして、スマホ
 時代に動画をどう活用して共感を呼び、購買行動を喚
 起していくべきか考えます。\n\n\n過去の開催の様子\n\n
 \n\n\n\n\n\n\n\n\n\n\n\n\n\n\n\n\n\n\n\n\n\n\n\n\nタイムスケジュ
 ール\n\n\n\n\n    \n        \n            時間\n            講演内
 容\n        \n        \n            15:30 -\n            開場\n       
  \n        \n            16:00 - 16:05\n            ご挨拶\n        \n
         \n            16:05 - 17:05\n\n                            1部 
 基調講演\n『デジタルマーケティングで売上の壁を超
 える方法』\n                \nスピーカー：\n株式会社シン
 クロ 社長 兼 オイシックスドット大地株式会社 CMT 西
 井 敏恭氏\n【プログラム概要】\n7回目を迎えるデジマ
 女子部は、顧問である西井氏の新刊『デジタルマーケ
 ティングで売上の壁を超える方法』の出版を記念し、
 「売りたい気持ち」が見透かされる時代にいかに「買
 いたい気持ち」に変えていくのか。デジタルマーケテ
 ィングの基礎を今一度振り返ります。\n\n            \n    
     \n        \n            17:05 - 17:20\n            休憩\n        \n
 \n            17:20 - 18:05\n                            2部トークセ
 ッション\n『動画を活用したオンラインでのブランデ
 ィング戦略 - dely株式会社 "kurashiru"(レシピ動画)の動画
 活用編』\n\nスピーカー：\n日本製粉株式会社\n経営企
 画部 企画開発チーム 有川 由紀子氏\n\ndely株式会社\n営
 業部 タイアップ営業チーム リーダー 谷口 夏美氏\n\n
 【プログラム概要】\n動画を活用したオンラインでの
 ブランディング戦略\n\n            \n        \n        \n        
     18:05 - 18:15\n            休憩\n        \n\n            18:15 - 19
 :00\n                            2部トークセッション\n『動画
 におけるF1ユーザーの視聴動向 - 株式会社C Channel "C CHAN
 NEL"(女子向け動画)』\n\nスピーカー：\n株式会社C Channel 
 C CHANNEL SNSコンテンツプロデューサー 趙 暁曦(チョウ 
 ギョウギ)氏\n\n【プログラム概要】\n・C CHANNELの紹介\n
 ・F1層の動画視聴の特徴（SNSとアプリの違い）\n・視聴
 傾向に基づく動画制作とアプローチの仕方\n\n            
 \n        \n\n        \n            19:00 - 20:30\n            3部『懇
 親会』\n                部活としてメンバーの横の繋がり
 を深めて、女性特有のキャリアの悩みなども共有し合
 える場に・・・\n※軽食付き\n            \n        \n        \
 n            21:00\n            完全終了\n        \n    \n\n\n※プ
 ログラムは予告なく変更する場合がございます。予め
 ご了承ください。\n\n\n\nこんな方におすすめ\n\n・動画
 をマーケティングに活用していきたい\n・デジタルマ
 ーケティングで成果を出したい方\n・マーケターとし
 てきちんと基礎を学びたい\n・女性マーケターとの横
 のつながりがほしい\n\n持ち物\n\nお名刺2枚\n\n参加費\n\
 n無料\n\nスピーカーのご紹介\n\n株式会社シンクロ 社長
  兼 オイシックスドット大地株式会社 CMT\n西井 敏恭氏\
 n\n\n\n2013年年末までドクターシーラボにてデジタルマ
 ーケティングの責任者を務めるなど、Eコマースのマー
 ケティングを10年以上。 \nデジタルマーケティングと
 の関わりは2001年に二年半世界一周の旅にて、人気サイ
 トとなり三冊の旅行記を出版したこと。→世界一周　
 わたしの居場所はどこにある!?\n\n現在はCMOサポートの
 サービスを展開する株式会社シンクロの代表取締役お
 よびオイシックス株式会社のCMTとして国内大手からス
 タートアップ企業のマーケティングアドバイザーをお
 こないながら、次世代のEC戦略を先導している。\n\n2017
 年10月23日、『デジタルマーケティングで売上の壁を超
 える方法』を出版\n\n\n日本製粉株式会社 経営企画部企
 画開発チームマネジャー有川 由紀子氏\n\n大阪府生ま
 れ。大学卒業後、日本製粉株式会社に入社。\n人事部
 で採用、人材育成、人事制度の\n企画運用を担当。\nそ
 の後HPの立上げ、CSR企画、販促企画などに携わり、現
 在、アマニのPRマーケティング、及びグループ会社を
 含めた総合ネット通販「NIPPN NET MALL」を立上げ、運用
 している。\n\n\ndely株式会社 営業部 タイアップ営業チ
 ーム リーダー\n谷口 夏美氏\n\n\n\n新卒でサイバーエー
 ジェントに入社し、Amebaゲームのプランナーに従事。
 その後Amebaアプリのディレクターを経て、クックパッ
 ドに転職。ディレクターとして、サービス開発から、
 出版社や料理研究家の開拓営業など多岐に渡り担当。2
 017年8月よりdely株式会社にジョインし、タイアップ営
 業に従事。\n\n\n\n株式会社C Channel C CHANNEL SNSコンテンツ
 プロデューサー\n趙 暁曦(チョウ ギョウギ)氏\n\n\n\n\n慶
 應義塾大学院 卒業\n面白法人カヤックにて人事を経て
 、現在C CHANNEL株式会社にて、制作部門ソーシャル強化
 チームのプラントマネージャーを務める。\n\nスポンサ
 ー\n\n\n\n\n
LOCATION:TECH PLAY SHIBUYA 東京都渋谷区宇田川町20-17 NMF渋谷公
 園通りビル 8F
URL:https://techplay.jp/event/638583?utm_medium=referral&utm_source=ics&utm
 _campaign=ics
END:VEVENT
END:VCALENDAR
