BEGIN:VCALENDAR
VERSION:2.0
PRODID:-//https://techplay.jp//JP
CALSCALE:GREGORIAN
METHOD:PUBLISH
X-WR-CALDESC:B2BのためのMA（マーケティングオートメーショ
 ン）の正しい選び方と使い方
X-WR-CALNAME:B2BのためのMA（マーケティングオートメーショ
 ン）の正しい選び方と使い方
X-WR-TIMEZONE:Asia/Tokyo
BEGIN:VTIMEZONE
TZID:Asia/Tokyo
BEGIN:STANDARD
DTSTART:19700101T000000
TZOFFSETFROM:+0900
TZOFFSETTO:+0900
TZNAME:JST
END:STANDARD
END:VTIMEZONE
BEGIN:VEVENT
UID:638961@techplay.jp
SUMMARY:B2BのためのMA（マーケティングオートメーション
 ）の正しい選び方と使い方
DTSTART;TZID=Asia/Tokyo:20171122T160000
DTEND;TZID=Asia/Tokyo:20171122T173000
DTSTAMP:20260422T054947Z
CREATED:20171030T084016Z
DESCRIPTION:イベント詳細はこちら\nhttps://techplay.jp/event/63896
 1?utm_medium=referral&utm_source=ics&utm_campaign=ics\n\n\n\nB2Bのため
 のMA（マーケティングオートメーション）の正しい選
 び方と使い方～MAPセミナー第2弾～\n\nセミナー概要\n\n
 日時：2017年11月22日（水）16：00～17：30（受付15：40～
 ）\n\n場所：合同会社LYST（リスト）ミーティングルー
 ム\n\n東京都中央区湊2-6-4　RKビル２F\n\n最寄駅：新富町
 （有楽町線）　徒歩6分　・　八丁堀（JR／日比谷線）
 　徒歩5分\n\n定員：​10名\n\n​講師：合同会社LYST　代
 表　亀川​賢治\n\n​参加費：3\,000円（税込み）\n\nセ
 ミナー内容\n\n◆マーケティングオートメーションの歴
 史と役割\n\n　１．なぜ、MAなのか？\n\n　２．MAを選ぶ
 ために・・・\n\n　３．デマンドジェネレーションとは
 ？\n\n　４．デマンドセンターとその仕組み\n\n　５．
 デマンドセンターが必要な理由\n\n　６．SFAの補完機能
 であるマーケティングオートメーション\n\n　７．MAの
 ルーツと個性\n\n◆デマンドジェネレーションのプロセ
 ス\n\n　１．４つのプロセス\n\n　２．リードジェネレ
 ーション\n\n　３．データマネージメント\n\n　４．リ
 ードナーチャリング\n\n　５．リードクオリフィケーシ
 ョン\n\n◆MA導入で実現する新しい世界\n\n　１．アカウ
 ントベースドマーケティング\n\n　２．インバウンドマ
 ーケティング\n\n◆MA導入を成功させるには\n\n　１．今
 やるべきこと\n\n　２．失敗しない7つのポイント\n\n◆M
 A導入企業の事例\n\n◆営業がホントに欲しいリード\n\n
 こんな方におススメです\n\n・経営者の方\n\n・経営企
 画の方\n\n・マーケッターの方\n\n・MAの選定に関わられ
 ている方\n\n受講料のお支払いについて\n\n1）お支払い
 は当日会場にていただきます。現金のみお承りいたし
 ます。（おつりのないよう、ご協力お願い致します。
 ）\n\n​\n2）領収証の発行も可能です。必要な方は事前
 にお申し出ください。当日のお渡し／別途郵送にて等
 、対応いたします。\n
LOCATION:合同会社LYST（リスト）ミーティングルーム 東京
 都中央区湊2-6-4　RKビル2F
URL:https://techplay.jp/event/638961?utm_medium=referral&utm_source=ics&utm
 _campaign=ics
END:VEVENT
END:VCALENDAR
