BEGIN:VCALENDAR
VERSION:2.0
PRODID:-//https://techplay.jp//JP
CALSCALE:GREGORIAN
METHOD:PUBLISH
X-WR-CALDESC:【開催延期】クラフトビール無料で飲み放題
 ！ちょっと遅めのニフクラ 新年会 in 歌舞伎町
X-WR-CALNAME:【開催延期】クラフトビール無料で飲み放題
 ！ちょっと遅めのニフクラ 新年会 in 歌舞伎町
X-WR-TIMEZONE:Asia/Tokyo
BEGIN:VTIMEZONE
TZID:Asia/Tokyo
BEGIN:STANDARD
DTSTART:19700101T000000
TZOFFSETFROM:+0900
TZOFFSETTO:+0900
TZNAME:JST
END:STANDARD
END:VTIMEZONE
BEGIN:VEVENT
UID:650143@techplay.jp
SUMMARY:【開催延期】クラフトビール無料で飲み放題！ち
 ょっと遅めのニフクラ 新年会 in 歌舞伎町
DTSTART;TZID=Asia/Tokyo:20180207T190000
DTEND;TZID=Asia/Tokyo:20180207T210000
DTSTAMP:20260420T222640Z
CREATED:20171213T081602Z
DESCRIPTION:イベント詳細はこちら\nhttps://techplay.jp/event/65014
 3?utm_medium=referral&utm_source=ics&utm_campaign=ics\n\nクラフトビ
 ールを飲みながら、2018年のクラウド業界を語ろう！\n
 ニフクラ エンジニア ミートアップは、エンジニアに
 よるエンジニアのための交流会です。ニフクラのユー
 ザーはもちろん、AWSなどのクラウドサービスを利用し
 ているが他のクラウドにも興味がある・・・といった
 エンジニアの方も大歓迎です。ドリンクを片手にリラ
 ックスした環境で、ニフクラのエンジニアや、クラウ
 ド業界の識者による特別セッションやライトニングト
 ークをお聞きいただけます。\nテーマ\n今年流行りそう
 な技術・キーワード、今年のニフクラはどのような展
 開を考えているか・・・といったテーマで、ニフクラ
 のエンジニアや業界識者によるセッションやLTを聞き
 ながら楽しく交流する会です。\nLTもやりますよ\nLTに
 ついては、ただいま登壇者と調整中です。当日飛び入
 り枠もご用意する予定ですので、我こそはという方は
 ネタをご用意ください。お一人3分から5分程度を想定
 しています。\n（LTのお題は、「2018年の目標」です。
 クラウド業界のことでも皆さん個人の目標でも何でも
 かまいません。）\n開催概要\n日時\n2018年2月7日(水) 19
 時〜21時（18時30分受付開始）\n会場に待機スペースが
 ありませんので、受付開始時間以降にお越しください
 。\n受付の際に名刺を2枚ご用意ください。\n会場\n歌舞
 伎町ハイボール ラヂオホール\n東京都新宿区歌舞伎町1
 -21-7\nヒューマックスパビリオン新宿アネックス1F\nhttp:
 //www.radio-hall.com/\n\n対象\n・ニフクラをご利用中のエン
 ジニア\n・AWSなどのクラウドサービスを利用している
 が、他のクラウドにも興味があるエンジニア\n飲食\nク
 ラフトビール4種・ハイボール10種・ワイン・カクテル
 ・焼酎・ソフトドリンクが飲み放題です。\n軽くつま
 める軽食もご用意しています。\nクラフトビールは以
 下の4種類が飲み放題です。\n・よなよなエール http://yo
 nayonaale.com/　\n・ブルックリン ラガー http://www.brooklynbre
 wery.jp/　\n・常陸野ネストビール ホワイトエール http://
 www.kodawari.cc/?jp_home/products/nestbeer.html　\n・常陸野ネスト
 ビール だいだいエール http://www.kodawari.cc/?jp_home/news/daid
 aiale.html　\n参加費用\n無料\n当日のタイムスケジュール
 \n\n\n\n開始\n終了\n内容\n\n\n\n\n18:30\n19:00\n受付\n\n\n19:00\n
 19:30\n挨拶・ご歓談\n\n\n19:30\n20:45\n交流を行いつつ、LTx5
 \n\n\n20:45\n21:00\n中締め ～21時退出\n\n\n\n※時間は予定で
 す。変更になる場合があります。\n※LTは決まり次第ス
 ケジュールに入れてご案内します。\n過去の様子\n第一
 回レポート http://news.mynavi.jp/kikaku/2016/11/04/002/　\n第二
 回レポート http://news.mynavi.jp/kikaku/2017/02/10/005/　\n第三
 回レポート http://news.mynavi.jp/kikaku/2017/09/06/002/　\n第四
 回レポート https://news.mynavi.jp/kikaku/20171211-549972/　\n第五
 回レポート https://news.mynavi.jp/kikaku/20180112-561326/　
LOCATION:歌舞伎町ハイボール ラヂオホール  東京都新宿区
 歌舞伎町1-21-7　(ヒューマックスパビリオン新宿アネッ
 クス1F)
URL:https://techplay.jp/event/650143?utm_medium=referral&utm_source=ics&utm
 _campaign=ics
END:VEVENT
END:VCALENDAR
