BEGIN:VCALENDAR
VERSION:2.0
PRODID:-//https://techplay.jp//JP
CALSCALE:GREGORIAN
METHOD:PUBLISH
X-WR-CALDESC:【増席】IoT縛りの勉強会/SIer主催版 SIerIoTLT vol4
X-WR-CALNAME:【増席】IoT縛りの勉強会/SIer主催版 SIerIoTLT vol4
X-WR-TIMEZONE:Asia/Tokyo
BEGIN:VTIMEZONE
TZID:Asia/Tokyo
BEGIN:STANDARD
DTSTART:19700101T000000
TZOFFSETFROM:+0900
TZOFFSETTO:+0900
TZNAME:JST
END:STANDARD
END:VTIMEZONE
BEGIN:VEVENT
UID:650235@techplay.jp
SUMMARY:【増席】IoT縛りの勉強会/SIer主催版 SIerIoTLT vol4
DTSTART;TZID=Asia/Tokyo:20180111T190000
DTEND;TZID=Asia/Tokyo:20180111T220000
DTSTAMP:20260420T105834Z
CREATED:20171214T001459Z
DESCRIPTION:イベント詳細はこちら\nhttps://techplay.jp/event/65023
 5?utm_medium=referral&utm_source=ics&utm_campaign=ics\n\n業界初?! IoT
 縛りの勉強会／「SIerが主催」版です！好評につき第4
 回目！\nみんな一緒に「楽しく」IoTを学びましょう！\n
 SIerじゃなくても誰でも参加できます！お楽しみのLTは
 実演有り！ライブコーディング有り！と、本家IoTLTと
 同様です！全くお堅くないですよっ！\n「IoTネタのLTを
 楽しむ」\n「SIerってどうやってIoTに取り組んでるの？S
 Ierって実際どうなの？」\nが主なテーマです。\n本家IoT
 LTに比べてSIerの参加者が多いSIerIoTLTですが、このテー
 マを参加者全員で共有しつつ「IoT」というキーワード
 をベースに一緒に楽しく学び、互いに刺激を受け新し
 い何かにチャレンジするキッカケを生み出そう！と言
 うのがこの会の目的です。\nSIerというキーワードは付
 いていますが「SIer自身」だけでなく「SIerと仕事をし
 た事がある方」「SIerに興味がある方」そしてSIerに(良
 い)刺激を与えたい・SIerと繋がってみたい「モノ作り
 な方」も大歓迎。\nもちろん、「ただIoTに興味がある
 方」のご参加も大歓迎です。\nIoT領域には幅広い知識
 や技術があり、アイディアやインスピレーションも重
 要です。\nまた、IoTを仕事に繋げるには市場・お客様
 ・その業務、そして時代が求める事に対しアンテナを
 張る必要があります。\nIoT領域の技術スキルを持ちモ
 ノ作りに長けた方、IoTを楽しんでいる方、そして市場
 ・お客様・業務を良く知るSIerとが互いにコミュニケー
 ションを取り合い一緒に楽しく学ぶ事で、きっと新し
 い何かが生まれるはず！\nこの会はそんな個々が持っ
 ている知識・情報・問題・課題を楽しく発信し共有す
 る場になります。 \n本体であるIoTLTが開催に至った経
 緯や今後の展開はこちら \nhttps://codeiq.jp/magazine/2016/03/38
 409/\n開催前後の交流ためのFBグループもあります！\nhtt
 ps://www.facebook.com/groups/IoTLT \n情報はこちらで流れてるの
 で是非ご参加下さい！\nLT登壇希望者はFBグループにて
 コメントください！\nこちらにコメントください！\nLT
 枠は全て埋まりました。ありがとうございました！\n
 今回の会場はウイングアーク１ｓｔ株式会社\n人数が
 多い場合は立ち見になる可能性もございます。あらか
 じめご了承ください。\nアクセス\n◆場所\n東京都 渋谷
 区桜丘町20-1 渋谷インフォスタワー21F\nウイングアーク
 １ｓｔ株式会社 本社21F セミナールーム \nTEL：03-5962-730
 4 \n◆最寄駅\nJR 渋谷駅　西口（南改札）より徒歩４分\
 n入館方法\nビル入り口の時間制約等はございません。2
 1階に直接ご来場ください。\nタイムテーブル\nLTは一人
 ５分です(スポンサーLTは除く)。\n\n\n\n時間\n内容\n発表
 タイトル\n\n\n\n\n19:00\n開場\n\n\n\n19:30\nオープニング／
 チャラ電Mitz\n趣旨説明／リアルタイム投票開始\n\n\n19:4
 0\nLT開始\n\n\n\n\nスポンサーLT: Saori&Yumiko(ウイングアー
 ク多田・坂口)\nIoTやってみた\n\n\n\nLT: May （ウフル 松
 浦）\nオフィスIoT最前線\n\n\n\nLT: yumatsud（ヤフー 松田
 ）\nGoogle Homeで勤怠連絡ボタンの音声版をやって見た\n\
 n\n\nLT: 宮知秀@Softbank Robotics\n馬車馬の様に働く為のIoT\n
 \n\n\nLT: powhei\nデスマーチでバイクに乗る時間のない同
 僚に捧ぐIoT\n\n\n\n休憩\n\n\n\n\nスポンサーLT: 大澤（ウイ
 ングアーク）\nAlexaでスマートホーム作ってみた\n\n\n\nL
 T: 高橋 Twilio（KDDIウェブコミュニケーションズ）\nTwilio
  5分クッキング\n\n\n\nLT: USASHIROU（たいしろう）\n綺麗な
 PPTは好きですか？\n\n\n\nLT: Mika Kamei@セゾン情報システ
 ムズ\nすぐできる。ノンプログラミングIoT\n\n\n\nLT: 井
 本賢\n効率よく働くためのIoT\n\n\n\nLT: のびすけ at dotstud
 io\nIoTLT本体代表\n\n\n20:50\nクロージング\nリアルタイム
 投票結果確認／集合写真\n\n\n21:00\n懇親会\n\n\n\n21:55\n締
 め\n\n\n\n22:00\n撤収\n\n\n\n\n参加費\n\n本編 無料\n懇親会 
 無料\n\n懇親会費は無料です！ウイングアーク１ｓｔ様
 にスポンサーしていただきます！ありがとうございま
 す！\n\n駄菓子スポンサー\nチャラ電Mitz\n\n主催\nもっと
 もSIerっぽくないけどSIer勤めの チャラ電Mitz\nこのイベ
 ントに申し込まれたり興味のある方はお気軽に友達申
 請どうぞ。\n諸注意\n\nイベント内容は一部変更になる
 可能性がございます。\nイベント当日の様子は後日何
 らかの媒体にて公開させていただくことがございます
 。\nお申込後運営都合によりご参加をキャンセルさせ
 て頂く場合がございます。予めご了承頂けますようお
 願いいたします。\n
LOCATION:ウイングアーク１ｓｔ株式会社 本社21F セミナー
 ルーム 東京都渋谷区桜丘町20-1 渋谷インフォスタワー
URL:https://techplay.jp/event/650235?utm_medium=referral&utm_source=ics&utm
 _campaign=ics
END:VEVENT
END:VCALENDAR
