BEGIN:VCALENDAR
VERSION:2.0
PRODID:-//https://techplay.jp//JP
CALSCALE:GREGORIAN
METHOD:PUBLISH
X-WR-CALDESC:【働き方改革】12/29(金) Webスキルアップワーク
 ショップ＠新宿(その場で一緒にHPを制作！)
X-WR-CALNAME:【働き方改革】12/29(金) Webスキルアップワーク
 ショップ＠新宿(その場で一緒にHPを制作！)
X-WR-TIMEZONE:Asia/Tokyo
BEGIN:VTIMEZONE
TZID:Asia/Tokyo
BEGIN:STANDARD
DTSTART:19700101T000000
TZOFFSETFROM:+0900
TZOFFSETTO:+0900
TZNAME:JST
END:STANDARD
END:VTIMEZONE
BEGIN:VEVENT
UID:650469@techplay.jp
SUMMARY:【働き方改革】12/29(金) Webスキルアップワークシ
 ョップ＠新宿(その場で一緒にHPを制作！)
DTSTART;TZID=Asia/Tokyo:20171229T110000
DTEND;TZID=Asia/Tokyo:20171229T123000
DTSTAMP:20260424T014518Z
CREATED:20171216T024041Z
DESCRIPTION:イベント詳細はこちら\nhttps://techplay.jp/event/65046
 9?utm_medium=referral&utm_source=ics&utm_campaign=ics\n\n満員御礼！
 ！\n大好評をいただいている、エッグシステムのシス
 テムエンジニア向け勉強会です！\n\n今回は特別編です
 。\n座談形式の勉強会ではなく、その場で一緒にワー
 クをしながらホームページ制作をレクチャーします！\
 n\n\n残念ながら、ホームページ制作のスキルは座学だ
 けで身につけることはできません。\n学んだことを実
 践で活かして、手を動かさなければなりません。\n\nと
 は言っても一人で作業してもわからないことばかりで
 すぐに止まってしまう・・・\nという方向けに！\nワー
 クショップを開催します！\n\n\nその場でホームページ
 制作の作業をやりながら、わからない点をすぐにレク
 チャーします！\n\n\nこれからホームページを作りたい
 と思っている方も大歓迎です。\nもちろん勉強会自体
 が初参加、という方も大歓迎です！\n\n\n\n本内容を受
 けられた方は、ぜひ株式会社エッグシステムと一緒に
 仕事をしましょう！\n\n【主催】\n株式会社エッグシス
 テム\nhttp://eggsystem.co.jp/\n\n\n\n\n\n（１）内容（予定）\n\
 n１．イントロダクション\n自己紹介\n\n２．ワークショ
 ップ\nホームページを制作しながら適宜レクチャー\n\n\
 n\n※注意※\n・PCをご持参ください。\n\n（２）参加者
 の声\n\n満足度が高かったという感想を多数いただいて
 います。\nありがとうございます！\n\n\n\n\n\n  感想\n\n\n
 \n\n  【H.Tさん／男性／ 20代】初心者に対して分かりや
 すく例を用いて説明してくれて、ホームページの基礎
 知識から制作、公開までの流れも詳しく説明していた
 だきました。口調も穏やかで質問しやすく、非常に満
 足できました。\n\n\n  【A.K.さん／女性／ 20代】こんな
 にお安いお値段でお勉強させていただき、ありがたか
 ったです。ワードプレスは１度諦めていたのですが、
 またやってみたいと思いました。\n\n\n  【S.O.さん／男
 性／ 20代】説明がとても丁寧だったのでプログラミン
 グをやったことがない人でもホームページ制作の考え
 方ややり方を感覚的に学べると思います。初心者には
 とても良かったです。広い範囲をぎゅっと詰め込んだ
 内容でした。\n\n\n  【M.S.さん／男性／30代】説明がと
 ても分かりやすかったです。これからも勉強していき
 たいと思いました。\n\n\n  【M.H.さん／男性／ 20代】ワ
 ードプレスの注意点で知らない部分を知れたので良か
 ったです。\n\n\n  【M.S.さん／女性／ 20代】少人数で最
 適なペースで分かりやすいです。\n\n\n  【K.W.さん／女
 性／ 30代】参加前は心配でしたが、分かりやすく楽し
 めました。また参加したいと思います。\n\n\n  【N.O.さ
 ん／男性／ 20代】子テーマを作る理由やその方法は、
 なんとなくしか分かっていなかったので、明確になっ
 て良かったです。満足です。\n\n\n  【K.W.さん／男性／ 
 30代】勉強会には初めて参加したのですが、大変ため
 になりました。また次回も参加したいです。時間が足
 りないくらいでした。\n\n\n  【M.S.さん／女性／ 20代】
 基礎で飛ばしていたところを再確認できました。他の
 方と一緒に勉強できる機会もとても貴重なのでありが
 たいです。\n\n\n  【Y.N.さん／男性／ 20代】周囲に相談
 できる人がいないため、流れや用語、業界の実情を教
 えていただけるだけでありがたいです。\n\n\n  【H.M.さ
 ん／男性／ 20代】興味のある内容だったし、分かりや
 すかったのでとても勉強になった。分野を超えて教え
 ていただいてありがたかった。\n\n\n\n\n\n\n注意事項\n\n
 会場がやや分かりにくいため、当日ビルの６階へ到着
 しましたら、主催者へお電話ください。\n 電話番号は
 参加者の方へ事前にご連絡いたします。\n
LOCATION:CROSSCOOP新宿SOUTH6階セミナールーム 東京都新宿区
 新宿4-3-17
URL:https://techplay.jp/event/650469?utm_medium=referral&utm_source=ics&utm
 _campaign=ics
END:VEVENT
END:VCALENDAR
