BEGIN:VCALENDAR
VERSION:2.0
PRODID:-//https://techplay.jp//JP
CALSCALE:GREGORIAN
METHOD:PUBLISH
X-WR-CALDESC:[親子ワークショップ] Alexaで動くロボットを作
 ろう in Alexa Day 2018
X-WR-CALNAME:[親子ワークショップ] Alexaで動くロボットを作
 ろう in Alexa Day 2018
X-WR-TIMEZONE:Asia/Tokyo
BEGIN:VTIMEZONE
TZID:Asia/Tokyo
BEGIN:STANDARD
DTSTART:19700101T000000
TZOFFSETFROM:+0900
TZOFFSETTO:+0900
TZNAME:JST
END:STANDARD
END:VTIMEZONE
BEGIN:VEVENT
UID:650831@techplay.jp
SUMMARY:[親子ワークショップ] Alexaで動くロボットを作ろ
 う in Alexa Day 2018
DTSTART;TZID=Asia/Tokyo:20180211T130000
DTEND;TZID=Asia/Tokyo:20180211T180000
DTSTAMP:20260419T161628Z
CREATED:20171219T121617Z
DESCRIPTION:イベント詳細はこちら\nhttps://techplay.jp/event/65083
 1?utm_medium=referral&utm_source=ics&utm_campaign=ics\n\nお子様はロ
 ボット工作、親御様はAlexa Skillの開発を行っていただ
 き、楽しみながら親子で最新のテクノロジーを学びま
 しょう！\n\nワークショップの概要\n\nお子様向けワー
 クショップ\n\n小型二足歩行のロボット「びーこあロボ
 」を組み立てながら、ロボットの動力の不思議やロボ
 ットが二本足で歩く仕組みなどを、わかりやすく学ぶ
 ことができます。「びーこあロボ」がどんな仕組みで
 どういう風に動いているのか、実際に作って動かしな
 がらロボットを観察してみましょう！\n難しいプログ
 ラムや専門的な知識は必要ありません。\n\n親御様向け
 ワークショップ\n\nお子様の作った「びーこあロボ」を
 Echoから操作するためのAlexa Skillを開発していただきま
 す。Alexa Skillについて学んだのちに、LambdaやAWS IoTなど
 と連携したAlexa Skillを実際に開発していただきます。
 簡単なもので構いませんのでプログラム開発経験があ
 ることが望ましいです。\n\nEchoから声でロボットを操
 作\n\n「びーこあロボ」とAlexa Skillが完成したら、音声
 でロボットを操作してみましょう！制作したロボット
 はお持ち帰りいただけますので、ワークショップが終
 わってからも家で楽しむことができます！\n\n開催概要
 \n\n開始日時：2018年2月11日(日) 13:00〜17:00\nお子様の対
 象年齢：小学校3年生～中学校3年生\n参加費用：3\,000円
 （お支払い後のキャンセルはできません）\n\n\n\n時間\n
 内容\n\n\n\n11:30\nワークショップ会場オープン/受付開始
 \n\n\n13:00\n趣旨説明\n\n\n13:15\nワークショップ子供：ロ
 ボット工作大人：Alexa開発\n\n\n16:00\nAlexaからロボット
 を操作\n\n\n\n参加者にお持ちいただくもの\n\n\nAmazon開
 発者ポータルのアカウント（ https://developer.amazon.com ）\
 nAWSのアカウント （ https://aws.amazon.com ）\n開発用のノー
 トPC（wi-fiでssh接続していただきます）\nRaspberry PI 3 B（
 ない場合はレンタル可能。Echoとロボットの連携に必要
 なため、家でも作ったAlexa Skillで遊ぶ場合は必要です
 。Raspberry PIがなくてもびーこあロボ単体では遊べます
 。）　\niOS端末（ない場合はレンタル可能）\n\n\nイベ
 ント運営側で支給するもの\n\n\nびーこあロボ（お持ち
 帰りいただけます）\nRaspberry用SDカード（お持ち帰りい
 ただけます）\nEcho dot（返却いただきます）\nネットワ
 ーク環境\n\n\n注意事項\n\n\nAlexaDay2018への参加登録が必
 要です（お子様分については参加申し込みは不要です
 。）\nhttps://alexaday2018.jaws-ug.jp/\nhttps://jaws-ug.doorkeeper.jp/e
 vents/66668\n12時までにイベント会場にお越しいただける
 場合は、お子様へもお弁当を差し上げます（ワークシ
 ョップ会場を解放しますので食事可能です）\n申し込
 み後の参加費の返金は出来兼ねますので、ご了承くだ
 さい。\n
LOCATION:スペースアルファ三宮 兵庫県神戸市中央区三宮
 町1-9-1 三宮センタープラザ東館6階
URL:https://techplay.jp/event/650831?utm_medium=referral&utm_source=ics&utm
 _campaign=ics
END:VEVENT
END:VCALENDAR
