BEGIN:VCALENDAR
VERSION:2.0
PRODID:-//https://techplay.jp//JP
CALSCALE:GREGORIAN
METHOD:PUBLISH
X-WR-CALDESC:Osaka Mix Leap Study #4 - React
X-WR-CALNAME:Osaka Mix Leap Study #4 - React
X-WR-TIMEZONE:Asia/Tokyo
BEGIN:VTIMEZONE
TZID:Asia/Tokyo
BEGIN:STANDARD
DTSTART:19700101T000000
TZOFFSETFROM:+0900
TZOFFSETTO:+0900
TZNAME:JST
END:STANDARD
END:VTIMEZONE
BEGIN:VEVENT
UID:651171@techplay.jp
SUMMARY:Osaka Mix Leap Study #4 - React
DTSTART;TZID=Asia/Tokyo:20180111T190000
DTEND;TZID=Asia/Tokyo:20180111T213000
DTSTAMP:20260422T092520Z
CREATED:20171222T061545Z
DESCRIPTION:イベント詳細はこちら\nhttps://techplay.jp/event/65117
 1?utm_medium=referral&utm_source=ics&utm_campaign=ics\n\n開催日時\n20
 18/01/11（木）\n　18:30　受付開始\n　19:00　開始\n場所\n
 ヤフー株式会社 大阪グランフロントオフィス\n大阪府
 大阪市北区大深町4-20 グランフロント大阪 タワーA 37階
 \n1）1階、または2階のシャトルエレベーターで9階オフ
 ィスロビーまで上がって下さい。\n2）Dバンクのエレベ
 ーターで37階に上がり受付エリアまでお越しください
 。\nイベントについて\n「Osaka Mix Leap Study」とは、ヤフ
 ー大阪オフィスで開催される各回のテーマにフォーカ
 スした情報共有を定期的に行う勉強会/交流会イベント
 です。\nITに興味のある学生やIT企業で働く社会人が集
 まってお互いに発信しあうことで、人と情報の交差点
 となることを目指しています。\n\n懇親会について\n当
 日、20:30 から同会場で懇親会を行います。軽食、飲み
 物をご用意しております。\n参加される方はワンコイ
 ン（500円）をご用意ください（※学生無料）\n参加者
 同士の交流の機会としてぜひご活用ください。\n今回
 のテーマ\nOsaka Mix Leap Study 今回のテーマは \n「React」 
 です。\n\nReactは、Facebook社が開発している「UIを構築す
 るためのJavaScriptライブラリ」です。\n最近ではReactNativ
 eやReactVR\, Electronの様なライブラリと組みあわせる事で
 様々なプラットフォームをReactで開発できます。\n今回
 のテーマは純粋に「React」のみに絞った内容です。\n(
 簡単に使ってみたよ！では無く、理解して他のライブ
 ラリまで使える様になるのが目的です。)\nLTについて\n
 懇親会で「React経験」のLT（短い時間のプレゼン）発表
 してくれる方を募集しています。\nReactを実際に自分で
 触ってみた方、業務で使ってみた方は、ぜひその体験
 談をお話ください。\nLT発表される方へのご注意\n※発
 表時間は5分以内でお願いします\n※発表資料内に権利
 侵害の画像・映像などは使用しないでください\n※発
 表者が多い場合は運営側で人数を調整させて頂く場合
 があります\nタイムテーブル\n\n\n\n時間\n内容\nスピー
 カー\n\n\n\n\n18:30-19:00\n受付\n\n\n\n19:00-19:05\n「Osaka Mix Leap
 について」\n岡田 信夫（ヤフー株式会社）\n\n\n19:05-19:3
 0\n「さぁ！Reactを始めよう！」\n藤本 卓哉（株式会社Ge
 mcook）\n\n\n19:30-19:55\n「Reactで状態管理とUIを作ってみよ
 う！」\n西野 竣亮（株式会社Gemcook）\n\n\n19:55-20:05\n休
 憩\n\n\n\n20:05-20:25\n「Reactを実案件で使って思った''成功
 ''と''反省''」\n前田 圭介（株式会社Gemcook）\n\n\n以降-21
 :30\n懇親会（LTあり）\n\n\n\n\n発表概要\n「さぁ！Reactを
 始めよう！」\nスピーカー：藤本 卓哉（株式会社Gemcook
 ）\n概要：Reactに入門する為の基礎知識・考え方・Facebo
 okの思想について共有します。\n\nReactとは？\nReactのラ
 イバル (Angular\, Vue)\nなぜReactがGemcookの魂を震わせたの
 か\n\n\n「Reactで状態管理とUIを作ってみよう！」\nスピ
 ーカー：西野 竣亮（株式会社Gemcook）\n概要：Reactの状
 態管理・Reduxの必要性と、便利なのUIライブラリを使っ
 てオシャレで使い勝手の良いライブラリを紹介します
 。\n\nstate\, propsの役割とは\nなぜReduxを使うのか\nSemantic
  UI Reactを使ってみる\n\n\n「Reactを実案件で使って思っ
 た''成功''と''反省''」\nスピーカー：前田 圭介（株式
 会社Gemcook）\n概要：弊社で実際開発しているReact案件
 から「成功」と「反省」を共有します。\n\n実例紹介\n
 利用している主なライブラリ\n成功と失敗\n\n\n当日お
 持ちいただくもの\n名刺を2枚ご持参いただき、受付に
 てお渡し頂きますようお願いいたします。\n※持ち合
 わせていない場合は受付にて必要項目の記入で構いま
 せん\n参加資格\nキャンセルポリシーに同意頂ける方。
 \n夜間のイベントのため、16歳以上の方のみ\n※16歳未
 満でも保護者同伴なら可\n参加費\n勉強会：無料\n懇親
 会：500円（※学生無料）\nキャンセルポリシー\n予定が
 変更になり、都合がつかなくなった場合には、速やか
 に参加のキャンセルをお願い致します。\n参加枠を確
 保しているにも関わらず不参加の方や、当日キャンセ
 ルをされる方は、次回以降の参加をお断りさせて頂く
 ことがあります。\nご質問・ご相談\n本イベントに関す
 るご質問等はページコメントまでお願い致します。
LOCATION:ヤフー株式会社 大阪グランフロントオフィス 大
 阪府大阪市北区大深町4-20 グランフロント大阪 タワーA
  37階
URL:https://techplay.jp/event/651171?utm_medium=referral&utm_source=ics&utm
 _campaign=ics
END:VEVENT
END:VCALENDAR
