BEGIN:VCALENDAR
VERSION:2.0
PRODID:-//https://techplay.jp//JP
CALSCALE:GREGORIAN
METHOD:PUBLISH
X-WR-CALDESC:金曜夜開催【東京 ブログ】みんなで一緒にや
 ろう！WordPressブログのSSL化（Xserverをお使いの方向け）
X-WR-CALNAME:金曜夜開催【東京 ブログ】みんなで一緒にや
 ろう！WordPressブログのSSL化（Xserverをお使いの方向け）
X-WR-TIMEZONE:Asia/Tokyo
BEGIN:VTIMEZONE
TZID:Asia/Tokyo
BEGIN:STANDARD
DTSTART:19700101T000000
TZOFFSETFROM:+0900
TZOFFSETTO:+0900
TZNAME:JST
END:STANDARD
END:VTIMEZONE
BEGIN:VEVENT
UID:652407@techplay.jp
SUMMARY:金曜夜開催【東京 ブログ】みんなで一緒にやろう
 ！WordPressブログのSSL化（Xserverをお使いの方向け）
DTSTART;TZID=Asia/Tokyo:20180202T190000
DTEND;TZID=Asia/Tokyo:20180202T220000
DTSTAMP:20260426T033431Z
CREATED:20180103T021018Z
DESCRIPTION:イベント詳細はこちら\nhttps://techplay.jp/event/65240
 7?utm_medium=referral&utm_source=ics&utm_campaign=ics\n\nSSLへの対応
 を、一緒に実践\n\n『SSL』対応を、一緒に実践します。
 \nSSL化によって、インターネット上でデータを暗号化
 して送受信するプロトコル（手順）を使っているのがS
 SLです。\nURLが「http」ではなく「https」から始まるサイ
 トがSSLサイトとなります。\n\n個人情報漏洩など、Web上
 でのセキュリティについては問題が起きている昨今、\
 nSSLにすることによって、第三者から不正にデータを改
 ざんされるリスクが激減します。\n\nSSL化するメリット
 で言われているのは主に以下の3つです。\n・セキュリ
 ティの強化\n・信頼性の向上\n・アクセス解析でのリフ
 ァラー（ブログのアクセスログに記録されるデータの
 一つ）での精度向上\n\n自分の城である自分のブログを
 守れるのは自分しかありません。\nSSL化をして、安心
 ・安全にブログを運営できる環境にしましょう。\n\nXse
 rverをお使いの方で、ブログを SSL（https）に対応したい
 方は、ぜひこのタイミングでご参加ください。\n\nお持
 ち物リスト\n\n□ 【重要】レンタルサーバーアカウン
 ト・パスワード メール\n □ ノートPC もしくは iPadなど
 のタブレット\n □ 電源\n □ 筆記用具\n □ リラックス
 できる服装でお越しください\n\n電源と無線LANは使い放
 題です！\n\nキャンセルポリシー\n\nお客様のご都合に
 よりキャンセルをされる場合のキャンセル料は以下の
 通りです。\n\n\n20日前〜8日前：20%\n7日前〜2日前：50%\n
 前日・当日：100%\n\n\nご参加上のルール\n\n参加お申し
 込みされた場合、下記の規約に同意したものとみなさ
 せていただきます。ご理解よろしくお願いします。\n\n
 ワークショップ参加規約 | ものくろキャンプ
LOCATION:Kitchen Bee 東京都台東区浅草橋1-8-6 KIRIIKU BOX202
URL:https://techplay.jp/event/652407?utm_medium=referral&utm_source=ics&utm
 _campaign=ics
END:VEVENT
END:VCALENDAR
