BEGIN:VCALENDAR
VERSION:2.0
PRODID:-//https://techplay.jp//JP
CALSCALE:GREGORIAN
METHOD:PUBLISH
X-WR-CALDESC:第8回WordBench岐阜「定例WordPress講座 HTML&CSS編」
X-WR-CALNAME:第8回WordBench岐阜「定例WordPress講座 HTML&CSS編」
X-WR-TIMEZONE:Asia/Tokyo
BEGIN:VTIMEZONE
TZID:Asia/Tokyo
BEGIN:STANDARD
DTSTART:19700101T000000
TZOFFSETFROM:+0900
TZOFFSETTO:+0900
TZNAME:JST
END:STANDARD
END:VTIMEZONE
BEGIN:VEVENT
UID:652535@techplay.jp
SUMMARY:第8回WordBench岐阜「定例WordPress講座 HTML&CSS編」
DTSTART;TZID=Asia/Tokyo:20180203T133000
DTEND;TZID=Asia/Tokyo:20180203T170000
DTSTAMP:20260425T144753Z
CREATED:20180104T061120Z
DESCRIPTION:イベント詳細はこちら\nhttps://techplay.jp/event/65253
 5?utm_medium=referral&utm_source=ics&utm_campaign=ics\n\n第8回WordBench
 岐阜の内容\n会場設営と受付\n13時から会場設営を行い
 、整い次第受付を開始する流れとなります。お時間に
 余裕のある方は、会場設営をお手伝いしていただける
 と大変助かります。\nなお、受付には参加申込時に発
 行される「受付番号」にて受付を行います。当日、受
 付をされる際には受付番号がわかるように事前確認を
 お願いします。\n参照：http://help.connpass.com/participants/sho
 w-event-ticket\n開始・挨拶・紹介\nWordBench岐阜についての
 簡単な紹介を行います。\n定例WordPress講座 HTML&CSS編\nWor
 dPressを使う上で最低限知っておいた方が良いHTMLとCSSに
 ついてお話します。\n定例WordPress講座とは？\n「定例Wor
 dPress講座」とは、WordPress初心者の方向けに用意した全
 ６回の講座となっています。内容は以下の通りです。\
 n\n\n\n回\nタイトル\n内容\n\n\n\n\n第１回\n導入編\n「WordPr
 essとは」「ローカル開発環境を作ってWordPressを動かし
 てみる」\n\n\n第２回\n設定編\n「一番最初の初期設定」
 「よく使われるプラグイン」\n\n\n第３回\nコンテンツ
 制作編\n「投稿と固定ページ」「カスタム投稿タイプ
 入門」「コンテンツ制作で意識するSEO対策」\n\n\n第４
 回\nHTML&CSS編\n「よく使うHTML&CSS」\n\n\n第５回\nカスタマ
 イズ編\n「子テーマを使ったカスタマイズ方法」\n\n\n
 第６回\n運用編\n「集客のためにまずやること」「運用
 する上で気をつけること」\n\n\n\n過去のスライドや動
 画などはすべてこちら（https://wbgifu.github.io/doc/）に保
 管してあります。ご参照ください。\nWordPressなんでも
 大相談会\nWordPressを使ったことがない方からの「どう
 やって使えるようにしたらいいの？」から「使うと何
 ができるの？」という質問や、実際に使われている方
 が日々疑問に思うようなこと、または「もっとWordPress
 について勉強したいので勉強方法を教えて欲しい！」
 などなど、WordPressについての相談を気軽にできる自由
 な時間を設けます。\n実施方法は、３〜４つのテーブ
 ルにそれぞれ「テーマ島」「プラグイン島」「運用島
 」「それ以外なんでも相談島」といった具合にテーマ
 をざっくりと決めて設置します。（上記テーマについ
 ては当日・毎回変更する場合があります）\nそして、
 自分が質問したいテーブルに参加してもらい、質問し
 ていただきます。各テーブルにメンターを配しますの
 で、気軽に相談してみてください。\nまた、違うテー
 ブルに遊びに行ったりと、行き来は時間内自由としま
 すので、好きなところに好きなように回っていただき
 、交流を深めてみてください。\n（第7回WordBench岐阜に
 て開催した感想などを踏まえてアンカンファレンスの
 実施方法を変更することがあります。ご了承ください
 。）\nタイムテーブル\n\n\n\n時間\n内容\n\n\n\n\n13:00〜13:3
 0\n会場設営と受付\n\n\n13:30〜13:35\n開始の挨拶\n\n\n13:35
 〜15:00\n定例WordPress講座 HTML&CSS編（途中休憩あり）\n\n\n
 15:10〜16:45\nWordPressなんでも大相談会\n\n\n16:45〜17:00\n会
 場片付け後終了\n\n\n\n※内容は急遽変更される場合が
 あります。あらかじめご了承ください。\n\n参加費用は
 ？\n学生の方\n学生の方は参加費は必要ありません。学
 生証を受付にてご提示ください。また、未成年の学生
 さんお一人で参加は心細いこともあるとは思いますの
 で、付き添いの親御様１名に限り学生さんと同じよう
 に参加費は必要ありません。（ただし、満席の場合に
 はテーブルなし椅子だけとなります。ご了承ください
 。）\n一般の方\n会場費用ならびにWordBench岐阜運営費の
 ために¥500を当日受付にて徴収させてていただきます
 。おつりの必要のないようにご用意をお願いします。\
 n持ち物\n\nPC（利用される方は持参ください）\nインタ
 ーネット接続環境\n電源タップ・延長コード（電源は
 みなさんで仲良く共有しましょう）\n名刺（交流のた
 めに用意されることをお勧めします！）\n\nインターネ
 ット接続環境について\n\n会場に有線LANが１つ用意され
 ているので、そちらをMacに接続してWi-Fiを飛ばす方法
 でシェアします。万が一、確実に接続環境を用意した
 いということであれば、各自ご用意いただくことをお
 すすめします。\n\nWordBenchとは\nWordPressを好きな人・興
 味のある人が集まって構成される地域コミュニティで
 す。\nどんな人が参加できるの？\nWordPress初心者から上
 級者まで、WordPressに興味がある方であればどなたでも
 参加できます。Webに関わるお仕事をされている方でな
 くても気軽に参加していただけます。\n開催場所は？\n
 みんなの森　ぎふメディアコスモスは、「知の拠点」
 の役割を担う市立中央図書館、「絆の拠点」となる市
 民活動交流センター、多文化交流プラザ及び「文化の
 拠点」となる展示ギャラリー等からなる複合施設です
 。\n（引用元：http://g-mediacosmos.jp/cosmos/about.html）\n徒歩
 でのアクセス\nJR岐阜駅から徒歩ですと25分ほどかかり
 ます。\nバスでのアクセス\nJR岐阜駅バスターミナル10
 番乗り場よりご利用いただけるバスがあります。詳し
 くはこちらでご確認ください。→ http://g-mediacosmos.jp/cos
 mos/about/bus_stop.html\n車でのアクセス\n有料駐車場が約300
 台あります。料金は30分:100円ですが、施設利用者は2時
 間まで無料になりますので、駐車券を持って施設内各
 所にある機械で処理してください。\n自転車でのアク
 セス\n駐輪場は立体駐車場内にあります。\nWordBench岐阜
 \nWordBench岐阜はWordPressに興味のある方のための地域コ
 ミュニティです。WordPressユーザー同士のコミュニケー
 ション増進と初心者ユーザーが入って来やすい雰囲気
 ・環境準備を大切にしています。\nWordBenchについては
 こちら：http://wordbench.org\n\nTwitter: @wbgifu\nFacebookページ
 （主に告知）: https://www.facebook.com/wbgifu/\n\n今後の予定\n
 \n\n\n回\n日時\n場所\n\n\n\n\n第8回\n2018年2月3日（土）13:30
 〜17:00\nぎふメディアコスモス あつまるスタジオ\n\n\n
 第9回\n2018年3月10日（土）13:30〜17:00\nぎふメディアコス
 モス あつまるスタジオ\n\n\n第10回\n2018年4月14日（土）1
 3:30〜17:00\nぎふメディアコスモス あつまるスタジオ\n\n
 \n\nWordBench岐阜モデレーター\n\n久野晃司 @olein_jp\n
LOCATION:みんなの森 メディアコスモス「あつまるスタジ
 オ」 岐阜県岐阜市司町40番地5
URL:https://techplay.jp/event/652535?utm_medium=referral&utm_source=ics&utm
 _campaign=ics
END:VEVENT
END:VCALENDAR
