BEGIN:VCALENDAR
VERSION:2.0
PRODID:-//https://techplay.jp//JP
CALSCALE:GREGORIAN
METHOD:PUBLISH
X-WR-CALDESC:CoderDojo天白-N017
X-WR-CALNAME:CoderDojo天白-N017
X-WR-TIMEZONE:Asia/Tokyo
BEGIN:VTIMEZONE
TZID:Asia/Tokyo
BEGIN:STANDARD
DTSTART:19700101T000000
TZOFFSETFROM:+0900
TZOFFSETTO:+0900
TZNAME:JST
END:STANDARD
END:VTIMEZONE
BEGIN:VEVENT
UID:652730@techplay.jp
SUMMARY:CoderDojo天白-N017
DTSTART;TZID=Asia/Tokyo:20180203T133000
DTEND;TZID=Asia/Tokyo:20180203T153000
DTSTAMP:20260425T194847Z
CREATED:20180105T061515Z
DESCRIPTION:イベント詳細はこちら\nhttps://techplay.jp/event/65273
 0?utm_medium=referral&utm_source=ics&utm_campaign=ics\n\n CoderDojo天白
 \n\n段々と自主制作に慣れてきて頂いて、忍者同士、忍
 者とメンターの垣根がなくなれば最高です。そのため
 にメンターの皆さんにも作品発表をやってもらえれば
 と思っています。\n１．Scratch自主制作\n今回の自主制
 作のテーマは 特に決めません。自由にやって下さい。
 回答してくれるとベターです。\nやり方ですが・・・\n
 ・　30分程度、簡単なテクニックを説明する\n・　1時
 間、皆さんが作品制作をする\n・　30分程度、発表する
 \nそんなペースでやりましょう。\n 最近、皆さん、テ
 ーマを考えてきてくれるようになりました。次はどう
 動かすかといったことも、考えると技術的に上達する
 かと思います。\n2.　テキスト・プログラミング\nテキ
 ストプログラミングも段々と進んできましたね。\nテ
 ーマをアンケートの都合上、「必須」としています。
 テキストプログラミングでは、テーマは特に必要でな
 いので何か適当な記号でも記入しておいて下さい。\n
 テキストプログラミングの資料は下記においてありま
 す。\n事前に予習して置かれると良いかと思いますの
 でよろしくお願いします。\nhttp://coderdojo-tempaku.com/\n参
 加に際しては次のことをお願いします。\n\nDojo内では C
 ool! が原則\n参加忍者の年齢は7歳から17歳、小1から高3
 までです。\nInternet 接続可能なパソコンを持参下さい\n
 メモ用紙、筆記用具もあると便利です！\n必須ではあ
 りませんが、Dojoに500円程度の寄附を願えると嬉しい。
 \n\nでは、楽しい時間を過ごしましょう！！
LOCATION:天白区社会福祉協議会研修室 〒468-0015 愛知県名
 古屋市天白区原１丁目３０１
URL:https://techplay.jp/event/652730?utm_medium=referral&utm_source=ics&utm
 _campaign=ics
END:VEVENT
END:VCALENDAR
