BEGIN:VCALENDAR
VERSION:2.0
PRODID:-//https://techplay.jp//JP
CALSCALE:GREGORIAN
METHOD:PUBLISH
X-WR-CALDESC:【増枠！】日本の「食・農業」をWebで変革しNi
 ght
X-WR-CALNAME:【増枠！】日本の「食・農業」をWebで変革しNi
 ght
X-WR-TIMEZONE:Asia/Tokyo
BEGIN:VTIMEZONE
TZID:Asia/Tokyo
BEGIN:STANDARD
DTSTART:19700101T000000
TZOFFSETFROM:+0900
TZOFFSETTO:+0900
TZNAME:JST
END:STANDARD
END:VTIMEZONE
BEGIN:VEVENT
UID:652823@techplay.jp
SUMMARY:【増枠！】日本の「食・農業」をWebで変革しNight
DTSTART;TZID=Asia/Tokyo:20180206T193000
DTEND;TZID=Asia/Tokyo:20180206T220000
DTSTAMP:20260421T053240Z
CREATED:20180105T141129Z
DESCRIPTION:イベント詳細はこちら\nhttps://techplay.jp/event/65282
 3?utm_medium=referral&utm_source=ics&utm_campaign=ics\n\nイベント概
 要\n【食べることや農業に興味があるエンジニアの方
 や、今後ITによりイノベーションを起したいと考えて
 いる方におすすめ！！】\nこれまでITを活用することが
 難しいと考えられていた、食べ物の生産や流通という
 分野。\n今回のイベントでは、この「食べ物の生産や
 流通」のあり方を変えようとしているオイシックスド
 ット大地、フーディソン、ポケットマルシェにお越し
 いただき、今大きく変わろうとしている日本の食農環
 境について語っていただきます。\n今回は日本の食農
 状況について話をするだけでなく、実際登壇企業3社が
 ITをどのように活用し業界を変えようとしているか、
 実際のサービス開発・運用現場での取り組み例など具
 体的な話をしてまいります！\n\nプレゼンの後は、懇親
 会を楽しみながら、参加者同士、また登壇者との交流
 をお楽しみください！\nお酒・ソフトドリンクやお食
 事を用意しております。ぜひお気軽にお越しください
 ！\n対象\n\n食べることや農業に興味があるエンジニア
 の方\nIT・Webエンジニアとしてキャリアアップに関心の
 ある方\nSIerで働いているが、事業会社にも興味を持た
 れている方\n今後ITによりイノベーションを起したいと
 考えている方\n\nタイムテーブル\n\n\n\n時間\n内容\n\n\n\n
 \n19時\n開場\n\n\n19時30分～\nオープニング\n\n\n19時35分～
 \n登壇企業よりサービスや開発体制紹介\n\n\n20時25分～\
 nパネル・ディスカッション\n\n\n21時10～22時\n懇親会\n\n
 \n\n参加企業・サービス\n\nオイシックスドット大地　
 システム本部　本部長　伊藤 秀文（いとう　ひでふみ
 ）\n\n\n\n2002年から2013年5月までアクセンチュア株式会
 社にてITコンサル及び業務系のコンサルを担当。2013年6
 月オイシックス(現オイシックスドット大地）に入社。
 \nシステム本部全体方針の計画、ベンダーを含めた組
 織運営に従事。2017年10月より現職。\n\n\nフーディソン
 　CTO　上田　智\n\n\n大阪大学在学中からフリーランス
 のWebエンジニアとして働く。ライブドア、DeNA、クック
 パッドの3社でサーバサイドエンジニアとしてスケーラ
 ビリティやサービスの価値について学びを得る。現在
 、フーディソンで水産業のプラットフォーム化に着手
 中。\n\n\nポケットマルシェ　川俣　亮介（かわまた　
 りょうすけ）\n\n\n\n大学一年時、macaro-ni.jpのデザイン
 ・開発を経験。その後WEBの世界に没頭。\n新卒でSTORES.j
 pを運営する株式会社ブラケットに入社し、インフラ周
 り、サーバーサイド/フロントエンド開発を担当。\n2017
 年10月に退社し、ポケットマルシェに入社。主にサー
 バーサイドの開発を担当。\nユーザーの収入が増える
 ようなサービスに興味があり、農家・漁師の収入を増
 やすべく開発に勤しむ。\n\n費用\n\n無料\n\n持ち物\n\n筆
 記用具\n名刺\n\n会場について\nイベント会場ですが、
 若干場所がわかりづらいところにありますのでご注意
 下さい！\nゲートシティ大崎イーストタワー "1階"（5階
 ではありません！）に、以下写真にあるようなオイシ
 ックスのプレートを目印に会場にお越しください。\n\n
 \n当日の注意事項\n\nエンジニア対象のイベントなので
 、応募者多数の場合はエンジニアを優先させて頂く場
 合がございます。\nイベント会場の様子はブログ、SNS
 、ニュース等で公開される場合がございますので、予
 めご了承ください。\n入室の際にお名刺を１枚、頂戴
 致します。懇親会に備えて多めにお名刺をご用意いた
 だきますようお願いいたします。\nアルコール類、ソ
 フトドリンクや簡単なおつまみなどを用意する予定で
 すが、各自持ち込みや差し入れ大歓迎です！\nお申し
 込み後のキャンセルは、お早めにご連絡いただきます
 ようお願いいたします。\n
LOCATION:ゲートシティ大崎イーストタワー 1階 東京都品川
 区大崎一丁目11番2号
URL:https://techplay.jp/event/652823?utm_medium=referral&utm_source=ics&utm
 _campaign=ics
END:VEVENT
END:VCALENDAR
