BEGIN:VCALENDAR
VERSION:2.0
PRODID:-//https://techplay.jp//JP
CALSCALE:GREGORIAN
METHOD:PUBLISH
X-WR-CALDESC:Perl入学式in大阪  第5回 〜Webアプリ編〜
X-WR-CALNAME:Perl入学式in大阪  第5回 〜Webアプリ編〜
X-WR-TIMEZONE:Asia/Tokyo
BEGIN:VTIMEZONE
TZID:Asia/Tokyo
BEGIN:STANDARD
DTSTART:19700101T000000
TZOFFSETFROM:+0900
TZOFFSETTO:+0900
TZNAME:JST
END:STANDARD
END:VTIMEZONE
BEGIN:VEVENT
UID:653605@techplay.jp
SUMMARY:Perl入学式in大阪  第5回 〜Webアプリ編〜
DTSTART;TZID=Asia/Tokyo:20180203T130000
DTEND;TZID=Asia/Tokyo:20180203T173000
DTSTAMP:20260426T005853Z
CREATED:20180110T101306Z
DESCRIPTION:イベント詳細はこちら\nhttps://techplay.jp/event/65360
 5?utm_medium=referral&utm_source=ics&utm_campaign=ics\n\nPerl入学式っ
 て?\n｢プログラミングに興味があるけど\, ちょっと難
 しそう...｣と思っている貴方!\n｢他の言語使いだけど\
 , ちょっとPerlも使ってみよっかな?｣と思っている貴方
 !\n｢仕事や研究でPerlを使い始めたけど\, ちょっと自信
 ないな...｣と思っている貴方!\n｢プログラミング未経
 験者｣から｢Perl初心者｣を対象としたワークショップ
 \, ｢Perl入学式｣で一緒にPerlで学びましょう!\nプログ
 ラミングの｢プ｣の字も知らないあなたでも大丈夫. 
 経験豊富な講師とサポーターが\, あなたの学びを全力
 でサポートします.\nさあ\, 私達と一緒にプログラミン
 グの楽しさを体感しましょう!\nどんなことをするの?\n
 ｢Perl入学式 in大阪｣は５月から奇数月の土曜日に計5
 回開催する予定です.\n全5回のカリキュラムは\, プログ
 ラミング未経験者の人が\, ｢Perlを使って簡単なWebサー
 ビスを作り上げる(例: Twitter風一行掲示板)こと｣とこ
 ろまで達成できるという所を目標にして構築していま
 す.\nただし\, 目標を達成するために基礎をおろそかに
 する\, ということは絶対にしません.\nプログラミング
 未経験者の方でもしっかり理解できるよう\, 基礎から
 一歩ずつ進めていきます.\nカリキュラム\n今回の｢Perl
 入学式in大阪 第5回｣では\, これまで学んできた経験を
 活かして\, Mojoliciousを利用した簡単なWebサービスの開
 発にチャレンジします.\n第4回まで学んできた基礎の集
 大成になりますので\, 楽しんで挑戦して行きましょう!
 \n参加条件\n基礎的なパソコンの操作(クリックやドラ
 ッグといったマウスの操作\, キーボードでの文字入力\
 , コピー･ペーストといったファイルの操作など)がで
 きる方なら\, プログラミング経験やPCに関する知識の
 有無は一切問いません.\nただし｢Perl入学式｣では\, 毎
 回ご自身のPCを使って実際に手を動かしながらPerlを学
 んでいこうと考えていますので. 毎回必ずご自身のノ
 ートPCの持参をお願い致します.\nまた\, 今回から参加
 される方は\, 前回の資料を参考に\, 事前の環境構築と
 予習をお願い致します:\n\n第1回第1部: Ubuntu環境の構築\
 nhttps://github.com/perl-entrance-org/workshop-2017/blob/master/1st/part1
 .md\n第1回第2部: ターミナルとシェル\, エディタ\nhttps://
 github.com/perl-entrance-org/workshop-2017/blob/master/1st/part2.md\n第1
 回第3部: Perlについて / Hello\, world!\nhttps://github.com/perl-en
 trance-org/workshop-2017/blob/master/1st/part3.md\n第2回: 基礎的な
 構文\nhttps://github.com/perl-entrance-org/workshop-2017/blob/master/2n
 d/slide.md\n第3回: 配列/ハッシュ編\nhttps://github.com/perl-entr
 ance-org/workshop-2017/blob/master/3rd/slide.md\n第4回: サブルーチ
 ン/正規表現編\nhttps://github.com/perl-entrance-org/workshop-2017/b
 lob/master/4th/slide.md\n\n参加条件(特に\, 事前の環境構築と
 予習)については\, 必ずご確認と事前のご準備の上\, 参
 加申し込みをして頂きますようお願い致します.\n懇親
 会\n勉強会終了後には\, 懇親会を開催します.\n受講者
 だけでなく\, 講師やサポーターと交流する機会ですの
 で\, 是非ご参加下さい!\n基本的に\, 懇親会は会場近隣
 の居酒屋で開催しています. 参加費は3500円〜4000円にな
 るよう調整しています.\n申込時に懇親会参加の可否を
 設定することができますが\, 当日急に参加することも
 可能です. 受講者の皆様のご参加をお待ちしておりま
 す!\n問い合わせ\nご質問などありましたら\, 本記事の
 コメント\, Twitterなどでお気軽にお問い合わせ下さい.\n
 \nWebsite : http://www.perl-entrance.org/\nTwitter : https://twitter.com/
 Perl_Entrance\nハッシュタグ : #Perl入学式 #Perl入学式in大阪
 \n\n最後に...\nプログラミングって面白そうだな! 興味
 あるな! と思った貴方.\nPerl入学式をきっかけにして\, 
 プログラミングという大海原に飛び出してみませんか!
 ?\n皆様のご参加を\, 心からお待ちしております!
LOCATION:ニュー共栄ビル 地下会議室 大阪府大阪市北区芝
 田2丁目5−6 
URL:https://techplay.jp/event/653605?utm_medium=referral&utm_source=ics&utm
 _campaign=ics
END:VEVENT
END:VCALENDAR
