BEGIN:VCALENDAR
VERSION:2.0
PRODID:-//https://techplay.jp//JP
CALSCALE:GREGORIAN
METHOD:PUBLISH
X-WR-CALDESC:これで安心！フリーエンジニアのための確定
 申告セミナー
X-WR-CALNAME:これで安心！フリーエンジニアのための確定
 申告セミナー
X-WR-TIMEZONE:Asia/Tokyo
BEGIN:VTIMEZONE
TZID:Asia/Tokyo
BEGIN:STANDARD
DTSTART:19700101T000000
TZOFFSETFROM:+0900
TZOFFSETTO:+0900
TZNAME:JST
END:STANDARD
END:VTIMEZONE
BEGIN:VEVENT
UID:653767@techplay.jp
SUMMARY:これで安心！フリーエンジニアのための確定申告
 セミナー
DTSTART;TZID=Asia/Tokyo:20180203T130000
DTEND;TZID=Asia/Tokyo:20180203T150000
DTSTAMP:20260426T033518Z
CREATED:20180111T070555Z
DESCRIPTION:イベント詳細はこちら\nhttps://techplay.jp/event/65376
 7?utm_medium=referral&utm_source=ics&utm_campaign=ics\n\nこれで安心
 ！フリーエンジニアのための確定申告セミナーベテラ
 ン税理士が丁寧に解説！節税ポイントもお見逃しなく
 ！※↓参加特典あり\n\n概要\n\n一度理解してしまえば
 後はラクチン！\n\n藤原公認会計士事務所の藤原先生に
 レクチャーしていただきます。\n\n確定申告の基本から
 フリーランスならではの節税ポイントまで！\n\n講演後
 には質疑応答の時間を設けておりますので、気になっ
 た部分はどんどん聞いてくださいね！\n\n項目\n\n*確定
 申告とは\n\n*確定申告のために作成が必要な書類、ど
 うやって作成する？\n\n*確定申告のために入手が必要
 な書類、どうやって入手する？\n\n*確定申告で提出が
 必要な書類、どうやって提出する？\n\n*個人事業主が
 納める税金\n\n*必見！節税のポイント！\n\n*確定申告を
 しなかった場合はどうなってしまうの？\n\n*確定申告
 のための作業で何が一番大変？\n\nタイムスケジュール
 \n\n\n\n\n  時間\n  内容\n  備考\n\n\n\n\n  12:45〜\n  受付開
 始\n  \n\n\n  13:00〜13:05\n  主催・講師の紹介\n  藤原氏\,
 榎本(Vareal)\n\n\n  13:05〜14:05\n  セミナー\n  \n\n\n  14:05〜15
 :00\n  質疑応答/交流\n  参加者様同士での交流も\n\n\n\n\n
 ※ 当日予告なく時間配分・内容が変更になる可能性が
 ございます。\n\n## 登壇者\n\n藤原　林（ふじわら　は
 やし）氏\n藤原公認会計士事務所　公認会計士・税理
 士\n\n経歴\n\n平成8年11月～平成13年12月：　依田(石井)
 公認会計士税理士事務所（東京都新宿区）勤務\n\n平成
 14年1月～平成19年6月：　新日本監査法人福岡事務所（
 福岡県福岡市中央区）勤務\n\n平成19年7月～現在　藤原
 公認会計士事務所を開業\n\n\n\n\n参加対象\n\n*フリーラ
 ンスになり、確定申告が初めての方\n\n*確定申告の経
 験はあるが、よくわからないと感じている方\n\n*将来
 フリーランスになる予定、または検討されてる方\n\nな
 どなど・・。\n\n少しでも不安がある方、お気軽にご参
 加くださいませ！\n\n持ち物\n\n名刺もしくは身分証明
 証\n\n※ 受付時にご提示お願いいたします。\n\n参加費\
 n\n【一般枠】\n\n無料\n\n参加特典\n\n特典としてフリー
 ランスキャリア相談への参加予約を受付！\n\n単価UPす
 るにはどうしたら？案件獲得のポイントといった気に
 なる情報と不安解消をサポートします！当セミナーに
 ご参加いただいた方へ無料でご案内いたします。\n\nハ
 ッシュタグ\n\n#確定申告\n\nお問い合わせ\n\nイベントに
 関するお問い合わせはこちらからお願いします。\n\n注
 意事項\n\n*ペットボトルのお水を用意いたします。飲
 み物の持ち込みも可能です。\n\n（食べ物のお持ち込み
 はご遠慮ください）\n\n*勧誘はご遠慮ください。\n\n*録
 音/録画等はご遠慮ください。\n
LOCATION:福岡県福岡東総合庁舎5Fセミナールーム 福岡県福
 岡市博多区博多駅東1-17-1
URL:https://techplay.jp/event/653767?utm_medium=referral&utm_source=ics&utm
 _campaign=ics
END:VEVENT
END:VCALENDAR
