BEGIN:VCALENDAR
VERSION:2.0
PRODID:-//https://techplay.jp//JP
CALSCALE:GREGORIAN
METHOD:PUBLISH
X-WR-CALDESC:スタートアップにCXOが必要な理由 - CXO Night #2 b
 y TECH PLAYデザイナー部
X-WR-CALNAME:スタートアップにCXOが必要な理由 - CXO Night #2 b
 y TECH PLAYデザイナー部
X-WR-TIMEZONE:Asia/Tokyo
BEGIN:VTIMEZONE
TZID:Asia/Tokyo
BEGIN:STANDARD
DTSTART:19700101T000000
TZOFFSETFROM:+0900
TZOFFSETTO:+0900
TZNAME:JST
END:STANDARD
END:VTIMEZONE
BEGIN:VEVENT
UID:653836@techplay.jp
SUMMARY:スタートアップにCXOが必要な理由 - CXO Night #2 by TEC
 H PLAYデザイナー部
DTSTART;TZID=Asia/Tokyo:20180209T190000
DTEND;TZID=Asia/Tokyo:20180209T220000
DTSTAMP:20260420T022236Z
CREATED:20180111T145235Z
DESCRIPTION:イベント詳細はこちら\nhttps://techplay.jp/event/65383
 6?utm_medium=referral&utm_source=ics&utm_campaign=ics\n\nスタートア
 ップにCXOが必要な理由CXO Night #2by TECH PLAYデザイナー部\
 n\nCXO Night Meetup について\nスタートアップにおけるデザ
 イナーの重要度はどんどん高まっています。\nCDO Night
 はスタートアップで奮闘するデザイナーを集めて、マ
 ネジメントの課題や実用的なノウハウを共有するコミ
 ュニティにしていきたいと思います。\n今回は第一線
 で活躍している若手、シニアにパネルディスカッショ
 ン形式で登壇いただき、スタートアップにおけるデザ
 イン役員の重要性、マネジメント、事業作りにおける
 デザイナーが果たすべき役割についてパネル形式で語
 っていただきます。\n\nCXO Night Meetup 開催の背景\n\n    CT
 O文化同様に、経営に関わるデザイナーを増やして健全
 な開発文化を啓蒙したい。\n    スタートアップに挑戦
 するデザイナーを増やしたい。\n    スタートアップの
 デザイナー同士で悩み相談をしたい。\n    若手デザイ
 ナーのロールモデル探しとして。\n\n\nこんな方におす
 すめです\n\n    スタートアップで働くデザイナー\n    
 スタートアップで働くことに興味関心のあるデザイナ
 ー\n    既にCCO/CXO/CDOの人\n    デザイナーの経営者候補
 をスカウトしたいスタートアップ経営者前回のイベン
 トレポートスタートアップにCDOが必要な理由 CDO Night #1
 レポート【オープニングトーク編】スタートアップにC
 DOが必要な理由 CDO Night #1 レポート【パネルディスカッ
 ション若手編】スタートアップにCDOが必要な理由 CDO Ni
 ght #1 レポート【パネルディスカッションシニア編】\n\
 n\n登壇者\n\n    \n        \n        \n            piece of cake 代
 表\n            加藤 貞顕@sadaaki\n            cakesとnoteを運営
 する会社の代表。『もしドラ』『ゼロ』『マチネの終
 わりに』などの編集を担当。本、映画、料理、囲碁、
 将棋、ワインが好き。最近の興味分野は人工知能。\n  
       \n    \n    \n        \n        \n            piece of cake CXO / T
 HE GUILD 代表\n            深津 貴之@fladdict\n            piece of
  cake CXO。THE GUILD代表。ユーザーの行動を設計するデザ
 イナです。\n        \n    \n    \n        \n        \n            
 デザインアンドライフ株式会社 代表取締役\n            
 池田 拓司 @tikeda\n            デザインアンドライフ株式
 会社 代表取締役 デザイナー / 株式会社トクバイ 取締
 役ニフティ株式会社、株式会社はてな、クックパッド
 株式会社を経て、2017年4月に生活がよりよくなるサー
 ビスをデザインしていきたいという思いからデザイン
 アンドライフ株式会社という会社を設立しました。\n  
       \n    \n    \n        \n        \n            株式会社FOLIO デ
 ザイナー\n            貴島 衛@sadako_a\n            1994年生ま
 れ、台湾と日本のハーフ。新卒で入社したDeNAを経て、
 現在は株式会社FOLIOでオンライン証券のデザインに携
 わる。代表作として映画の視聴予定を記録するサービ
 ス「MOVCHEX」などを制作。\n        \n    \n    \n        \n     
    \n            THE GUILD デザイナー\n            こばかな　@k
 obaka7\n            デザイナー。新卒でDeNAを経て、2017年よ
 りTHE GUILDに入社。TwitterでUX/UI等の学びを図説する #kobak
 a7_sketch を投稿してます。\n        \n    \n    \n        \n     
    \n            Basecamp デザイナー\n            北川 怜於@Elu_
 Leo\n            Bacecampインターン。学生スタートアップで
 インターンを経験後、坪田氏に弟子入り。SFC2年生。ヲ
 タ芸パフォーマー。\n        \n    \n    \n        \n        \n  
           株式会社FOLIO CDO\n            広野 萌@hajipion\n       
      早稲田大学文化構想学部卒。ヤフー株式会社にて
 、主に新規事業・全社戦略の企画やアプリのUX推進に
 携わる。2015年、株式会社FOLIOを共同創業しCDOに就任。
 国内株式を取り扱う10年ぶりのオンライン証券を立ち
 上げる。代表作に「inShade」「INTEMPO」など。\n        \n  
   \n    \n        \n        \n            Onedot CCO / Basecamp CEO\n    
         坪田 朋@tsubotax\n            livedoor、DeNAなどで多く
 の新規事業立ち上げ後、UI/UXデザイン領域を専門とす
 るデザイン組織の立ち上げ。現在は、BCG Digital Ventures
 にてデザインシンキングを使った新規事業開発業務で
 立ち上げたOnedotにCCOとして転籍。\n        \n    \n\n\nタイ
 ムスケジュール\n\n    \n        \n            時間\n            
 内容\n        \n        \n            19:00\n            受付スタ
 ート\n        \n        \n            19:20〜19:30\n            OPENIN
 G\n        \n        \n            19:30〜20:00\n            \n         
        CDO/CXOがいる会社で働く若手トーク\n                
 ・貴島 衛 / 株式会社FOLIO ・こばかな / THE GUILD・北川 
 怜於 / Basecamp・モデレート 広野 萌 / 株式会社FOLIO \n    
         \n        \n        \n        \n            20:00〜20:05\n      
       \n                LT(テーマ調整中)\n                ・新 
 岳志 / 株式会社クラウドワークス\n            \n        \n  
       \n            20:05〜20:35\n            \n                デザ
 イナーとして経営に関わる\n                ・池田 拓司 / 
 デザインアンドライフ株式会社・坪田 朋 / Onedot株式会
 社\n            \n        \n        \n        \n            20:35〜20:4
 0\n            \n                LT(テーマ調整中)\n                
 ・花城 泰夢 / BCG Digital Ventures\n            \n        \n        
 \n            20:40〜21:25\n            \n                CXOが加わ
 ってcakesとnoteのデザインチームが目指すもの\n           
      ・加藤 貞顕 / piece of cake 代表・深津 貴之 / piece of c
 ake CXO / THE GUILD 代表\n            \n        \n        \n           
  21:25〜22:00\n            \n              懇親会\n              ス
 ペシャルLT\n              なにかするかも\n            \n      
   \n    \n\n※ プログラムの内容は予告なく変更となる場
 合がございますのでご了承ください\n\n参加対象\n本イ
 ベントに興味がある方\n\n#ハッシュタグ\n#cxonight\n\n主
 催\nTECH PLAY デザイナー部\n\n
LOCATION:TECH PLAY SHIBUYA 東京都渋谷区宇田川町20-17 NMF渋谷公
 園通りビル 8F
URL:https://techplay.jp/event/653836?utm_medium=referral&utm_source=ics&utm
 _campaign=ics
END:VEVENT
END:VCALENDAR
