BEGIN:VCALENDAR
VERSION:2.0
PRODID:-//https://techplay.jp//JP
CALSCALE:GREGORIAN
METHOD:PUBLISH
X-WR-CALDESC:AIを活用していまはじめる顧客体験の向上と社
 内業務の効率化
X-WR-CALNAME:AIを活用していまはじめる顧客体験の向上と社
 内業務の効率化
X-WR-TIMEZONE:Asia/Tokyo
BEGIN:VTIMEZONE
TZID:Asia/Tokyo
BEGIN:STANDARD
DTSTART:19700101T000000
TZOFFSETFROM:+0900
TZOFFSETTO:+0900
TZNAME:JST
END:STANDARD
END:VTIMEZONE
BEGIN:VEVENT
UID:653903@techplay.jp
SUMMARY:AIを活用していまはじめる顧客体験の向上と社内
 業務の効率化
DTSTART;TZID=Asia/Tokyo:20180206T160000
DTEND;TZID=Asia/Tokyo:20180206T180000
DTSTAMP:20260421T022049Z
CREATED:20180112T021511Z
DESCRIPTION:イベント詳細はこちら\nhttps://techplay.jp/event/65390
 3?utm_medium=referral&utm_source=ics&utm_campaign=ics\n\nAIを活用し
 ていまはじめる顧客体験の向上と社内業務の効率化－
 最新の活用事例から学ぶ、業務効率化 Bot と開発高速
 化手法－\n2018年2月6日（火） 16:00-18:00（15:30開場）\n日
 本マイクロソフト株式会社 品川本社 31F セミナールー
 ムA\n東京都 港区 港南 2-16-3 品川グランドセントラルタ
 ワー\nhttps://www.microsoft.com/ja-jp/mscorp/branch/sgt.aspx\n\n[概要
 ]\nここ最近の AI本格利用が始まり、AI に一層の注目が
 向けられています。\nAI は独自で開発するだけでなく
 、グローバルベンダーが簡易に利用できる精度の高い
 学習済みモデルが提供されているため、その利用のハ
 ードルが大きく下がっています。\n 実際の利用シーン
 では、見込み客の捕捉や社内業務効率化のために、AI
 を伴ったBot サービスを使うことが多くなってきていま
 す。\nこれらのサービスは常時機能強化を図る必要が
 あるため高速に開発できる体制づくりが求められてい
 ます。\n 本セミナーでは Cognitive Services / AI の動向およ
 び Bot アプリの顧客事例を交えつつ、業務効率化 Bot サ
 ービスとアプリ開発高速化の具体的なソリューション
 についてご紹介いたします。\n\n\n\n\n時間\nアジェンダ\
 n\n\n\n\n15:30-16:00\n受付参加当日は受付票とお名刺を必ず
 お持ちください。\n\n\n16:00-16:40\nMicrosoft Cognitive Services 
 と Bot Framework の最新動向とイノベーションで創るビジ
 ネス\n\n\n16:40-17:20\nChat Bot で見込み顧客捕捉と業務効率
 化！ Bot Framework と Cognitive Services で構築する業務サポ
 ート BOT\n\n\n17:20-18:00\nLay App & Grow App で進める DevOps ア
 プリ開発アプローチ\n\n\n\n\n※上記の内容は予告なく変
 更する場合があります。あらかじめご了承ください。\
 n参加当日は受付票とお名刺を必ずお持ちください。\n
 マイクロソフト イベント・セミナー\nお問合せ窓口　T
 EL: 0120-37-0196 (9:00-17:30 土日祝を除く)\n※お問い合わせ
 の際は、必ずセミナー タイトルと開催日、イベントID 
 などをお知らせください。
LOCATION:日本マイクロソフト株式会社 品川本社 31F セミナ
 ールームA 東京都港区港南 2-16-3　(品川グランドセント
 ラルタワー)
URL:https://techplay.jp/event/653903?utm_medium=referral&utm_source=ics&utm
 _campaign=ics
END:VEVENT
END:VCALENDAR
