BEGIN:VCALENDAR
VERSION:2.0
PRODID:-//https://techplay.jp//JP
CALSCALE:GREGORIAN
METHOD:PUBLISH
X-WR-CALDESC:【豪華9時間】検索順位UP？レスポンシブデザ
 イン1日ブートキャンプ☆
X-WR-CALNAME:【豪華9時間】検索順位UP？レスポンシブデザ
 イン1日ブートキャンプ☆
X-WR-TIMEZONE:Asia/Tokyo
BEGIN:VTIMEZONE
TZID:Asia/Tokyo
BEGIN:STANDARD
DTSTART:19700101T000000
TZOFFSETFROM:+0900
TZOFFSETTO:+0900
TZNAME:JST
END:STANDARD
END:VTIMEZONE
BEGIN:VEVENT
UID:653995@techplay.jp
SUMMARY:【豪華9時間】検索順位UP？レスポンシブデザイン1
 日ブートキャンプ☆
DTSTART;TZID=Asia/Tokyo:20180204T090000
DTEND;TZID=Asia/Tokyo:20180204T190000
DTSTAMP:20260423T123930Z
CREATED:20180112T101401Z
DESCRIPTION:イベント詳細はこちら\nhttps://techplay.jp/event/65399
 5?utm_medium=referral&utm_source=ics&utm_campaign=ics\n\n\n短期間でWE
 Bデザイナー＆エンジニアスキルを学ぶノマドスクール
 の1日間集中ブートキャンプです。\n⇒1日～2日でデザ
 インやプログラミングを学ぶワークショップを開催す
 るノマドスクール\n運営団体は、下記URLを見れば分か
 るようにデザインに特化した事業を行っているご安心
 下さい。\n⇒月額6万円でWEB/印刷物/営業資料のデザイ
 ンが依頼し放題になるノマドスタッフ\n＜こんなこと
 を学びます＞\n学べる内容は、PCとスマホサイトが同じ
 HTMLで同時生成できる\n注目のレスポンシブウェブデザ
 インのコーディング方法です。\n現在のGoogleの検索結
 果は、WEBサイトの\nモバイルフレンドリー化が順位変
 動する要因の一つとされています。\nそのスマホ最適
 化する手段の中でGoogleが一押ししているのが、\nこの
 講座で挙げている「レスポンシブwebデザイン」です。\
 nレスポンシブWebデザインの特徴としては、従来のコー
 ディングのように\nPCとスマホとで別々のHTMLソースを
 記述することなく\n1つのHTMLソースで記述が完結するの
 で更新や修正に割く時間が少なくなります。\n3時間の
 講座と比較すると若干割高に感じますが、\n1日間集中
 で9時間のレッスンが受けれるので時間換算すると安い
 です。\nしかも今なら下記の特典が付いていて大変お
 得です。\n★☆参加特典☆★\n\n受講後1ヶ月以内は復習
 内容についてチャットorメールで質問し放題♪\n2人以
 上同時参加で人数分の1000円のクオカードを贈呈♪\n・
 受講後1ヶ月以内にオンラインメンターに申込みで料金
 が最大全額キャッシュバック\n※オンラインメンター
 はブートキャンプ参加後に入会をご検討下さい。\n\nレ
 スポンシブウェブデザインを作れることになるメリッ
 ト☆\n「レスポンシブウェブデザイン（responsive web desig
 n）とは、PC、タブレット、スマートフォンなどの画面
 サイズが異なる端末でWEBサイトにアクセスしたときに
 、\n端末の横幅に応じてページのレイアウト・デザイ
 ンを柔軟に調整する新しいコーディング方法です。\n
 従来のコーディングでは、PCとスマホで別々のHTMLを作
 成することが一般的でしたが、レスポンシブウェブデ
 ザインでは、CSS3（Media Queries）を使って画面サイズに
 応じたレイアウト変更が可能になるので1つのHTMLファ
 イルだけで済みます。1つのHTMLファイルになることで
 、コーディングにかかる時間が短縮できたり、データ
 の更新性が楽になったり、PCとスマホでURLが分散され
 ずユーザーに親切というメリットがもたらされます。
 」\n＜習得可能なスキル＞\n基礎から応用までを1日（
 計9時間）に盛り込んでいるので、\n短期間で次のよう
 なことを学びます。\n\n\nHTML5とCSS3の基本\nHTML5とCSS3の
 基本を学んでウォーミングアップを行います。\n\n\nレ
 スポンシブWebデザイン用のHTML作業\nレスポンシブ対応
 させるために必要なマークアップについて学び、\n実
 際に手を動かしてコーディングしてもらいます。\n\n\n
 レスポンシブWebデザイン用のCSS作業\nレスポンシブ対
 応させるために必要なスタイルシートについて学び、\
 n実際に手を動かしてコーディングしてもらいます。\n\
 n\n※コーディング中心の講座のためデザイン作業は行
 いません。\nデザイン作業を1日集中でしっかりと学び
 たいとう方は、\n別日に開催している「売上倍増？ラ
 ンディングページ1日ブートキャンプ☆」を受講下さい
 。\n＜よくある質問＞\nQ.講義の時間は決まってますか
 ？\nA.講義形式の授業は1日9時間と決まっています。\n9
 ：00開始～19：00終了 ※お昼休憩を1時間程挟みます。\n
 Q.初心者ですが、参加しても大丈夫ですか？\nA.経験が0
 に近い初心者の方であれば別日に行っている【入門】
 がタイトルにつくブートキャンプにまずご参加いただ
 くことをオススメします。\n序盤は基礎的な知識を学
 ぶため初心者の方でも理解できる内容になっておりま
 すが、\n中盤くらいから応用知識が中心となり難しく
 なるので中級者向けのブートキャンプとなります。\nQ.
 キャンプという名前ですが、バーベキューやテントな
 どで寝泊りもするんですか？\nA.申し訳ございませんが
 、当社のキャンプというのは短期間で集中してスキル
 アップを行うという意味で、食事や宿泊施設の提供は
 ございません。\nもし遠方からお越しになる方は各自
 で宿泊施設の手配をいただくようお願いします。\n他
 に不明点などあればお気軽にメッセージをお送り下さ
 い。\n■参加費\n29\,160円\n\nレッスン費用\nレッスン教
 材費用\nレッスン会場費用\n以上全てが含まれておりま
 す。\n\n■こんな方を対象としています\n\n\nスマホ対応
 したHTMLコーディングスキルを学びたい方\nHTML5、CSS3の
 基本からスマホ対応したレスポンシブWEBデザインのよ
 うな応用的な事まで短期間で学べます。\n\n\nレスポン
 シブWEBデザインに興味がある方\n世界的に見ても制作
 需要が年々増えているレスポンシブWEBデザインは覚え
 ておくと仕事の幅が広がります。\n\n\nパソコンスクー
 ルに通うお金がない方\n一般的なパソコンスクールは
 、同じようなコースで2～5倍近い金額がかかりますが
 、短期間かつ運営費用を抑ることで圧倒的な低価格で
 提供しています。\n\n\nパソコンスクールに通う時間が
 ない方\n一般的なパソコンスクールは、ゆっくりと幅
 広く教えるため受講期間が長いですが、制作対象物を
 決めて要点を絞って教えるため短期間に凝縮していま
 す。\n\n\n※恐れ入りますが当講座は、講師やスクール
 業など\n同業の方の参加はお断りしております。\n■参
 加の際の留意事項\n＜持ち物＞\n以下持参物をご準備下
 さい。\n1.無線LAN対応のノートパソコン（Windows・Mac両
 方OK）\n※長時間の講座のため電源アダプターもご持参
 ください。\n2.インストール済みのテキストエディタ\n
 文字コードがutf-8で保存できるテキストエディタが\nイ
 ンストールされてればOKですが、可能な限り紹介して
 いる\n高機能なテキストエディタを準備下さい。（Windo
 wsのメモ帳はNG）\nテキストエディタをお持ちでない場
 合は、\n以下のいずれかのサイトからインストールし
 ておいてください。\n※全て無料ですが、当日テキス
 トエディタの使い方は説明しませんので、\n事前にご
 自身で触って慣れていただくようお願いします。\n入
 力作業が多いため紹介しているテキストエディタのよ
 うに予測変換コードがあるほうが望ましいです。\nBrack
 ets（Win&Mac対応）\nhttp://brackets.io/\natom（Win&Mac対応）\nhtt
 ps://atom.io/\nSublime text（Win&Mac対応）\nhttp://www.sublimetext.co
 m/3\n3.インストール済みのGoogle Chrome\n4.レッスン教材\n
 当日までにPDFデータを配布しますのでご自身のパソコ
 ンにダウンロードしてご持参ください。\n＜遅刻・欠
 席について＞\n遅刻については、途中参加はＯＫです
 が、講義に対する理解が低くなることと、\n講義開始
 後は電話やメールなどに対応できない可能性がござい
 ますのでご留意下さい。\n欠席については、講師の都
 合で開催できなくなった場合を除き返金対応が難しい
 のでご留意下さい。\n前日までに参加が難しいことが
 分かりご連絡いただいた場合、直近で同じコースの開
 催日に1回に限り振替することは可能です。\n＜その他
 ＞\n当講座は、パソコン自体（Windows・Mac）の基本操作
 はレクチャーしませんので予めご了承下さい。\n（基
 本操作の例：キーボードの入力、コピー＆ペーストの
 方法、フォルダの生成など）\n■当日の流れとタイム
 ライン\n所要時間 : 9：00～19：00（9時間の講座）\n※お
 昼休憩を1時間程挟みます。\n内容 :HTMLとCSSを中心に学
 びます。\n\nレスポンシブWebデザインの基本(約1時間)\n
 レスポンシブWebデザイン用のHTML作業(約3時間)\nレスポ
 ンシブWebデザイン用のCSS作業(約5時間)\n\n■受講生の声
 \n女性 30代\nこの講座は「実践的で効率的。大変満足♪
 」でした\n\n別途開催しているhtml5・css3の講座を受講し
 た後に参加しました。\nなので、分かりやすくて大変
 満足でした。普段はWebディレクターをしています。\n
 レスポンシブの知りたかったポイントが網羅されてい
 て、充実した内容だったと思います。\ntopと下層ペー
 ジとで3ページコーディングしました。1日でサイト全
 体を効率良く理解出来たと思います。\nテキストなど
 の教材がとっても丁寧なので、家でよく復習して早速
 実践で役立てられそうです。ありがとうございました
 ！\n\n■担当講師\n安部　智昭\nnomad staff（ノマドスタッ
 フ）　代表\n過去に自らが創業したWEB制作会社（既に
 譲渡済）で500社以上の案件に携わった経験を持つ10年
 以上の実務経験者。\nWEBデザイン、印刷物デザインが
 元々得意で、最近はRuby on RailsなどでWEBサービスのプロ
 グラミングもこなすクリエイター。\n■利用規約\nご参
 加いただくにあたり、下記URLの規約に同意したものと
 みなさせていただきます。予めご了承下さい。\n⇒利
 用規約はこちら\n\n\n
LOCATION: 東京コンテンツインキュベーションセンター21号
 室 東京都中野区弥生町2-41-17東京コンテンツインキュ
 ベーションセンター21号室
URL:https://techplay.jp/event/653995?utm_medium=referral&utm_source=ics&utm
 _campaign=ics
END:VEVENT
END:VCALENDAR
