BEGIN:VCALENDAR
VERSION:2.0
PRODID:-//https://techplay.jp//JP
CALSCALE:GREGORIAN
METHOD:PUBLISH
X-WR-CALDESC:第27回 TECH PLAY女子部もくもく会  #techplaygirls
X-WR-CALNAME:第27回 TECH PLAY女子部もくもく会  #techplaygirls
X-WR-TIMEZONE:Asia/Tokyo
BEGIN:VTIMEZONE
TZID:Asia/Tokyo
BEGIN:STANDARD
DTSTART:19700101T000000
TZOFFSETFROM:+0900
TZOFFSETTO:+0900
TZNAME:JST
END:STANDARD
END:VTIMEZONE
BEGIN:VEVENT
UID:654065@techplay.jp
SUMMARY:第27回 TECH PLAY女子部もくもく会  #techplaygirls
DTSTART;TZID=Asia/Tokyo:20180205T193000
DTEND;TZID=Asia/Tokyo:20180205T220000
DTSTAMP:20260422T133136Z
CREATED:20180112T145625Z
DESCRIPTION:イベント詳細はこちら\nhttps://techplay.jp/event/65406
 5?utm_medium=referral&utm_source=ics&utm_campaign=ics\n\n\n\n    第27回
 TECH PLAY女子部もくもく会\n    概要\n    TECH PLAY女子部 2
 月の定例もくもく会です！新しいことを勉強したい方
 、ゆるっ〜と作業時間がほしい方は是非お越しくださ
 いー(*´∀｀*)\n    \n    タイムスケジュール\n    \n        
 \n            \n                \n                    時間\n           
          内容\n                \n                \n                    
 19:30\n                    集合\n                \n                \n  
                   〜19:35\n                    ご挨拶\n              
   \n                \n                    19:35〜20:55\n                
     もくもくタイム\n                \n                \n          
           20:55〜21:00\n                    ひとことタイム(いっ
 たん締め)\n                \n                \n                    21
 :00〜22:00\n                    引き続きもくもくタイム\n     
            \n                \n                    22:00\n               
      解散\n                \n            \n        \n        ※プロ
 グラムの内容は予告なく変更となる場合がございます
 のでご了承ください\n    \n    \n    参加対象\n    \n        
 \n            \n                女性エンジニアの方\n            
 \n            \n                ITが好きな女子\n        \n    \n   
  ハッシュタグ\n    \n        \n            \n                #techp
 laygirls\n            \n            \n                #techplayjp\n      
       \n        \n    \n\n    主催\n    TECH PLAY女子部\n\n    TECH 
 PLAY女子部とは...\n\n    \n        2015年8月6日に発足したTEC
 H PLAY女子部(旧dots.女子部)。\n        エンジニア始めた
 ばっかりの学生から起業家まで色んな人達が揃ってま
 す。\n        技術や会社に縛られない、色んなスキルを
 もったエンジニア女子がつながって、ひろがって\n     
    エンジニアとして、女子としてキラキラ輝けるステ
 キLIFEを送れるよう、\n        やりたいことを全部やろ
 う！楽しいことを全部やろう！\n        という部活です
 。\n        フラットに楽しめることもポイントです。\n 
        TECH PLAY女子部の今後のイベントは、下記のアカウ
 ントでお知らせします。\n        ぜひご気軽にご参加く
 ださい (*^o^*)\n        \n            \n                TECH PLAY女
 子部Facebookグループ:こちら\n            \n            \n       
          TECH PLAY女子部Twitterアカウント: @techplaygirls\n      
       \n        \n    \n\nTECH PLAY女子部の活動\n\n    \n        TE
 CH PLAY女子部では他にも下記のようなイベントを行って
 います。\n        ぜひこちらもご覧ください(*ﾟ▽ﾟ*)\n
         \n            \n                過去のイベント: TECH PLAY
 女子部イベントリスト\n            \n            \n             
    Twitterハッシュタグ： #techplaygirls\n            \n           
  TECH PLAY 女子部アドベントカレンダー: Qiita Advent Calendar
  2017\n        \n    \n\n\n
LOCATION:TECH PLAY SHIBUYA 東京都渋谷区宇田川町20-17 NMF渋谷公
 園通りビル 8F
URL:https://techplay.jp/event/654065?utm_medium=referral&utm_source=ics&utm
 _campaign=ics
END:VEVENT
END:VCALENDAR
