BEGIN:VCALENDAR
VERSION:2.0
PRODID:-//https://techplay.jp//JP
CALSCALE:GREGORIAN
METHOD:PUBLISH
X-WR-CALDESC:DDD.rb #17 プロを目指す人のためのRuby入門 言語
 仕様からテスト駆動開発・デバッグ技法まで  読書会
X-WR-CALNAME:DDD.rb #17 プロを目指す人のためのRuby入門 言語
 仕様からテスト駆動開発・デバッグ技法まで  読書会
X-WR-TIMEZONE:Asia/Tokyo
BEGIN:VTIMEZONE
TZID:Asia/Tokyo
BEGIN:STANDARD
DTSTART:19700101T000000
TZOFFSETFROM:+0900
TZOFFSETTO:+0900
TZNAME:JST
END:STANDARD
END:VTIMEZONE
BEGIN:VEVENT
UID:654391@techplay.jp
SUMMARY:DDD.rb #17 プロを目指す人のためのRuby入門 言語仕様
 からテスト駆動開発・デバッグ技法まで  読書会
DTSTART;TZID=Asia/Tokyo:20180207T190000
DTEND;TZID=Asia/Tokyo:20180207T210000
DTSTAMP:20260420T222645Z
CREATED:20180115T021911Z
DESCRIPTION:イベント詳細はこちら\nhttps://techplay.jp/event/65439
 1?utm_medium=referral&utm_source=ics&utm_campaign=ics\n\nDDD.rb #17 プ
 ロを目指す人のためのRuby入門 言語仕様からテスト駆
 動開発・デバッグ技法まで  読書会\n\nプロを目指す人
 のためのRuby入門 言語仕様からテスト駆動開発・デバ
 ッグ技法まで の読書会です。\n\n次のステップに進み
 たい、次のステップに進んでいるけど復習をしたいな
 ど、Rubyをもっと知りたい方でわいわいしましょう。読
 書がある程度進んだ方にはRailsのワークショップを企
 画しています。\n\n食べ物と飲み物\n\n多少の準備はあ
 りますが、自分の食べるものや飲みたいものは持ち込
 んでください。\n\n会場へのアクセス\n\n\n大阪市営地下
 鉄 御堂筋線 本町駅 徒歩8分\n大阪市営地下鉄 御堂筋線
  淀屋橋駅 徒歩9分\n大阪市営地下鉄 堺筋線 北浜駅 徒
 歩9分\n大阪市営地下鉄 堺筋線 堺筋本町駅 徒歩9分\n\n\n
 ステーツ本町ビル のエレベータで 8F の 株式会社SOU ま
 でお越しください。
LOCATION:本町オープンソースラボ（株式会社SOU） 大阪市
 中央区瓦町3-4-9 ステーツ本町ビル8F
URL:https://techplay.jp/event/654391?utm_medium=referral&utm_source=ics&utm
 _campaign=ics
END:VEVENT
END:VCALENDAR
