BEGIN:VCALENDAR
VERSION:2.0
PRODID:-//https://techplay.jp//JP
CALSCALE:GREGORIAN
METHOD:PUBLISH
X-WR-CALDESC:RailsエンジニアのためのReact縛り勉強会@茅場
 町
X-WR-CALNAME:RailsエンジニアのためのReact縛り勉強会@茅場
 町
X-WR-TIMEZONE:Asia/Tokyo
BEGIN:VTIMEZONE
TZID:Asia/Tokyo
BEGIN:STANDARD
DTSTART:19700101T000000
TZOFFSETFROM:+0900
TZOFFSETTO:+0900
TZNAME:JST
END:STANDARD
END:VTIMEZONE
BEGIN:VEVENT
UID:654467@techplay.jp
SUMMARY:RailsエンジニアのためのReact縛り勉強会@茅場町
DTSTART;TZID=Asia/Tokyo:20180203T140000
DTEND;TZID=Asia/Tokyo:20180203T180000
DTSTAMP:20260425T015040Z
CREATED:20180115T101632Z
DESCRIPTION:イベント詳細はこちら\nhttps://techplay.jp/event/65446
 7?utm_medium=referral&utm_source=ics&utm_campaign=ics\n\nRailsエンジ
 ニアのためのスキルアップもくもく会を開催します\n
 フロントエンドも力つけたいRailsエンジニアの皆さん
 で集まってReactを勉強しましょう！というもくもく会
 です。\nReactはWEBのフロントエンドだけでなく、モバイ
 ルアプリも作ることができるので学んでおくと、幅広
 いスキルを身に付けることができますので主催者オス
 スメの技術です！\nエンジニア同士情報交換もやりま
 しょう！！！\n当日参加費（会場費用含む）は、主催
 の株式会社エイチワークス負担となりますので、無料
 です！\nアジェンダ\n\n13:30 開場\n14:00-14:10 自己紹介 今
 日やることを簡単に共有\n14:10-17:50 もくもく & 相談　& 
 おしゃべり\n17:50-18:00 成果発表（希望者のみ）\n\neichiii
 works（エイチワークス）とは\nリクルートHDの新規事業
 開発プログラム「MEET SPAAC」より誕生した、フリーラン
 スを支援するサービスです。\n働き方の多様化が進み
 、今フリーランスとして働く方々は日々増えています
 。複数の会社や案件に関わりながら、お仕事される方
 も多く見かけるようになってきました。\nエイチワー
 クスでは、そんなフリーランスの方々を支えることが
 できるサービスを目指して、活動しています。\n今行
 っている主な事業は、フリーランスの方を企業案件を
 マッチングするいわゆるエージェント業務を行ってい
 ます。\n公式サイト\n主催者情報\n\n平岡尚(ひらおか　
 たかし)\nバックエンドエンジニア\n要件定義、からフ
 ロントエンド、バックエンド、インフラ構築。\nReactNat
 iveによるモバイルアプリの開発や、Unityアプリの制作
 実績もあります\n東京足立区でエンジニア中心でNPO関
 連の活動を行なっています(https://aciclp.herokuapp.com/)\n
LOCATION:コワーキングスペース茅場町 Co-Edo 東京都中央区
 新川1-3-4 PAビル
URL:https://techplay.jp/event/654467?utm_medium=referral&utm_source=ics&utm
 _campaign=ics
END:VEVENT
END:VCALENDAR
