BEGIN:VCALENDAR
VERSION:2.0
PRODID:-//https://techplay.jp//JP
CALSCALE:GREGORIAN
METHOD:PUBLISH
X-WR-CALDESC:【エンジニア向け勉強会】事業の多角化を支
 えたランサーズ的SRE術
X-WR-CALNAME:【エンジニア向け勉強会】事業の多角化を支
 えたランサーズ的SRE術
X-WR-TIMEZONE:Asia/Tokyo
BEGIN:VTIMEZONE
TZID:Asia/Tokyo
BEGIN:STANDARD
DTSTART:19700101T000000
TZOFFSETFROM:+0900
TZOFFSETTO:+0900
TZNAME:JST
END:STANDARD
END:VTIMEZONE
BEGIN:VEVENT
UID:654623@techplay.jp
SUMMARY:【エンジニア向け勉強会】事業の多角化を支えた
 ランサーズ的SRE術
DTSTART;TZID=Asia/Tokyo:20180220T193000
DTEND;TZID=Asia/Tokyo:20180220T214500
DTSTAMP:20260421T001843Z
CREATED:20180116T073343Z
DESCRIPTION:イベント詳細はこちら\nhttps://techplay.jp/event/65462
 3?utm_medium=referral&utm_source=ics&utm_campaign=ics\n\n事業の多角
 化を支えたランサーズ的SRE術\n\n概要\nクラウドソーシ
 ング「ランサーズ」を運営するランサーズ株式会社で
 は、2016年のデジタルマーケティングサービス「Quant」
 リリースを皮切りに、シェアリングエコノミー分野の
 「POOK」、常駐型の「LancersTOP」など、より多様な働き
 方を提供すべく事業領域を拡大致しました。\n単一の
 サービスをグロースさせていた時代から、複数サービ
 スを展開していくタイミングで、インフラ組織がどん
 なことをやっているのか、どうなっていくのか。それ
 ぞれのサービスのチームからの解説も含めて、その全
 貌をお話しします！\n\nタイムスケジュール\n\n    \n     
    時間\n        内容\n    \n    \n        19:00\n        受付開
 始\n    \n    \n        19:30〜19:35\n        オープニング\n    \
 n    \n        19:35〜19:45\n        \n            ランサーズのこ
 れまでとこれから\n            横井 聡 氏\n        \n    \n   
  \n        19:45〜20:15\n        \n            ランサーズで積み
 重ねたSRE的取り組みとこれから\n            金澤 裕毅 氏
 \n            ベンチャー企業のインフラ担当は、その企
 業の成長のキーマンになります。\n                サーバ
 ーの構築、運用に留まらず、資金面を考慮しながら開
 発陣とも蜜に連携して成長を加速させ、時には自らコ
 ーディングにも携わる必要があると考えています。\n  
               これまでに行ってきたインフラ施策は、今
 で言うSRE的な取り組みと言っても良いものでした。\n  
               ランサーズ入社後、インフラ担当として4年
 間行ってきた取り組みと、これからの予定をお話いた
 します。\n        \n    \n    \n        20:15〜20:35\n        \n    
         Lancers × ECS\n            平塚 貴之 氏\n            少数
 のSREが事業のボトルネックとならず安定したサービス
 を作る。 しかし、スケールされて行くサービスに対し
 少ないコストでそれを実現するのは\n難しい事です。\n
 \nそこでECSを使用してこの問題を解決するために行っ
 た事とECSをどう利用(コンテナ作成 〜 deploy)しているの
 かお話します。 \n        \n    \n    \n        20:35〜20:55\n    
     \n            52 weeks after Digdag operation\n            amesho 氏
 \n            About one year passed since Digdag was introduced. How did 
 batch operation change during that period? How did the management conscio
 usness change? What was going to be seen? What is troubled at present? Pl
 ugin We announce you made.\n        \n    \n    \n        20:55〜21:00\n
         アンケート回答\n    \n    \n        21:00〜21:45\n       
  懇親会\n    \n\n※ 当日予告なく時間配分、内容が変更
 になる可能性がございます。\n\n登壇者\n\n    \n        \n 
        \n            横井 聡 氏\n                横井 聡\n        
     \n            ランサーズ株式会社 CTO\n            1985年生
 まれ。早稲田大学商学部を卒業後、Webデザイナーとし
 てWebサイトの開発に携わった後、SIerにて証券会社のシ
 ステムのバックエンドを担当。その後フロントエンド
 エンジニアに転向し、Adobe AIRを中心にアプリ開発を行
 う。前職であるシアトルコンサルティング株式会社で
 はWebサービス事業部長を務め、新規Webサービスの企画/
 開発/運用の全てに携わる。2015年6月よりランサーズ株
 式会社にジョインし同年9月よりCTOに就任。デザイン、
 クライアントサイド、サーバサイド、サービス全体に
 携わってきた経験から、自身も多くの時間を開発に使
 いつつ、「コードにビジョンをのせる」を合言葉に、
 拡大するランサーズのエンジニアチームを牽引する。\
 n        \n    \n    \n        \n        \n            金澤 裕毅 氏\
 n                金澤 裕毅 yKanazawa (Kanazawa Yuuki) @yKanazawa
 （Qiita）\n            ランサーズ株式会社 インフラエン
 ジニア\n            山形大学大学院修了。専門はネット
 ワーク。在学中にACM国際大学対抗プログラミングコン
 テストでアジア地区予選に進出。Windowsパッケージ開発
 、ASP開発、運用業務に携わった後、大規模不動産サイ
 トの運用を経験し、2013年11月にランサーズにジョイン
 。AWSのサービス運用を始め、開発環境の支援、社内ネ
 ットワークの構築等、インフラ業務全般を担当。JAWS UG
  山形支部所属。\n        \n    \n    \n        \n        \n       
      平塚 貴之 氏\n            ランサーズ株式会社 インフ
 ラエンジニア\n            金融、官公庁オンプレミスイ
 ンフラから自社サービスクラウドインフラエンジニア
 を経て2016年3月よりランサーズにジョイン。社内NW及び
 各種サービスのインフラを担当。\n        \n    \n    \n    
     \n        \n            amesho 氏\n            ランサーズ株式
 会社 エンジニア\n            携帯公式サイト、広告配信
 系などを経て2016年12月よりランサーズにジョイン。Ruby
  on Rails\, Goを使いQuantのサーバーサイドの開発やdigdagを
 使った運用基盤を担当。\n        \n    \n\n\n参加費\n無料\
 n\n主催\n\n\n
LOCATION:TECH PLAY SHIBUYA 東京都渋谷区宇田川町20-17 NMF渋谷公
 園通りビル 8F
URL:https://techplay.jp/event/654623?utm_medium=referral&utm_source=ics&utm
 _campaign=ics
END:VEVENT
END:VCALENDAR
