BEGIN:VCALENDAR
VERSION:2.0
PRODID:-//https://techplay.jp//JP
CALSCALE:GREGORIAN
METHOD:PUBLISH
X-WR-CALDESC:html5j Webプラットフォーム部 第20回勉強会
X-WR-CALNAME:html5j Webプラットフォーム部 第20回勉強会
X-WR-TIMEZONE:Asia/Tokyo
BEGIN:VTIMEZONE
TZID:Asia/Tokyo
BEGIN:STANDARD
DTSTART:19700101T000000
TZOFFSETFROM:+0900
TZOFFSETTO:+0900
TZNAME:JST
END:STANDARD
END:VTIMEZONE
BEGIN:VEVENT
UID:654910@techplay.jp
SUMMARY:html5j Webプラットフォーム部 第20回勉強会
DTSTART;TZID=Asia/Tokyo:20180131T193000
DTEND;TZID=Asia/Tokyo:20180131T213000
DTSTAMP:20260420T005803Z
CREATED:20180117T210748Z
DESCRIPTION:イベント詳細はこちら\nhttps://techplay.jp/event/65491
 0?utm_medium=referral&utm_source=ics&utm_campaign=ics\n\n今回のテー
 マは「レスポンシブ・ウェブ・デザイン（RWD）」\nレ
 スポンシブ・ウェブ・デザインが登場してから、はや6
 年以上経ちました。\n日本にも浸透し、現在では大小
 関わらず様々なウェブサイトで当然のように採用され
 ています。\nしかし、この間にデバイスのディスプレ
 イサイズも様々なものになり、CSSもFlexboxやCSS Grid、単
 位も%の他にvw、vhが登場したり、ブラウザ自身もでき
 ることが増え、当初言われていたプラクティスから変
 わりつつあります。\nそこで、今回はRWDについてもう
 一度基本に立ち返るとともに、現在のRWDを見ていきた
 いと思います。\n現在の状況、求められるUIと実装のプ
 ラクティス、そして現場で起こる衝突など、デザイナ
 ー、フロントエンジニアに関わらず、そして初心者か
 ら実際に作業している方まで何かしら得るものがある
 と思います。\nタイムテーブル\n\n\n\n時間\nテーマ\n登
 壇者\n\n\n\n\n19:00-19:30\n開場\n-\n\n\n19:30-19:35\nはじめに\n-\
 n\n\n19:35-20:05\nResponsive Web Design もう一度\nWeb Directions East
  合同会社 代表／UX DAYS TOKYO 主宰／ノーマン・ニールセ
 ングループ UXマスター  菊池 崇 様\n\n\n20:05-20:35\n表の
 幅はどう決まる\n株式会社ピクセルグリッド　小原 司 
 様\n\n\n20:35-20:50\n休憩\n–\n\n\n20:50-21:05\n初体験で挑む！
 ぼっちのRWD対応\n大道寺 寿文 様\n\n\n21:05-21:20\n<デザイ
 ナー×エンジニア> RWDでステップアップLOVE\nhtml5j Webプ
 ラットフォーム部　eegozilla\n\n\n21:20-21:30\nじゃんけん大
 会\n-\n\n\n\n※タイムテーブル、セッション内容は変更
 となる可能性がございます。　\n講演アブスト\n『Respon
 sive Web Design もう一度』\nResponsive Web Designが生まれてか
 ら、5月で丸7年になります。\nRWDは「メディアクエリ」
 「フルードイメージ」「フルードグリッド」と非常に
 簡単な基本原則を守れば誰でも作れることから、多く
 のウェブサイトがRWDで作られています。\n当たり前の
 ようにウェブサイトをRWDで構築されるようになってい
 ます。\n今年は、RWDについて再学習してアップデート
 しませんか、Flexbox\, Grid Design\, vw\,vwなど新しい技術を
 組み合わせると、より効率良くRWDを構築することがで
 きます。\n実際にどのようにRWDにおいて新しい技術を
 利用するのかを、実際に陥った問題をどのように、ど
 のような方向へ導くのが正しいのか一緒に考えてみま
 しょう。\nよりスマートなRWDを作る方法を紹介します
 。\n 自己紹介 \n菊池 崇\nWebコンサルタント・コーダー 
  \nWeb Directions East 合同会社　代表／UX DAYS TOKYO 主宰／ノ
 ーマン・ニールセングループ　UXマスター  \n日本で最
 も早くから「モバイルファースト」、「レスポンシブW
 ebデザイン」に注目し広めた人物で、レスポンシブWeb
 デザインの第一人者と呼ばれている。\nASCII.jp － Web Pro
 fessionalで2012年度はアクセス数ランキング１位。数百あ
 る記事の中から、６つの記事が同ランキング入りする
 など人気の記事を記載するなどテクニカルライターと
 しても活躍する。\nスマートフォン案件から大手企業
 サイト、自社プロジェクト等を行う傍ら世界最高峰イ
 ベント Web Directions の日本を統括し、米国、豪州、イギ
 リスのカンファレンスへ参加しWeb技術の研鑽し続けて
 いる。世界に有名な NNGのUXサーティファイドの日本人
 初の取得者である。  \n<書籍>\n執筆：レスポンシブWeb
 デザイン マルチデバイス時代のコンセプトとテクニッ
 ク\n監修：マーケティング/検索エンジンに強くなる Goo
 gle Search Consoleの教科書\n監修：ノンデザイナーでもわ
 かる UX+理論で作るWebデザイン  \nじゃんけん大会を行
 います！\n勉強会終了後にじゃんけん大会を行います
 。今回は、マイナビ出版様のご厚意により、デザイン
 関連書籍を3冊ほどご提供いただきました。じゃんけん
 大会勝者にプレゼント致します！\n<賞品>  \n\n「ノンデ
 ザイナーズ・デザインブック第4版」　マイナビ出版\n\
 n今回は配信は行いません\nカメラマンの都合により今
 回は配信は行いません。何卒ご了承ください。\n日時\n
 2017 年 1 月  31 日 (水)\n19:30 (開場 19:00) ～ 21:30\n場所\n東
 京都港区港南 2-16-3 品川グランドセントラルタワー\n日
 本マイクロソフト株式会社　品川オフィス\nセミナー
 ルーム C+D  \nhttp://www.microsoft.com/ja-jp/mscorp/branch/sgt.aspx
LOCATION:日本マイクロソフト株式会社　品川オフィス 東
 京都港区港南 2-16-3 品川グランドセントラルタワー
URL:https://techplay.jp/event/654910?utm_medium=referral&utm_source=ics&utm
 _campaign=ics
END:VEVENT
END:VCALENDAR
