BEGIN:VCALENDAR
VERSION:2.0
PRODID:-//https://techplay.jp//JP
CALSCALE:GREGORIAN
METHOD:PUBLISH
X-WR-CALDESC:身近で奥深い文字と文字列
X-WR-CALNAME:身近で奥深い文字と文字列
X-WR-TIMEZONE:Asia/Tokyo
BEGIN:VTIMEZONE
TZID:Asia/Tokyo
BEGIN:STANDARD
DTSTART:19700101T000000
TZOFFSETFROM:+0900
TZOFFSETTO:+0900
TZNAME:JST
END:STANDARD
END:VTIMEZONE
BEGIN:VEVENT
UID:655137@techplay.jp
SUMMARY:身近で奥深い文字と文字列
DTSTART;TZID=Asia/Tokyo:20180203T144500
DTEND;TZID=Asia/Tokyo:20180203T164500
DTSTAMP:20260426T030400Z
CREATED:20180119T061850Z
DESCRIPTION:イベント詳細はこちら\nhttps://techplay.jp/event/65513
 7?utm_medium=referral&utm_source=ics&utm_campaign=ics\n\n基礎を試し
 て体験するプログラミングセミナーを札幌で開催しま
 す\nこのセミナーのねらい\n「82歳日本人開発者」若宮
 正子さんのニュースは最近（2018年1月）も取り上げら
 れご存知の方も多いでしょう。\niPhone｢82歳日本人開発
 者｣は何がスゴイのか\nそうモチベーションと出会い
 があればプログラミングは誰でも可能なのです。\nこ
 のセミナーはiPadで身近になったプログラミングの世界
 をあなたに体験していただくためのものです。\niPadのP
 laygrounds（またはXcodeのPlayground）で単機能アプリを実現
 できることを実感しましょう。\n開発者が講師となっ
 て直接レクチャーする少人数セミナーです。（参加者
 はその場でコード入力し動作を確認します）\n最新バ
 ージョンiOSのiPad（またはMac）があれば参加できます。
 （iOS10以降、macOS10.12以降）\n毎月一回違ったテーマで
 開催します。2時間のセミナーで毎回完結です。連続参
 加できなくても心配はいりません。\n今回は：\n文字と
 文字列の中身やSwiftでの扱いを体験していただきます
 。\n身近だからこそ重要で様々な工夫が詰まった文字
 の世界、プログラミングで使えるようになりましょう
 。\n\nサンプルは文字列作成／テキストファイル読み込
 み／ダイナミックタイプ対応表示／ユニコードと絵文
 字／文字入力／文字列処理などを予定しています。\n
 難易度レベルは《初級》です。（一部中級向け情報を
 含みます）\n※副読本：「Swift4初級ガイド」\n\n※MOSAは
 、ソフトウェア開発者を支援するNPO法人です。\nhttp://w
 ww.mosa.gr.jp/\n\n\n開催に関わる質問、問い合わせなどは
 、フィードのコメントにお願い致します。\n\n\n身近で
 奥深い文字と文字列（iOSプログラムのキホンを体験）\
 n日 時\n2018.2.3(土曜)   14時45分〜16時45分\n　\n場 所\nペ
 ーパーショップサクマ 2階\n　札幌市中央区南1条東4丁
 目7番地\n　地下鉄東西線バスセンター前駅9番出口東側
 すぐ\n　地下鉄など公共交通機関をご利用ください。\n
 　（車でご来場の場合は、近隣の有料駐車場をご利用
 ください）\n参加費\n\n1名 2\,000円を会場でお支払いく
 ださい。\n当日はサンプルコードを配布します。\n\n募
 集人数\n\n10名\n\n内 容\n\n文字と文字列処理を体験しま
 す。\n【難易度レベルは〔初歩、初級、中級、上級〕
 の初級レベルです】\n（文字列作成／テキストファイ
 ル読み込み／ダイナミックタイプ対応表示／ユニコー
 ドと絵文字／文字入力／文字列処理）\n（今回はユニ
 コードの解説など一部中級の内容を含みます）\nSwiftの
 基礎やPlaygroundsに関する質疑応答\n\n対 象\n\niPadのPlaygro
 undsでコードを学ぼう1やコードを学ぼう2（またはHour of
  Code）を試した方。\nXcode 9をインストールしたMacでも
 参加可能です。\n※XcodeでもPlaygroundのみを使用します
 （Objective-C経験者も歓迎です）\n中学生以上が対象です
 。\niPadを利用してのプログラミング、学び利用にご興
 味のある方。\nWWDC2018のスカラシップ参加を目指す方。
 \niOSでアプリ開発を目指す方。\n\n必要なもの\n\niOS 10以
 降が搭載されているiPad または Xcode9インストール済みM
 acどちらかをご持参ください。\nおもちになるiPadには
 、あらかじめ Playgrounds をインストールしてご持参くだ
 さい。【1月25日からダウンロード可能になったPlayground
 s 2.0をインストールしてください】\n必須ではありませ
 んが電子書籍「Swift4初級ガイド」があると参考になり
 ます。\niPadでプログラミングを学ぶアプリ「Swift Playgro
 unds 2」は、iOS10以降に対応しています。\n\n講師につい
 て\n\n講師は「Swift4初級ガイド」の著者です。\nこの本
 は これまでのセミナー内容をもとに電子書籍にまとめ
 たものです。\nこれまでのセミナーに参加していない
 場合は、この「Swift4初級ガイド」を参照してください
 。\nこの本は初歩から初級をカバーしています。\n\n\n\n
 \n開催に関わる質問、問い合わせなどは、フィードの
 コメントにお願い致します。\nみなさまのご参加をお
 待ちしています。
LOCATION:ペーパーショップサクマ 札幌市中央区南1条東4丁
 目(ペーパーショップサクマ)
URL:https://techplay.jp/event/655137?utm_medium=referral&utm_source=ics&utm
 _campaign=ics
END:VEVENT
END:VCALENDAR
