BEGIN:VCALENDAR
VERSION:2.0
PRODID:-//https://techplay.jp//JP
CALSCALE:GREGORIAN
METHOD:PUBLISH
X-WR-CALDESC:『実践ドリル！テスト設計』【テスト設計総
 合演習】2月5日(月)ヒンシツ大学
X-WR-CALNAME:『実践ドリル！テスト設計』【テスト設計総
 合演習】2月5日(月)ヒンシツ大学
X-WR-TIMEZONE:Asia/Tokyo
BEGIN:VTIMEZONE
TZID:Asia/Tokyo
BEGIN:STANDARD
DTSTART:19700101T000000
TZOFFSETFROM:+0900
TZOFFSETTO:+0900
TZNAME:JST
END:STANDARD
END:VTIMEZONE
BEGIN:VEVENT
UID:655183@techplay.jp
SUMMARY:『実践ドリル！テスト設計』【テスト設計総合演
 習】2月5日(月)ヒンシツ大学
DTSTART;TZID=Asia/Tokyo:20180205T100000
DTEND;TZID=Asia/Tokyo:20180205T170000
DTSTAMP:20260424T202636Z
CREATED:20180119T101537Z
DESCRIPTION:イベント詳細はこちら\nhttps://techplay.jp/event/65518
 3?utm_medium=referral&utm_source=ics&utm_campaign=ics\n\n◯コンセプ
 ト：\n～～　ソフトウェアテストのプロ集団である「
 ㈱SHIFT」の教育機関「ヒンシツ大学」には\n　　　不具
 合を狙い撃ちし、不具合摘出率を高め、更にコストも
 抑える「方法論」があります　～～\n\n当講座では、品
 質保証の「方法論」の一つである「テスト設計」を総
 合演習形式で学んでいただきます。 \n○概要：\n【ヒ
 ンシツ大学創立5周年記念】　ソフトウェアテストの総
 合演習版　\n特別企画としてテスト計画、設計、実行
 と全てのテスト演習を盛り込んだ「テスト実践！！」
 講座を新講座としてリリースします。\n是非一度、ご
 受講下さい！\n○内容：\n　「テスト計画」講座の総合
 演習版！\n＜Point＞\n　Point1　テスト戦略、計画、実施
 を一気通貫\n　Point2　演習　：　講座　　＝　９　：
 　１\n　Point3　貴方のテストスキルを第三者目線で可
 視化\n\n＜詳細＞\n本講座では、ソフトウェアテストの
 専門会社SHIFT社ならではの現場ノウハウがたっぷり詰
 まったテスト設計のスキルを余すところなく伝授致し
 ます。\n\nご自身がお持ちのテスト技法などの知識を最
 大限に活用して、一連のテスト作業を実践形式で実施
 して頂き、テスト設計に関するより高いスキルを習得
 して頂きます。\n\n本講座は、演習の最後にご自身のテ
 ストスキルレベルが分かる仕組みとなっています。\n\n
 この「スキルの可視化」により、今後ご自身が強化す
 べきスキルの指針が具体的に明らかとなります。\n※
 事前に『テスト設計 実践編 (機能テスト)』、『テスト
 設計 実践編 (シナリオテスト)』を受講されると効果的
 です。\n\n○受講対象者：\n＜オススメ！！＞\n・テス
 ト計画／設計／実行の一連のテストをより効率的、そ
 して最大効果を上げたい方\n・テスト知識・技能を実
 際の現場でどう活用すればよいか悩まれている方\n特
 に、ご自身のテスト技法の スキルレベル（強み・弱み
 ）を第三者視点で測定し、今後の教育に生かしていき
 たい方\nには絶対オススメです！！！\n○未経験者\n　
 ◎エンジニア\n　◎リーダー\n　○マネージャー\n○ 今
 後のオススメ講座\n＜エンジニアステップアップ講座
 ＞\n本講座を受けた後は以下の講座を受講いただきま
 すと、より効果的にエンジニアスキルが身につきます
 。\n・「仕様書インスペクション　実践編」\n・「実践
 ！テスト自動化」\n・「実践！セキュリティ脆弱性検
 証」\n＜マネジメントステップアップ講座＞\n本講座を
 受けた後は以下の講座を受講いただきますと、より効
 果的にマネジメントスキルが身につきます。\n・「管
 理者のためのテスト計画」（管理者シリーズ①）\n・
 「管理者のためのテスト管理」（管理者シリーズ②）\
 n・「管理者のための不具合分析」（管理者シリーズ③
 ）\n・「管理者のためのテスト戦略」（管理者シリー
 ズ④）\n・薮田和夫氏「管理者のためのテストプロセ
 ス改善」（管理者シリーズ⑤）\n○アジェンダ：\n【講
 義】テスト基礎講座　1.0h\n　　　品質とは？開発工程
 におけるテストとは？\n　　　テスト設計の概要講義
 （機能テスト/シナリオテスト）\n　　　その他、演習
 で使用するツールの使い方や不具合起票方法等の解説\
 n【演習】テスト計画　1.0h\n　　　テスト要求（仕様書
 あり）を基にテスト計画を立案する。\n　　　演習は
 、各自方針決めの後、サンプル計画書の穴埋問題。\n
 【演習】テスト設計　3.0h\n　　　計画済みの方針に基
 づいて、テスト設計を作成する（設計仕様書あり）\n
 　　　テストタイプとして、機能テストとシナリオテ
 ストを対象とする。\n【演習】テスト実行　1.0h\n　　
 　不具合報告演習\n【講義】採点と講師解説　1.0h\n　
 　　演習結果の自己採点。講師解説を踏まえて、今後
 各自がどのようにスキルアップしていくかの自己発表
 。\n※内容は変更になる場合もあります\n○ 詳細\n日時
 ：　2018年2月5日(月)10:00～17:00 （受付開始 9:40~）\n会場
 ：　株式会社SHIFT　本社セミナールーム\n　　　　東京
 都港区麻布台2-4-5　メソニック39MTビル　11F\n　　　　
 ※東京メトロ日比谷線神谷町駅　1番出口より徒歩6分 /
  都営大江戸線赤羽橋駅　中之橋口より徒歩7分\n講師：
 　杉原　茂忠（予定）\n　　　　　株式会社SHIFT 「ヒ
 ンシツ大学」トレーニングセンター長 /  　　　　　元
 ・国内大手会計ソフト品質保証リーダー　 \n費用：　1
 人　5万円（税別）\n支払：　講義終了後に、支払い期
 限を翌月末としている請求書をお渡し致します。\n　
 　　　※会場払いではありません。\n定員：　connpass参
 加枠　10名　（先着順）  \n　　　　　※connpass以外か
 らの募集枠がございます。\n　　　　　※開催1週間前
 までに5名以上の申込がない場合は開講を中止すること
 がありますのでご了承ください。\n○ お申込み方法\nco
 nnpass（当サイト）よりお申し込みください。\n○ 問い
 合わせ先\n<ヒンシツ大学事務局>  hinshitsu-univ@shiftinc.jp\n
 ○ お願い・注意事項\n● 当日、お名刺のご持参をお願
 いします。なお、受講票は事前にご送付ください。\n
 ● プログラムの内容、担当講師、開催場所を変更させ
 ていただく場合がございます、ご了承ください。\n● 
 お申込み後のキャンセルは、なるべくお早めにお願い
 します。\n● 講義前日のお昼12時以降にキャンセルの
 場合は、キャンセル料として全額を頂戴致しますので
 ご了承ください。\n● 弊社が、講座開催の報告等の掲
 載をHP等で行う際に特定の個人がフォーカスされない
 ような形で撮影した写真を\n　使用する場合がござい
 ますのでご了承ください。\n○ その他人気スキルアッ
 プ講座のご案内\n～～　ソフトウェアテストのプロ集
 団である「㈱SHIFT」の教育機関「ヒンシツ大学」には\n
 　　　不具合を狙い撃ちし、不具合摘出率を高め、更
 にコストも抑える「方法論」があります　～～\n\n「ヒ
 ンシツ大学」の講座スケジュール一覧です。http://hinshi
 tsu-univ.connpass.com/\n\n最新情報は、この connpass をぜひご
 覧ください！講師一同お待ちしております。\n○ 「ヒ
 ンシツ大学」を受講された皆さまの声\n・キングソフ
 ト株式会社様\n「設計段階から品質に対する意識を持
 つようになり、開発が合理的にできるようになりまし
 た」\n ・株式会社LIXILインフォメーションシステムズ
 様\n「社内勉強会などで定期的に開催を検討していき
 たいです」\n ・株式会社レピカ様\n「品質というもの
 に対する意識の大切さについて改めて知る、とてもい
 い機会になりました」
LOCATION:株式会社SHIFT　本社11F　セミナールーム 東京都港
 区麻布台2-4-5
URL:https://techplay.jp/event/655183?utm_medium=referral&utm_source=ics&utm
 _campaign=ics
END:VEVENT
END:VCALENDAR
