BEGIN:VCALENDAR
VERSION:2.0
PRODID:-//https://techplay.jp//JP
CALSCALE:GREGORIAN
METHOD:PUBLISH
X-WR-CALDESC:デジマケ市場のライフサイクルを読み、スキ
 ルエッジをたてよう！
X-WR-CALNAME:デジマケ市場のライフサイクルを読み、スキ
 ルエッジをたてよう！
X-WR-TIMEZONE:Asia/Tokyo
BEGIN:VTIMEZONE
TZID:Asia/Tokyo
BEGIN:STANDARD
DTSTART:19700101T000000
TZOFFSETFROM:+0900
TZOFFSETTO:+0900
TZNAME:JST
END:STANDARD
END:VTIMEZONE
BEGIN:VEVENT
UID:655409@techplay.jp
SUMMARY:デジマケ市場のライフサイクルを読み、スキルエ
 ッジをたてよう！
DTSTART;TZID=Asia/Tokyo:20180206T193000
DTEND;TZID=Asia/Tokyo:20180206T213000
DTSTAMP:20260423T051846Z
CREATED:20180121T141735Z
DESCRIPTION:イベント詳細はこちら\nhttps://techplay.jp/event/65540
 9?utm_medium=referral&utm_source=ics&utm_campaign=ics\n\nますます変
 化が早くなるWeb・デジタルマーケティングの世界で、
 どのような強みを磨けばいいのか、どう戦っていけば
 いいのか、と迷っていませんか？\n\nこれからの時代に
 必要とされるディレクターになるため、ディレクター
 同士の横のつながりを広げるために、「大阪デジタル
 マーケティングミートアップ」を開催します。\n\nもっ
 とデジマケの精度を上げたい方も、今の自分に悩んで
 いる人も奮ってご参加ください。\nセミナーの後は懇
 親会も予定しております。\n\n\n\n■ 講座内容\n\nデジタ
 ルマーケティングの市場はまだ混沌としています。\n
 いくつもの施策に分かれている従来の売れる仕組みづ
 くりが、データによりすべて繋がり、まだ正解が見え
 ていない発展途上と言えます。\nチャンスを活かすた
 めに、今のデジマケ市場とオリンピック後のデジマケ
 市場を読み、これからエッジを立てるべきスキルをい
 っしょに考えていきましょう。ご自分のエッジサイク
 ルをつくるワークも各自でやってみましょう。\n\n\n\n
 ■ 講師紹介\n\n爲廣慎二（TAM代表）\n\n1962    4月7日生ま
 れ　兵庫県西宮市出身\n1986    関西学院大学　経済学部
 卒\n1987    学生時代に（株）リクルートにＡ職として勤
 務\n1987 - 1992 大手商社勤務を経て広告代理店勤務\n1992  
   制作プロダクションとして個人事業トータル・アド
 ・メディア創業\n1995    （株）トータル・アド・メディ
 ア　法人登記\n2007    （株）TAMに社名変更\n2012    TAMSAN
 （シンガポール）設立\n2012    TAMコワーキング 大阪を
 開設\n2014    TAM東京事務所を目黒から神保町へ移転\n2014
     TAMコワーキング 東京（神保町）を開設\n2014    TAMサ
 ンフランシスコを開設\n2016    TAMロンドン業務開始\n2017
     TAM台湾業務開始\n\n\n\n■ 開催情報\n\nタイムスケジ
 ュール\n\n　・開場：19:00\n　・開演：19:30\n　・閉幕：2
 1:30（以降は〜22：30まで懇親会を予定しております）\n
 \n参加後費用：無料\n\n開催場所\n\n　・TAM大阪1階コワ
 ーキング（https://www.tam-tam.co.jp/coworking/#Office-Oosaka）
LOCATION:TAMコワーキング 大阪  大阪市北区末広町3-7
URL:https://techplay.jp/event/655409?utm_medium=referral&utm_source=ics&utm
 _campaign=ics
END:VEVENT
END:VCALENDAR
