BEGIN:VCALENDAR
VERSION:2.0
PRODID:-//https://techplay.jp//JP
CALSCALE:GREGORIAN
METHOD:PUBLISH
X-WR-CALDESC:PyData.Tokyo Meetup #17 - データ分析の現場
X-WR-CALNAME:PyData.Tokyo Meetup #17 - データ分析の現場
X-WR-TIMEZONE:Asia/Tokyo
BEGIN:VTIMEZONE
TZID:Asia/Tokyo
BEGIN:STANDARD
DTSTART:19700101T000000
TZOFFSETFROM:+0900
TZOFFSETTO:+0900
TZNAME:JST
END:STANDARD
END:VTIMEZONE
BEGIN:VEVENT
UID:655466@techplay.jp
SUMMARY:PyData.Tokyo Meetup #17 - データ分析の現場
DTSTART;TZID=Asia/Tokyo:20180221T193000
DTEND;TZID=Asia/Tokyo:20180221T220000
DTSTAMP:20260420T105734Z
CREATED:20180122T061706Z
DESCRIPTION:イベント詳細はこちら\nhttps://techplay.jp/event/65546
 6?utm_medium=referral&utm_source=ics&utm_campaign=ics\n\nPyData.Tokyoに
 ついて\n企業・スタートアップ・学会等の各方面で活
 躍している Pythonista の皆さんが、データ分析・機械学
 習関連のトピックについて深く議論、交流するための
 コミュニティです。「Python+Dataを通じて、世界の PyData 
 エクスパートと繋がるコミュニティを作る」ことを目
 標としています。\nPyData.Tokyo Meetup #17 について\n第17回
 勉強会としてPyData.Tokyo Meetup #17を開催します。今回の
 テーマは「データ分析の現場」です。\nアジェンダ\n\n\
 n\n時間\n内容\nスピーカー\n\n\n\n\n19:00 - 19:30\n受付・開
 場\n-\n\n\n19:30 - 19:45\nオープニング\nPyData.Tokyo @shoshosho\n\
 n\n19:45 - 20:30\nセッション1\nPySpark を分析用途に使って
 いる話 -丸尾さん (LINE)\n\n\n20:30 - 20:40\n休憩\n\n\n\n20:40 - 
 21:25\nセッション2\nクックパッドの機械学習基盤2018 染
 谷さん (Cookpad)\n\n\n21:25 - 21:30\n終了予定\n全員\n\n\n\n発
 表概要\nセッション1: PySpark を分析用途に使っている話
 \nスピーカー：LINE Corporation 丸尾 さん\n概要：\nLINE社 Da
 taLabsの分析パートでは、分析用にPySparkを用いて大量の
 データを相手に分析業務に取り組んでいます。\n架空
 のサービスの分析を通じて、PySparkが日常の分析業務の
 ほとんどをカバーできることをご紹介しようと思いま
 す。\n\nセッション2: クックパッドの機械学習基盤2018\n
 スピーカー : クックパッド株式会社 染谷 さん\n概要：
 \n概要: 2016年7月にクックパッドの研究開発部が発足し
 ました。\n機械学習を利用する研究開発部の成果を最
 大化するためには、そのような開発の助けとなり、且
 つメンバーの増加に耐えるような開発基盤を整えるこ
 とが必要となります。\nその為にクックパッドで行っ
 てきた具体的な取り組みや今後の展望として以下のよ
 うなトピックに触れます\n- 機械学習チームの構成につ
 いて\n- 実験環境(CPU/GPU)の整備\n- 作成した機械学習モ
 デルのデプロイ手法\n- マネージドなデプロイ環境とし
 てのAmazon SageMaker\n参加資格\n\nPyData に興味・関心をお
 持ちのかた\nPyData Tokyo Code of Conduct に賛同いただけるか
 た\nキャンセルポリシーに同意いただけるかた\n\n参加
 枠について\n従来通り抽選制とさせていただきます。\n
 なお、PyData.Tokyo Meetupの開催に際して、運営にご協力頂
 いている方々、これまで／今後の講師の方々の参加枠
 を一部優先的に確保させて頂いております。予めご了
 承下さい。\n会場\n会場: [LINE Corporation]\n住所:東京都新
 宿区新宿四丁目1番6号 JR新宿ミライナタワー\n受付\n\n
 受付(5F)で，「Connpass の受付票」をご提示ください。\n
 会場セキュリティの関係上、19時45分以降は受付を撤収
 いたします。開始時間に間に合うようご来場ください
 。\n当日の受付や入場についてオーガナイザーに直接
 ご連絡をいただくケースがありますが対応しかねます
 ので、ご連絡は Twitter アカウント @PyDataTokyo までご連
 絡ください。\n\n参加費\n無料でご参加いただけます。
 開催にあたり、LINE株式会社様に会場スポンサーとして
 ご協力いただいております。\nCode of Conduct (行動規範)\n
 PyData.Tokyo では、参加者のみなさまへ以下の Code of Conduc
 t の内容を理解してくださることを参加条件としてい
 ます。参加前にご一読くださいますようお願いいたし
 ます。\n\nPyData.Tokyo Code of Conduct \n\nキャンセルポリシー
 \n参加枠を確保しているにも関わらず連絡なく不参加
 のかたや、開催直前(24時間以内)でのキャンセルのかた
 が増えております。参加可能なかたに参加枠をご提供
 するためにも、以下のキャンセルポリシーをご一読の
 上で申し込みお願いいたします。\n\n予定が変更になり
 、都合がつかなくなった場合には、速やかに参加をキ
 ャンセルされるか、オーガナイザーに連絡をお願い致
 します。\n参加枠を確保しているにも関わらず不参加
 の方や、当日キャンセルをされる方は、次回以降の参
 加をお断りさせて頂くことがあります。\nconnpass 上の
 イベント申込数が 200 を超えるなど botアカウントであ
 る可能性のあるアカウントでは登録をお断りさせて頂
 く場合があります。\n\nご質問・ご相談\nこの勉強会に
 関するご質問等は@PyDataTokyoまでお願い致します。
LOCATION:LINE Corporation 東京都新宿区新宿四丁目1番6号(JR新
 宿ミライナタワー)
URL:https://techplay.jp/event/655466?utm_medium=referral&utm_source=ics&utm
 _campaign=ics
END:VEVENT
END:VCALENDAR
