BEGIN:VCALENDAR
VERSION:2.0
PRODID:-//https://techplay.jp//JP
CALSCALE:GREGORIAN
METHOD:PUBLISH
X-WR-CALDESC:JavaScript MeetUp Okinawa 第2回
X-WR-CALNAME:JavaScript MeetUp Okinawa 第2回
X-WR-TIMEZONE:Asia/Tokyo
BEGIN:VTIMEZONE
TZID:Asia/Tokyo
BEGIN:STANDARD
DTSTART:19700101T000000
TZOFFSETFROM:+0900
TZOFFSETTO:+0900
TZNAME:JST
END:STANDARD
END:VTIMEZONE
BEGIN:VEVENT
UID:655548@techplay.jp
SUMMARY:JavaScript MeetUp Okinawa 第2回
DTSTART;TZID=Asia/Tokyo:20180207T190000
DTEND;TZID=Asia/Tokyo:20180207T210000
DTSTAMP:20260419T235647Z
CREATED:20180122T141909Z
DESCRIPTION:イベント詳細はこちら\nhttps://techplay.jp/event/65554
 8?utm_medium=referral&utm_source=ics&utm_campaign=ics\n\nJavaScript MeetU
 p Okinawa 第2回\n▼内容\n各々が、JavaScriptで発表したいテ
 ーマでLTを行ったり、\nLaravelについて話し合う会にな
 ればと思っています！\nハッシュタグは#JavaScriptOkinawa
 でつぶやきましょう！\n▼タイムスケジュール\nLTは順
 番が変更する可能性がございます。\n\n\n\n時間\nタイト
 ル\n発表者\n\n\n\n\n18:30\n開場\n\n\n\n19:00\nご挨拶 ・自己
 紹介\n\n\n\n19:30\nVue.js導入編\n鈴木\n\n\n20:00\nLT枠1\n募集
 中\n\n\n20:15\nLT枠2\n募集中\n\n\n20:30\n懇親会スタート\n\n\n
 \n22:00\n閉会\n\n\n\n\n【LTの後は交流会で参加者同士で繋
 がりましょう！】\n▼必要なもの\n\nPC\n\n▼ギークハウ
 スで提供するもの\n\n電源\nWifi(実測300Mbps)\n椅子、机\n
 モニター2台(全体で)\n\n立花 豊(ギークハウス沖縄オー
 ナー)\n\nギークハウス沖縄を運営する傍ら、本業はweb
 エンジニア、フリーランスでリモートで働いてる。Ruby
 \, PHP\, Go\, Pythonあたりをメインで使用して開発を行う
 。Laravelを使い始めたのは5.4からなのでわりと最近。\nL
 Tテーマ Vue.js\nComming Soon\n鈴木 孝之(ギークハウス沖縄
 住人、株式会社Re:Build)\n   \n1990年神奈川県生まれ。多
 摩大学経営情報学部卒。\n文系の学部を卒業後、2013年
 に東京のITベンチャー企業にシステムエンジニアとし
 て入社し、プログラミングを習得。\nその後、株式会
 社フルスピードにwebエンジニアとして入社。フルスピ
 ードでは、大規模な広告配信サービスの管理画面開発
 を担当し、サーバサイド(php)からフロントエンド(JavaScr
 ipt)まで幅広い開発に従事。また、社内では新卒研修も
 担当し、新人育成カリキュラムの作成や指導に携わる
 。2017年11月に沖縄で起業し、株式会社Re:Buildを設立。
 東京の企業様からの開発案件を請けつつ、自社Webサー
 ビスを開発中。\n開発で使用する技術はPHP(Symfony2・Larav
 el5・CakePHP3)、JavaScript(AngularJS・Angular2～4・TypeScript・back
 bone.js)など。\nLTテーマ 「Vue.js導入編 」\nComming Soon
LOCATION:ギークハウス沖縄 沖縄県沖縄市中央１丁目１６
 −９
URL:https://techplay.jp/event/655548?utm_medium=referral&utm_source=ics&utm
 _campaign=ics
END:VEVENT
END:VCALENDAR
