BEGIN:VCALENDAR
VERSION:2.0
PRODID:-//https://techplay.jp//JP
CALSCALE:GREGORIAN
METHOD:PUBLISH
X-WR-CALDESC:Vue.jsもくもく会@恵比寿#19
X-WR-CALNAME:Vue.jsもくもく会@恵比寿#19
X-WR-TIMEZONE:Asia/Tokyo
BEGIN:VTIMEZONE
TZID:Asia/Tokyo
BEGIN:STANDARD
DTSTART:19700101T000000
TZOFFSETFROM:+0900
TZOFFSETTO:+0900
TZNAME:JST
END:STANDARD
END:VTIMEZONE
BEGIN:VEVENT
UID:655759@techplay.jp
SUMMARY:Vue.jsもくもく会@恵比寿#19
DTSTART;TZID=Asia/Tokyo:20180206T193000
DTEND;TZID=Asia/Tokyo:20180206T220000
DTSTAMP:20260424T020844Z
CREATED:20180123T141452Z
DESCRIPTION:イベント詳細はこちら\nhttps://techplay.jp/event/65575
 9?utm_medium=referral&utm_source=ics&utm_campaign=ics\n\n概要\nVue.js
 及びその周辺技術(Vuex\, Weex\, etc...)をもくもくする会で
 す。\n各自テーマを用意し、もくもくの前後にやるこ
 と・やったことを報告をします。\n雑談や質問なども
 随時OKです。\n対象者\nこれからVue.jsを始めたい、Vue.js
 で新しいサービスを作ってみたい、Vue.jsを極めたいな
 どVue.jsに興味がある人\n参加費\n無料\n持ち物\nノートPC
 (※無線LANあります)\nスケジュール\n\n19:15 入場開始\n19:
 30 自己紹介と今日やることの発表\n19:45 もくもく\n21:45 
 成果発表\n22:00 終了\n\n会場設備\n\n会場までの案内標識
 を用意してあります\nWi-Fi\n電源\n飲食可(お菓子、飲み
 物が出るかもしれません)\n\nその他\nslack作りました。
 もしよろしければjoinしてください。\nhttps://join.slack.com
 /t/medpeer-vue-mokumoku/shared_invite/enQtMjY4MTIwNDE2ODUxLWMwYzNkZmJmNmN
 hODVmYzkxZDA2NTlhZmFmNmI1ZGU2NWI2NDNhNDNjZDg2MWJiZjFkNjQyOTkzMDFiYWY4MjQ
LOCATION:メドピアオフィス 東京都渋谷区恵比寿4-20-3　(恵
 比寿ガーデンプレイスタワー17階)
URL:https://techplay.jp/event/655759?utm_medium=referral&utm_source=ics&utm
 _campaign=ics
END:VEVENT
END:VCALENDAR
