BEGIN:VCALENDAR
VERSION:2.0
PRODID:-//https://techplay.jp//JP
CALSCALE:GREGORIAN
METHOD:PUBLISH
X-WR-CALDESC:Polymer Japan Cafe #1
X-WR-CALNAME:Polymer Japan Cafe #1
X-WR-TIMEZONE:Asia/Tokyo
BEGIN:VTIMEZONE
TZID:Asia/Tokyo
BEGIN:STANDARD
DTSTART:19700101T000000
TZOFFSETFROM:+0900
TZOFFSETTO:+0900
TZNAME:JST
END:STANDARD
END:VTIMEZONE
BEGIN:VEVENT
UID:655760@techplay.jp
SUMMARY:Polymer Japan Cafe #1
DTSTART;TZID=Asia/Tokyo:20180206T190000
DTEND;TZID=Asia/Tokyo:20180206T220000
DTSTAMP:20260420T230519Z
CREATED:20180123T141454Z
DESCRIPTION:イベント詳細はこちら\nhttps://techplay.jp/event/65576
 0?utm_medium=referral&utm_source=ics&utm_campaign=ics\n\n1/30 11:30 応
 募枠を 50名→ 80名に増枠しました\n定員が超過してい
 る場合であってもグループへのメンバー登録をお願い
 します。\nイベントの紹介\nPolymer Japan主催による、Web
 フロントエンドエンジニア、Web製作者及びデザイナー
 向けのミートアップイベントを開催します！！\nイベ
 ント内容は、Polymer及びWeb Componentsの勉強会&懇親会です
 。すでにPolymerを使っている方、これから使おうと考え
 ている方、Polymer及びWeb Componentsについて聞いたことは
 あるけど何だか分からないといった方までご満足いた
 だける内容だと思います。\nまた、本イベントは、Polym
 erに関心の高いエンジニアの方の参加が予想されます
 ので懇親会等を通じて交流の場になればと思っていま
 す。\nどなた様も、奮ってご参加ください。\n※ Polymer 
 Japanの組織やPolymer/Web Componentsに関する基本的な紹介は
 、グループページをご参照ください。\nこんな方にお
 すすめ\n\nPolymer/Web Componentsに関心のある方\n既に他のJS
 ライブラリを利用しているフロントエンドエンジニア\
 nWebの先進的な技術に興味があるJavascriptエンジニア \n
 以前Polymerに興味があったが関心が薄れてしまった方\n\
 nタイムテーブル\nスケジュールの順番や内容は当日ま
 でに変更される可能性があります。\n\n\n\n開始時間\n発
 表時間\n内容\n発表者\n\n\n\n\n19:00\n\n開場\n\n\n\n19:30\n5分\
 nPolymer Japanの活動紹介とイベントの概要説明\njtakiguchi\n
 \n\n19:35\n20分\nWeb ComponentsとPolymerの紹介と最新動向\njtaki
 guchi\n\n\n19:55\n10分\n休憩\nkawakami\n\n\n20:05\n20分\nPolymerで
 始めるWebサイト制作\ntakanorip\n\n\n20:25\n10分\n休憩\nkawakam
 i\n\n\n20:35\n20分\nPolymerのSEO/SSRの対策と手法\naggre\n\n\n20:5
 5\n5分\nLT\nhowking\n\n\n21:00\n5分\nLT\naggre\n\n\n21:05頃\n40分\n
 懇親会\n\n\n\n21:45頃\n\n終了\n\n\n\n22:00頃\n\n完全撤収\n\n\n
 \n\n開催概要\n日時\n2018/02/06 (火) \n19:30 - 22:00 (受付 19:00 
 から 20:00まで)\n参加費\n無料\n会場\nGoogle Tokyo Office\n〒1
 06-6126 東京都港区六本木６丁目１０−１ 六本木ヒルズ
 森タワー\nGoogle Mapをみる\n会場までの入館方法\n時間：
 19:00 開場です。20:00 以降は入場できなくなります。\n
 場所：六本木ヒルズ 森タワー LL階臨時受付\n受付の際
 に「受付票」をスマートフォン等で提示をお願います
 。  \n当日の連絡方法\nTwitterより、ハッシュタグ #polymer
 _jp をつけてTweet連絡をお願いします。\n申し込み方法\n
 一般参加枠(先着順)\n参加したい方は、「一般参加枠」
 からお申込ください。\nLT枠\nLT(5分) に登壇したい方は
 、「LT枠」からお申込ください。\nPolymer に関連するテ
 ーマなら何でもOKです。\nQandAについて\nイベント中の
 質問については、slido.comを利用しております。\n匿名
 でも質問が行なえますので気軽に投稿していただけた
 らと思います。なお、質問の回答については懇親会中
 に行う予定です\nアンケートにご協力ください\n今後の
 イベントをよりよいものにするために、アンケートに
 ご協力ください。\nhttps://docs.google.com/forms/d/e/1FAIpQLSeyNLT
 mJb6rVz2RPcOg6zu_KppNodoHQqgGkUU9EzSr4Ohe-w/viewform\n懇親会につい
 て\n懇親会については、イベントに参加された方であ
 ればどなたでも参加できます。\n事前準備\n特にありま
 せん\n協賛\nGoogle様\n注意事項\n参加者の方へ\n\n受付票
 に記載の本人のみが参加できます。受付票をお持ちで
 ない方は入場できません。受付票はスマートフォンで
 の提示で入場できます。 \n19:00 開場です。20:00 以降は
 入場できなくなります。   \n会場では WiFi が利用でき
 ます 。\n会場は禁煙です。  \n宣伝や採用のみを目的と
 した方のご参加はご遠慮ください\nイベントの様子を
 撮影・録画し、ブログやSNSなどで公開することがあり
 ます。その際、来場者の姿も公開されることがあるこ
 とをご了承ください。 \n本イベント参加におきまして
 は行動規範(CoC)の遵守をお願いいたします\n\n発表者の
 方へ\n\n会場では WiFi が利用できます\nプレゼンに使う
 コンピュータはご持参ください\nプロジェクタには HDMI
  および VGA で接続できます。これら以外は、アダプタ
 をお持ち頂いて接続をお願いします\n宣伝や採用に終
 始する内容の発表はご遠慮ください (少し含む程度は O
 K)\n
LOCATION:Google Tokyo Office 〒106-6126 東京都港区六本木６丁目
 １０−１ 六本木ヒルズ森タワー
URL:https://techplay.jp/event/655760?utm_medium=referral&utm_source=ics&utm
 _campaign=ics
END:VEVENT
END:VCALENDAR
