BEGIN:VCALENDAR
VERSION:2.0
PRODID:-//https://techplay.jp//JP
CALSCALE:GREGORIAN
METHOD:PUBLISH
X-WR-CALDESC:事業創りのプロフェッショナル3名が語る「成
 長の壁の越え方」
X-WR-CALNAME:事業創りのプロフェッショナル3名が語る「成
 長の壁の越え方」
X-WR-TIMEZONE:Asia/Tokyo
BEGIN:VTIMEZONE
TZID:Asia/Tokyo
BEGIN:STANDARD
DTSTART:19700101T000000
TZOFFSETFROM:+0900
TZOFFSETTO:+0900
TZNAME:JST
END:STANDARD
END:VTIMEZONE
BEGIN:VEVENT
UID:655794@techplay.jp
SUMMARY:事業創りのプロフェッショナル3名が語る「成長の
 壁の越え方」
DTSTART;TZID=Asia/Tokyo:20180213T183000
DTEND;TZID=Asia/Tokyo:20180213T213000
DTSTAMP:20260423T003135Z
CREATED:20180124T021644Z
DESCRIPTION:イベント詳細はこちら\nhttps://techplay.jp/event/65579
 4?utm_medium=referral&utm_source=ics&utm_campaign=ics\n\n「今自分た
 ちはどのフェーズにいて、今どのようなことを
 すべきか」\n「次のフェーズに移るにあたって、
 何をすべきか」\nベンチャー・スタートアップ
 を経営者や働くメンバーとして\nいま自分たちが
 どのフェーズにいるか理解できていますか?\nフ
 ェーズを理解しフェーズに応じてとる戦略や行
 動を変えることができるかどうかが成功と失
 敗の分かれ目です。  \n本イベントでは、1万部
 を突破した「アイデア・メーカー」の著者であり事業
 を “創る”若者たちを増やす支援実績豊富なGOB Incubati
 on partners代表山口高弘氏、国や企業・NPO等、組織体を
 問わず事業構築の支援を行う株式会社インプレス代表
 山中哲男氏、クックパッド上場やランサーズ成
 長を支えた事業戦略家の株式会社54代表の山口豪志氏
 ら事業構築のプロフェッショナルをゲストに迎えて
 、会社と事業のフェーズごとにどのような 行動
 をとるべきかを議論いたします。 ベンチャー・ス
 タートアップや新規事業に携わる方は是非ご参加
 ください! \nプログラム\n18:30-19:00 オープニング
 セッション\n「o to 100 会社を育てる戦略地図」\nスピー
 カー\n山口豪志 氏 株式会社54 代表取締役社長  \n19:00-20
 :00\nパネルディスカッション ベンチャー・スタ
 ートアップの「成長の処方箋」  \nパネリスト\n山
 口 高弘 氏 GOB Incubation Partners代表取締役\n山中 哲男 氏 
 株式会社インプレス 代表取締役社長  \nモデレータ
 ー\n山口豪志 氏 株式会社54 代表取締役社長   \n20:00-20:2
 0（1社3分）\nライトニングトーク\n※ベンチャー・スタ
 ートアップの方を優先して募集します  \n20:30-21:30\nク
 ラウド名刺交換会\n※プログラム内容は変更の可能性
 があります。  \n概要\n日時:2018年2月13日(火)18時30分〜21
 時30分（開場18時） \n場所　SENQ霞ヶ関（東京都千代田
 区霞が関一丁目4番1号 日土地ビル2F）\n主催:一般社団
 法人日本中小企業情報化支援協議会 \n共催：NPO法人学
 生ネットワークWAN\n対象：\n起業して5年未満の方\nベン
 チャー・スタートアップ関係者\nベンチャー・スター
 トアップ支援者  \n定員:60 名\n参加費:\n4\,000 円(通常：
 ドリンク、軽食込み)\n3\,000 円(前売り：ドリンク、軽
 食込み)\n1\,500 円(学生：ドリンク、軽食込み)\n1\,500 円(
 「０　ｔｏ　１００　会社を育てる戦略地図」お持ち
 の方) \n※「215ページで4行目に記載されている会社名
 を小文字で割引コードとして入力」\n無料：(JASISA:BP会
 員・法人会員の方)\n※当日は受付にて名刺1枚をご提示
 ください。個別の領収書発行はしておりません。\n領
 収書が必要な方はPeatix上より発行してください。\n※
 お支払いされました参加費は、欠席またはキャンセル
 された場合にも返金できませんのでご了承ください。
 また、事前にお申し込みのない方のご参加はお断りし
 ております。  \n登壇者紹介\n山口 高弘 氏\nGOB Incubation 
 Partners代表取締役\n高校卒業後、不動産会社を起業し事
 業売却。さらに複数の事業の立ち上げと売却、起業家
 のコーチング等の活動を手掛けた後、野村総合研究所
 （NRI）にてビジネス・イノベーション室長としてコン
 サルティング業務に従事。\n現在はGOB Incubation partners株
 式会社のCo-founderとして若者の感性・原体験に基づく起
 業家及び事業養成を担う起業家コーチ業を手がける。\
 n年間に10社を輩出すべく現在進行系でインキュベーシ
 ョンに取組む。\n複数の大企業の戦略アドバイザーも
 兼務。 \n内閣府「若者雇用戦略推進協議会」委員、産
 業革新機構「イノベーションデザインラボ」委員等を
 務める。\n主な著書：「アイディアメーカー」 東洋経
 済新報社  \n山中 哲男 氏\n株式会社インプレス 代表取
 締役社長  \n高校卒業後大手電機メーカーに就職する。
 約１年間働くが、何も考えずに飛び込んだ会社ではや
 りがいをもつことができず、転職を試みるものの失敗
 の連続。考えた末、飲食店を開業することを決意し起
 業。“ゆったりくつろげる空間”をコンセプトにした
 居酒屋を展開し繁盛店にする。その後、ハワイで知り
 合った友人らと共に米国ハワイ州でコンサルティング
 会社を設立しCEOに就任。日本企業の海外進出支援、M&A
 仲介、事業開発支援を行う。海外進出支援では、会社
 設立、ビザ取得、不動産選定や契約、内装工事、モニ
 タリング、仕入れ業者選定、人材募集、人材教育、プ
 ロモーション媒体選定やメディア紹介、レセプション
 パーティーまでサポートするワンストップサービスを
 構築。人気店を多数支援。\n翌年、株式会社インプレ
 スを設立し、代表取締役社長に就任。ビジョンや想い
 に共感し、経済合理性だけを追及するのではなく社会
 的に価値を見いだす事業に絞り込み、民間企業、行政
 問わず既存事業の事業戦略策定や実行アドバイス、新
 規事業やプロジェクト開発支援を中心に活動中。人、
 社会、地球が共生できる世界づくりを目指している。 
  \n山口豪志氏\n株式会社５４ 代表取締役社長\nプロト
 スター株式会社 代表取締役COO  \n・株式会社スタディ
 スト　アドバイザー、株式会社情報工場　メディア開
 発部プロデューサー、株式会社デフタ・キャピタル ア
 クセラレーター 兼 横浜ジェネラルマネージャ。\n・200
 6年から日本最大料理レシピサイト「クックパッド」を
 運営するクックパッド株式会社にて、広告事業・マー
 ケティング事業の創成期より参加、その後、同社IPOに
 トップセールスにて貢献。\n・2012年より3人目の社員と
 してランサーズ株式会社に参画し、ビジネス開発部部
 長として大手企業との事業提携・協業、広告企画の販
 売開始などを実行。その後、社長室広報チームリーダ
 ーにて、中小企業庁主催の各県のセミナー登壇など、
 実績多数。\n・2015年5月に株式会社５４を創業。常時約
 30社のスタートアップ企業のアドバイザーとして事業
 戦略策定、BtoBアライアンス支援、広報部門立ち上げ等
 のコンサルティングを行う。  \n︎0 to 100 会社を育てる
 戦略地図
LOCATION:SENQ霞ヶ関 東京都千代田区霞が関一丁目4番1号 日
 土地ビル2F
URL:https://techplay.jp/event/655794?utm_medium=referral&utm_source=ics&utm
 _campaign=ics
END:VEVENT
END:VCALENDAR
