BEGIN:VCALENDAR
VERSION:2.0
PRODID:-//https://techplay.jp//JP
CALSCALE:GREGORIAN
METHOD:PUBLISH
X-WR-CALDESC:【合計70名突破！好評により増席】エンジニア
 必聴！～AWS and GCP 聞いておきたい事例紹介
X-WR-CALNAME:【合計70名突破！好評により増席】エンジニア
 必聴！～AWS and GCP 聞いておきたい事例紹介
X-WR-TIMEZONE:Asia/Tokyo
BEGIN:VTIMEZONE
TZID:Asia/Tokyo
BEGIN:STANDARD
DTSTART:19700101T000000
TZOFFSETFROM:+0900
TZOFFSETTO:+0900
TZNAME:JST
END:STANDARD
END:VTIMEZONE
BEGIN:VEVENT
UID:655796@techplay.jp
SUMMARY:【合計70名突破！好評により増席】エンジニア必
 聴！～AWS and GCP 聞いておきたい事例紹介
DTSTART;TZID=Asia/Tokyo:20180208T193000
DTEND;TZID=Asia/Tokyo:20180208T214000
DTSTAMP:20260421T093714Z
CREATED:20180124T021754Z
DESCRIPTION:イベント詳細はこちら\nhttps://techplay.jp/event/65579
 6?utm_medium=referral&utm_source=ics&utm_campaign=ics\n\nサムザップ
 テックナイト with B.E.とは？\n「戦国炎舞 ‐KIZNA‐」を
 はじめとしたスマートフォンゲームを開発・運用する
 株式会社サムザップが開催する勉強会です。\nスマー
 トフォンゲーム業界全体の振興・盛り上げを目的とし
 、テーマに合わせて専門性の高い方をお呼びしていま
 す。\n今回は株式会社株式会社Branding Engineerと共催し、
 エンジニア採用を目的とした「キャリア相談」も行っ
 てまいります\nイベント概要\n特別編となるサムザップ
 テックナイトwith B.E.は、メイン登壇と事例紹介、キャ
 リア相談会（懇親会）の3部構成で行います。\nこの勉
 強会を通じて、AWSとGCP、それぞれに特性のあるパブリ
 ッククラウドをどのように使いこなすか、参加者の新
 たな視点が創出されるような構成となっております。\
 n開発事例紹介後は、懇親会と並行してキャリア相談会
 を行います。ご希望の方は当日スタッフまでお声がけ
 ください。\n【日時】2月8日(木) 19:00-21:30(19:00入場開始)
 \n【場所】渋谷キャストスペース \n【住所】東京都渋
 谷区渋谷1-23-21\n【費用】¥0\n※ドリンクと軽食を用意
 する予定です\nスピーカー\n\n\n\n\n\n村井 翔太朗(murai　s
 hotaro) | AWS and GCP\n\n\n\n学生時代はコンピュータビジョ
 ンを学ぶ。\n卒業後、ネットワークセキュリティのベ
 ンダーにソフトウェアエンジニアとして入社。DNS/DHCP
 アプライアンスの開発に従事するうち、インフラの運
 用に興味を持ち、株式会社サイバーエージェントに転
 職。\n2015年3月から2018年1月までインフラ横断組織にて
 、10以上のプロジェクトのインフラ管理に従事した。\n
 \n\n\n\n\n\n\n株式会社Craft Egg 山村英貴(yamamura hideki) | ガ
 ルパを支えるデータベース負荷分散の紹介\n\n\n\n京都
 大学工学部卒業。2013年サイバーエージェント新卒入社
 。\nサーバーサイドエンジニアとして画像配信、広告
 配信、リアルタイム通信基盤、チャット基盤、アセッ
 トバンドル配信基盤などを担当、現在は「バンドリ！ 
 ガールズバンドパーティ！」でサーバーとインフラを
 担当。\n\n\n\n\n\n\n\n株式会社サイバーエージェント後藤
 健(goto ken) | AbemaTV Running on GCP\n\n\n\n学生時代にMMOのBOT開
 発を行ったことから、プロのエンジニアを志す。\n卒
 業後はスマートフォンゲーム開発会社でインフラエン
 ジニアとして活躍。日々バーストトラフィックと戦う
 。\n2017年株式会社サイバーエージェントに入社。現在
 はAbemaTVのインフラ面の改善・運用保守に従事している
 。\n\n\nタイムスケジュール\n\n\n\n時刻\n内容\n時間\n\n\n\
 n\n19:00-\n入場開始\n30min\n\n\n19:30-\n概要説明\n5min\n\n\n19:35
 -\n村井氏ご登壇_AWS&GCP\n20min\n\n\n19:55-\n山村氏ご登壇_バ
 ンドリ！ガールズバンドパーティ！！でのAWS事例\n15min
 \n\n\n20:10-\n後藤氏ご登壇_AbemaTVでのGCP事例\n15min\n\n\n20:25
 -\n懇親会\n60min\n\n\n\n【共催会社紹介】株式会社 Branding 
 Engineer\n![Alt text](\nエンジニアの独立支援サービスや新
 卒の就活支援など、エンジニア特化型のサービス運営
 にて新たな価値を提供する人材会社です。\n■提供サ
 ービス\nTech Stars（テクスタ）\nイッカツ｜就活サイト
 一括登録・管理サービス\nMIDWORKS（ミッドワークス）｜
 福利厚生、保障プランつきの独立支援サービス\nMayonez
 ｜ITエンジニアを中心としたキャリア情報メディア\nTEC
 H BOOST｜未来のキャリアをつくる3ヶ月のプログラミン
 グスクール \n注意事項\n※懇親会からの参加はご遠慮
 ください。\n※この勉強会に集まる参加者をスカウト
 することが目的の方は参加できません。\n※受付で名
 刺を頂戴しますので、名刺をお持ちください。お持ち
 でない場合、別紙に必要事項を記載いただきますので
 、受付に少々時間がかかることがあります。\n※オフ
 ィス内は全面禁煙です。\n※会場にはWi-Fiの準備があり
 ますが、参加人数によっては混雑する恐れがあります
 ので、ご了承下さい。
LOCATION:渋谷キャスト スペース 東京都渋谷区渋谷1-23-21	
URL:https://techplay.jp/event/655796?utm_medium=referral&utm_source=ics&utm
 _campaign=ics
END:VEVENT
END:VCALENDAR
