BEGIN:VCALENDAR
VERSION:2.0
PRODID:-//https://techplay.jp//JP
CALSCALE:GREGORIAN
METHOD:PUBLISH
X-WR-CALDESC:『実用Common Lisp』読書会(1)
X-WR-CALNAME:『実用Common Lisp』読書会(1)
X-WR-TIMEZONE:Asia/Tokyo
BEGIN:VTIMEZONE
TZID:Asia/Tokyo
BEGIN:STANDARD
DTSTART:19700101T000000
TZOFFSETFROM:+0900
TZOFFSETTO:+0900
TZNAME:JST
END:STANDARD
END:VTIMEZONE
BEGIN:VEVENT
UID:656070@techplay.jp
SUMMARY:『実用Common Lisp』読書会(1)
DTSTART;TZID=Asia/Tokyo:20180207T200000
DTEND;TZID=Asia/Tokyo:20180207T220000
DTSTAMP:20260420T013940Z
CREATED:20180125T102034Z
DESCRIPTION:イベント詳細はこちら\nhttps://techplay.jp/event/65607
 0?utm_medium=referral&utm_source=ics&utm_campaign=ics\n\n『実用Common 
 Lisp』を読む会です。\nCommon Lispを基礎から勉強しまし
 ょう。\nお気軽にご参加ください。\n【注】\n主催者はC
 ommon Lispの専門家ではありません。\nあまり凄いことは
 期待しないでください。\n会場について\n入場開始は19:
 30です。\n建物の入口に低いチェーンが張られているこ
 とがありますが、そのままお入りください。\n株式会
 社ヴァル研究所様のご厚意で会場をご提供いただいて
 おります。\n※ 勉強会の運営とは無関係ですので、本
 件に関してヴァル研究所様へのお問い合わせはご遠慮
 ください。お問い合わせは@7shiまでお願い致します。\n
 進め方\n本文を読みながら、出て来たトピックスにつ
 いて議論します。\n事前にスライド等は用意しません
 。\n掲示板\n掲示板を用意しました。\n\nhttps://gitter.im/ji
 tsucl/Lobby\n\n対象箇所\n最初から読みます。\n開催間隔\n
 隔週水曜日開催です。
LOCATION:ヴァル研究所 東京都杉並区高円寺北 2-3-17
URL:https://techplay.jp/event/656070?utm_medium=referral&utm_source=ics&utm
 _campaign=ics
END:VEVENT
END:VCALENDAR
