BEGIN:VCALENDAR
VERSION:2.0
PRODID:-//https://techplay.jp//JP
CALSCALE:GREGORIAN
METHOD:PUBLISH
X-WR-CALDESC:Blender\,シェーダー\,アニメ(Live2D\,Spine\,SpriteStudi
 o)もくもく会
X-WR-CALNAME:Blender\,シェーダー\,アニメ(Live2D\,Spine\,SpriteStudi
 o)もくもく会
X-WR-TIMEZONE:Asia/Tokyo
BEGIN:VTIMEZONE
TZID:Asia/Tokyo
BEGIN:STANDARD
DTSTART:19700101T000000
TZOFFSETFROM:+0900
TZOFFSETTO:+0900
TZNAME:JST
END:STANDARD
END:VTIMEZONE
BEGIN:VEVENT
UID:656117@techplay.jp
SUMMARY:Blender\,シェーダー\,アニメ(Live2D\,Spine\,SpriteStudio)も
 くもく会
DTSTART;TZID=Asia/Tokyo:20180205T191500
DTEND;TZID=Asia/Tokyo:20180205T214500
DTSTAMP:20260421T070312Z
CREATED:20180125T142203Z
DESCRIPTION:イベント詳細はこちら\nhttps://techplay.jp/event/65611
 7?utm_medium=referral&utm_source=ics&utm_campaign=ics\n\n概要\nBlender
 モデリング\,シェーダー\,Unityメカニム\,アニメーショ
 ン(Live2D\,Spine\,SpriteStudio等)のもくもく会です。\nまた、
 グラフィック周り初心者で全く技術的なことがわから
 ないという方も大歓迎ですよ〜\nこれから、3Dモデリン
 グやデザイングラフィックをやってみたいという方、
 大歓迎ですっ！\nまた、こちら隔週で定期的に開催し
 ておりますので会に参加し続けることで確実に力にな
 ると思います。\n\n日時\n途中参加や途中退出は自由で
 す。\n※23時までコワーキングスペースはオープンして
 いますので、そのまま作業ができます。\nスケジュー
 ル\n18:00 開場・受付\n19:15-19:20:自己紹介など\n19:20-21:00:
 もくもく作業\n21:00-21:30:本日の成果発表\n\n※途中参加
 や途中退出は自由です。\n参加費\n1000円 (会場費)\n\nこ
 んな人におススメ\n・Blenderでのモデリングをもくもく
 行いたい方\n・シェーダー\,アニメーション(Live2D\,Spine\
 ,SpriteStudio等)の勉強をしたい方\n・デザイナーやグラフ
 ィッカーさんの知り合いを増やしたい方など\n開催場
 所\n\nコワーキングスペース秋葉原 Weeyble（ウィーブル)
 \nhttp://weeyble.com/ \n東京都千代田区神田須田町２丁目１
 ９−２３(野村第３ビル４階)\n秋葉原駅電気街口または
 中央改札口より徒歩3分。 都営新宿線 岩本町駅徒歩3分
 、銀座線 神田駅6番出口徒歩2分\n\n電源、Wi-Fiあります!
 \n一緒に勉強会の運営してくださる方募集してます。\n
 \n▼秋葉原駅から会場までの行き方はこちら！▼\nhttps:
 //weeyble.com/access/\n持ち物\nノートPC\nノートPC持参が望ま
 しいですが、なくても会場にUnityがインストールされ
 たデスクトップPCが1台、ノートPCが２台あります。こ
 ちら前日までに連絡すれば、レンタル可能です！\n（
 下記のSlackなどにメッセージをいただければと思いま
 す。）\n\n会場で、店員さんか主催者にその旨お尋ねい
 ただければレンタルいたします。\n\nQ&A\n\nQ.今回から初
 めての参加ですが、大丈夫ですか？\nA.はい、大丈夫で
 す。お気軽にご参加ください^^\nQ.身内ばっかりで固ま
 っていてそう・・・ぼっちになりそう・・・・行きづ
 らい・・・\n\nA.大丈夫ですよ〜初参加の人が半分以上
 ですし、親切な人がたくさんです！\nこちらの会では
 毎回、初心者の方が半分以上参加しているので是非お
 気軽にご参加ください^^\nQ.会が開催されていない時に
 デザイン、UI\,ソフトなどの質問などをしたいのですが
 何か方法はありますか？\n\nA.はい！あります。この会
 のSlack（チャットの部屋）がありますのでそこで質問
 をいただければ親切に返答いたします。\nSlack\n▼こち
 ら、勉強会のSlackになります。\n以下ボタン押下で参加
 可能なので是非是非ご参加ください。\n次回勉強会の
 開催の情報や、交流などができます\n\n\n\n
LOCATION:コワーキングスペース秋葉原Weeyble 東京都千代田
 区神田須田町２丁目１９−２３ (野村第３ビル ４階)
URL:https://techplay.jp/event/656117?utm_medium=referral&utm_source=ics&utm
 _campaign=ics
END:VEVENT
END:VCALENDAR
