BEGIN:VCALENDAR
VERSION:2.0
PRODID:-//https://techplay.jp//JP
CALSCALE:GREGORIAN
METHOD:PUBLISH
X-WR-CALDESC:2/3(土)ホームページ制作スキルアップ勉強会＠
 新宿(基礎〜応用/ワードプレス)
X-WR-CALNAME:2/3(土)ホームページ制作スキルアップ勉強会＠
 新宿(基礎〜応用/ワードプレス)
X-WR-TIMEZONE:Asia/Tokyo
BEGIN:VTIMEZONE
TZID:Asia/Tokyo
BEGIN:STANDARD
DTSTART:19700101T000000
TZOFFSETFROM:+0900
TZOFFSETTO:+0900
TZNAME:JST
END:STANDARD
END:VTIMEZONE
BEGIN:VEVENT
UID:656392@techplay.jp
SUMMARY:2/3(土)ホームページ制作スキルアップ勉強会＠新
 宿(基礎〜応用/ワードプレス)
DTSTART;TZID=Asia/Tokyo:20180203T110000
DTEND;TZID=Asia/Tokyo:20180203T123000
DTSTAMP:20260423T211530Z
CREATED:20180127T073352Z
DESCRIPTION:イベント詳細はこちら\nhttps://techplay.jp/event/65639
 2?utm_medium=referral&utm_source=ics&utm_campaign=ics\n\n満員御礼！
 ！\n大好評をいただいている、エッグシステムのシス
 テムエンジニア向け勉強会です！\n\n\n\n\n今回は、ホー
 ムページ制作の基礎から応用まで行います！\n実戦形
 式で、「ワードプレス（WordPress）」を使って行います
 。\n実践で使える内容しか話しませんので、まだワー
 ドプレスを使って一人でホームページを作れないとい
 う方はご参加いただければ、一人でもホームページを
 作れるようになります。\n\n\n\n「自分でホームページ
 を作りたいけど何から始めればよいか分からない」\n
 「独学でワードプレスを始めてみたけどいまいち分か
 らない・・・」\n「ホームページ制作やワードプレス
 について勉強しようと思っていた方」\n\n\nいずれの方
 も大歓迎です。\nもちろん勉強会自体が初参加、とい
 う方も大歓迎です！\n\n\n\n本内容を受けられた方は、
 ぜひ株式会社エッグシステムと一緒に仕事をしましょ
 う！\n\n【主催】\n株式会社エッグシステム\nhttp://eggsyst
 em.co.jp/\n\n\n\n\n\n（１）内容（予定）\n\n１．イントロダ
 クション\n自己紹介\n\n２．ホームページの基礎知識\n
 ホームページの構成、ワードプレスとは何か、など\n\n
 ３．ホームページ制作の実践講座\nテーマ選定、プラ
 グイン、固定ページ作成、投稿ページ(ブログ)作成な
 ど\n\n\n※注意※\n・PCをご持参ください。\n\n（２）参
 加者の声\n\n満足度が高かったという感想を多数いただ
 いています。\nありがとうございます！\n\n\n\n\n\n  感想
 \n\n\n\n\n  【H.Tさん／男性／ 20代】初心者に対して分か
 りやすく例を用いて説明してくれて、ホームページの
 基礎知識から制作、公開までの流れも詳しく説明して
 いただきました。口調も穏やかで質問しやすく、非常
 に満足できました。\n\n\n  【A.K.さん／女性／ 20代】こ
 んなにお安いお値段でお勉強させていただき、ありが
 たかったです。ワードプレスは１度諦めていたのです
 が、またやってみたいと思いました。\n\n\n  【S.O.さん
 ／男性／ 20代】説明がとても丁寧だったのでプログラ
 ミングをやったことがない人でもホームページ制作の
 考え方ややり方を感覚的に学べると思います。初心者
 にはとても良かったです。広い範囲をぎゅっと詰め込
 んだ内容でした。\n\n\n  【M.S.さん／男性／30代】説明
 がとても分かりやすかったです。これからも勉強して
 いきたいと思いました。\n\n\n  【M.H.さん／男性／ 20代
 】ワードプレスの注意点で知らない部分を知れたので
 良かったです。\n\n\n  【M.S.さん／女性／ 20代】少人数
 で最適なペースで分かりやすいです。\n\n\n  【K.W.さん
 ／女性／ 30代】参加前は心配でしたが、分かりやすく
 楽しめました。また参加したいと思います。\n\n\n  【N.
 O.さん／男性／ 20代】子テーマを作る理由やその方法
 は、なんとなくしか分かっていなかったので、明確に
 なって良かったです。満足です。\n\n\n  【K.W.さん／男
 性／ 30代】勉強会には初めて参加したのですが、大変
 ためになりました。また次回も参加したいです。時間
 が足りないくらいでした。\n\n\n  【M.S.さん／女性／ 20
 代】基礎で飛ばしていたところを再確認できました。
 他の方と一緒に勉強できる機会もとても貴重なのであ
 りがたいです。\n\n\n  【Y.N.さん／男性／ 20代】周囲に
 相談できる人がいないため、流れや用語、業界の実情
 を教えていただけるだけでありがたいです。\n\n\n  【H.
 M.さん／男性／ 20代】興味のある内容だったし、分か
 りやすかったのでとても勉強になった。分野を超えて
 教えていただいてありがたかった。\n\n\n\n\n\n\n注意事
 項\n\n会場がやや分かりにくいため、当日ビルの６階へ
 到着しましたら、主催者へお電話ください。\n 電話番
 号は参加者の方へ事前にご連絡いたします。\n
LOCATION:CROSSCOOP新宿SOUTH6階セミナールーム 東京都新宿区
 新宿4-3-17
URL:https://techplay.jp/event/656392?utm_medium=referral&utm_source=ics&utm
 _campaign=ics
END:VEVENT
END:VCALENDAR
