BEGIN:VCALENDAR
VERSION:2.0
PRODID:-//https://techplay.jp//JP
CALSCALE:GREGORIAN
METHOD:PUBLISH
X-WR-CALDESC:【初心者向け】Python+Jupyterで学ぶ機械学習プロ
 グラミング #6
X-WR-CALNAME:【初心者向け】Python+Jupyterで学ぶ機械学習プロ
 グラミング #6
X-WR-TIMEZONE:Asia/Tokyo
BEGIN:VTIMEZONE
TZID:Asia/Tokyo
BEGIN:STANDARD
DTSTART:19700101T000000
TZOFFSETFROM:+0900
TZOFFSETTO:+0900
TZNAME:JST
END:STANDARD
END:VTIMEZONE
BEGIN:VEVENT
UID:656405@techplay.jp
SUMMARY:【初心者向け】Python+Jupyterで学ぶ機械学習プログ
 ラミング #6
DTSTART;TZID=Asia/Tokyo:20180204T153000
DTEND;TZID=Asia/Tokyo:20180204T183000
DTSTAMP:20260424T111358Z
CREATED:20180127T101354Z
DESCRIPTION:イベント詳細はこちら\nhttps://techplay.jp/event/65640
 5?utm_medium=referral&utm_source=ics&utm_campaign=ics\n\n内容概要\n==
 =\n現状人数少なめですが、敢行させていただく予定で
 す！\n人数少ない時の方がフォローが行き届いてオス
 スメですので、よろしければご検討\nいただければと
 思います！！\n===\n\n『AIや機械学習が話題になってい
 るけど、プログラミングやったことないし難しそう』
 、\nそういった方の苦手意識をなくし、実際にPythonを
 使って機械学習を動かせるように\nなることを目的と
 して、当会を設けさせていただきました。\n\n変数、配
 列、条件分岐、繰り返し、関数、オブジェクト指向と
 いったプログラミングの\n基本をPythonの対話型環境で
 あるJupyterを用いて勉強していただきます。\nまた、機
 械学習でよく使われるNumPy、pandas、scikit-learn、keras、Ten
 sorFlow\nなどのライブラリを動かしながら実際に機械学
 習で出せるアウトプットの概要を掴んで\nいただけれ
 ばと思っています。\n\n事前知識の一切ない初心者でも
 無理なく導入できるよう、毎週週一〜二で実施して\n
 いければと思います。\n\n\n\n身につく内容\n・プログラ
 ミングとは何かについて理解できます\n・変数、配列
 、条件分岐、繰り返し、関数、オブジェクト指向とい
 ったプログラミングの\n基本について学べます\n・機械
 学習でよく使われるNumPy、pandas、scikit-learn、keras、Tensor
 Flowなどの\nライブラリについて学べます\n\n\n\n開催日
 程\n2/4(日)\n受付：15:15〜15:30\n講義：15:30〜18:30\n\n\n\n会
 場\n東京都渋谷区代々木４丁目２８−８ 代々木村田マ
 ンション 711\nJR山手線「新宿」駅徒歩10分、京王線「初
 台」駅徒歩4分、小田急線「参宮橋」駅徒歩6分\n\n※\n
 入り口近くのエレベータが6階までなので、奥のエレベ
 ータに乗るようにご注意いただければと\n思います。\n
 \n\n\nカリキュラム\n・自己紹介\n・プログラミングとは
 \n・成果物管理とGit、GitHub\n・変数、配列、条件分岐、
 繰り返し、関数、オブジェクト指向とPythonでの書き方\
 n・NumPy、pandas、scikit-learn、Keras、TensorFlowなどのハンズ
 オン\n\n\n\n対象者\n・プログラミング未経験の方、他言
 語は知っているけどPythonは知らない方\n（プログラミ
 ングの未経験者の方もちゃんとフォローアップできれ
 ばと思っていますので、\n来ていただいて大丈夫です
 。お越しいただいた中で一番知らない方に合わせるつ
 もりなので、\n経験が豊富な方は別途出している会に
 ご参加いただける方が楽しめるかなと思います）\n\n※
 \nまた、数学が苦手な方はこちらも合わせてご検討頂
 けましたら嬉しいです。\n高校数学の復習からニュー
 ラルネットワークの理解までを理論的に繋げる内容に
 なっています。\nhttps://skillupai-reserch.connpass.com/event/75247
 /\n\n\n\n講師プロフィール\n東大工学部卒。\nデータ分析
 /AI開発の仕事の経験は5年ほどで、理論/開発/ビジネス
 のどれも経験があり強い。\nまた、多くの業界のプロ
 ジェクトに関わったためドメイン知識も豊富。\n初心
 者向けの指導実績も多く、200名は越える。\n\n\n\n当日
 のお持物\nPC（ある程度の最近の端末を推奨します、ま
 た可能であればWindowsよりもMacをお勧めします）\nイン
 ストールは当日講師がサポートします\n\n\n\n費用\n・7\,
 000円/3h（法人、領収書発行が必要な方。）\n・5\,000円/3
 h（それ以外）\n2回目以降の参加と25歳以下の参加者は
 半額の2\,500円とさせていただきます。\n双方に該当す
 る方は1\,500円にします。（1/4にするつもりでしたが切
 りが悪かったのですみません。）\n（領収書を発行す
 る際は個人の割引後の価格に2\,000円を加えた金額での
 お支払いになります。）\n\n※\n細かい参加者管理が煩
 わしいため、一部の割引は申し込み枠に反映させてい
 ません。\n25歳以下の割引に関しては当日お申し出てい
 ただければ対応いたしますのでお伝え下さい。\n\n\n\n
 当日までの事前学習\nなし\n領収書\n領収書の発行も可
 能ですのでご希望の方はその旨お申し付けいただけれ
 ばと思います。\n（個人で気軽に参加できるようにと
 いう価格設定なので、領収証発行の際は法人とみなし
 割引の適用外\nとさせていただければと思います。個
 人事業は個人と見ていましたが、経費精算と給料から
 の出費では\n負担が異なるので、領収書発行について
 は一律で法人と見なす形でお願いいたします。）\n
LOCATION:代々木村田マンション 東京都渋谷区代々木４丁
 目２８−８ (代々木村田マンション 711)
URL:https://techplay.jp/event/656405?utm_medium=referral&utm_source=ics&utm
 _campaign=ics
END:VEVENT
END:VCALENDAR
