BEGIN:VCALENDAR
VERSION:2.0
PRODID:-//https://techplay.jp//JP
CALSCALE:GREGORIAN
METHOD:PUBLISH
X-WR-CALDESC:サービス開発勉強会（ごはんも一緒につくる
 よ！たべるよ！） | BallooMeetUp #1
X-WR-CALNAME:サービス開発勉強会（ごはんも一緒につくる
 よ！たべるよ！） | BallooMeetUp #1
X-WR-TIMEZONE:Asia/Tokyo
BEGIN:VTIMEZONE
TZID:Asia/Tokyo
BEGIN:STANDARD
DTSTART:19700101T000000
TZOFFSETFROM:+0900
TZOFFSETTO:+0900
TZNAME:JST
END:STANDARD
END:VTIMEZONE
BEGIN:VEVENT
UID:656616@techplay.jp
SUMMARY:サービス開発勉強会（ごはんも一緒につくるよ！
 たべるよ！） | BallooMeetUp #1
DTSTART;TZID=Asia/Tokyo:20180214T190000
DTEND;TZID=Asia/Tokyo:20180214T220000
DTSTAMP:20260421T034651Z
CREATED:20180129T083328Z
DESCRIPTION:イベント詳細はこちら\nhttps://techplay.jp/event/65661
 6?utm_medium=referral&utm_source=ics&utm_campaign=ics\n\nサービス開
 発勉強会（ごはんも一緒につくるよ！たべるよ！） | B
 allooMeetUp #1\n\n概要\n\nサービス開発って悩むことが多い
 。\n\nどうやったら、\nもっとユーザーに喜んでもらえ
 るんだろう、\nもっとユーザーに知ってもらえるんだ
 ろう、\nもっとチームの力を活かしてモノを作られる
 んだろう、\nどうやったら、もっと……。\n\nそんなこ
 とを相談したり、ワイワイ盛り上がったりすることが
 出来る場があったらいいなと思って、 BallooMeetUp とい
 う場をつくりました。\n\n第1回目は、\n「どうやったら
 もっとエンジニアの力をサービス改善に生かすことが
 出来るんだろう」\nというテーマでみんなとワイワイ
 と話します。\n\nなにやらプログラムというものを書い
 て、\nサービスの開発や運用をしてくれているらしい
 エンジニア。\nだけれども、考えていることも、話し
 ていることも、なんだか難しそう。\n\nそんな「難しそ
 う」からさよならして、よりサービス改善に取り組む
 ために、\n食領域サービスの各社のエンジニアの方に
 、\n何を考えて、話して、実際の業務でどのようにサ
 ービス改善に取り組んできたのか、\n登壇・LT でわか
 りやすく話してもらう予定です。\n\nまた！\nBallooMeeUp 
 のちょっと特別なところとして、\nみんなで一緒にご
 はんをつくる！たべる！という点があります。\n会社
 や職域は違えど、サービスを開発をするという仲間同
 士、\n同じ釜の飯を食おうではありませんか……とい
 うのは少しおおげさですが（笑）、\n一緒につくる・
 たべる・まなぶことで、新しい発見があったり、他の
 人と仲良くなったり、ただただ美味しいものが食べら
 れたと思ってもらったり、と良い時間を過ごしてもら
 えたら嬉しいです。\n\nタイムスケジュール\n\n\n\n\n  時
 間\n  内容\n\n\n\n\n  19:00\n  受付開始\n\n\n  19:15\n  調理開
 始\n\n\n  20:15\n  いただきます！オープニング\n\n\n  20:20\
 n  登壇・LT Time\n\n\n  21:15\n  ごちそうさま！みんなで片
 付け\n\n\n  21:30\n  終了\n\n\n\n\n登壇・LT\n\n\n\n\n  発表者\n
   タイトル\n\n\n\n\n  [登壇] クックパッド株式会社エン
 ジニア＠s_osa_\n  「すぐそこにある "異文化" コミュニ
 ケーション」（仮）\n\n\n  [LT] 株式会社バルーンエンジ
 ニア@okutan\n  チームビルディングについてのLT（タイト
 ル仮）\n\n\n  [LT]  LTしたい方募集中！\n  \n\n\n\n\n一緒に
 ごはんをつくる・たべる\n\nバルーミーのイチオシ食材
 を使って、簡単ごはんを一緒に作りましょ！\n普段自
 炊しないし…自信が無いし…という方も大丈夫。\n基
 本はバルーミースタッフが行いますし、しっかりサポ
 ートも行うので\nきっと楽しんでいただけるはずです
 。\n\n\n北海道産和牛のすき焼き\nカラフル野菜のサラ
 ダ\nまぐろの生ハムカルパッチョ\n根菜ソテー\nその他
 、有機野菜を使用した季節のおかずを２品程\n\n\n参加
 対象者\n\n\nエンジニア\nデザイナー\nディレクター\nプ
 ロダクトマネージャー\n自社サービス開発に携ってい
 る方\n将来的に自社サービス開発に関わりたいと思っ
 ている方\n\n\n持ち物\n\nお名刺1枚\n※ 受付時にお渡し
 下さい。\n\n参加費\n\n1500円（当日現金払い）\n※ 受付
 時にお支払いください。 \n※ 懇親会費として頂戴致し
 ます。\n\nハッシュタグ\n\n#balloomeetup\n\n株式会社バルー
 ンについて\n\nBallooMeetUp を主催する株式会社バルーン
 は、\nあなた好みの「おいしい」が見つかるサービス
 を開発・運用する企業です。\n\nhttps://www.balloome.co.jp/\n\
 nお問い合わせ\n\nイベントに関するお問い合わせはこ
 ちらからお願いします。\n
LOCATION:カフェ＆ホール　アワーズ 東京都品川区北品川 5
 -7-2
URL:https://techplay.jp/event/656616?utm_medium=referral&utm_source=ics&utm
 _campaign=ics
END:VEVENT
END:VCALENDAR
