BEGIN:VCALENDAR
VERSION:2.0
PRODID:-//https://techplay.jp//JP
CALSCALE:GREGORIAN
METHOD:PUBLISH
X-WR-CALDESC:PyCon JPスタッフ作業日
X-WR-CALNAME:PyCon JPスタッフ作業日
X-WR-TIMEZONE:Asia/Tokyo
BEGIN:VTIMEZONE
TZID:Asia/Tokyo
BEGIN:STANDARD
DTSTART:19700101T000000
TZOFFSETFROM:+0900
TZOFFSETTO:+0900
TZNAME:JST
END:STANDARD
END:VTIMEZONE
BEGIN:VEVENT
UID:656626@techplay.jp
SUMMARY:PyCon JPスタッフ作業日
DTSTART;TZID=Asia/Tokyo:20180213T190000
DTEND;TZID=Asia/Tokyo:20180213T220000
DTSTAMP:20260420T222808Z
CREATED:20180129T101439Z
DESCRIPTION:イベント詳細はこちら\nhttps://techplay.jp/event/65662
 6?utm_medium=referral&utm_source=ics&utm_campaign=ics\n\nイベント概
 要\nPyCon JP 2018のスタッフが集まって作業する日です。
 後半はピザかなんかをつまみつつタスクをガシガシ進
 めましょう。チームごとに洗いだしたタスクを進めま
 す。\n\nスタッフは各チームごとにその枠に参加してく
 ださい。リモート予定の人は「リモート参加枠」で\n
 ちょっと「PyCon JP のスタッフがどんなことやってるの
 か興味あるんだけど」という人も 賑やかし枠 として
 ぜひ参加してください。\n作業日 — PyCon JP 運営マニュ
 アル 0.1 ドキュメント\n\nPyCon JP 2018スタッフ募集につい
 て\nPyCon JP 2018スタッフ募集を開始 しました！\n一緒に 
 PyCon JP を作りましょう!!\n会場\nサイバートラスト(株) 
 赤坂オフィス SmartSquare (アクセス)\n東京都港区赤坂 1 
 丁目 12 番 32 号(アーク森ビル EAST Tower 30 階)\n入館方法\
 n\n持ち物:身分証明書\n最寄駅 六本木一丁目駅 3 番出口
 より徒歩 2 分 (東京メトロ南北線) 溜池山王駅 13 番出
 口より徒歩 4 分 (東京メトロ銀座線)\nアーク森ビル1階
 の総合受付にて身分証明をご提示の上、入館カードを
 お受け取り下さい。\nその後、エレベーターにて30階ま
 でお越し下さい。EAST・WESTの双方のエレベーターがご
 利用可能です。\n30階北側にSmartSquare(サイバートラスト
  スマートスクエア)が有ります。エレベータホール等
 の地図にも記載されています。\nSmartSquareは常時施錠さ
 れています。外部からはサイバートラスト社員が解錠
 できます。内側からはボタンで解錠可能です。\n遅れ
 てきて入場できない場合はSmartSquare入り口ガラス扉越
 しに手を振るなどで合図をください。\n\n入館カードは
 退館時にも使うので大切に保管してください。\n作業
 日の様子\n過去の作業日の様子はこちらを参照して下
 さい\n\nPyCon JP 2017 スタッフ作業日#1(2017.04)を開催しま
 した！\n
LOCATION:サイバートラスト（株）赤坂オフィス SmartSquare 
 東京都港区赤坂 1 丁目 12 番 32 号(アーク森ビル EAST Towe
 r 30 階)
URL:https://techplay.jp/event/656626?utm_medium=referral&utm_source=ics&utm
 _campaign=ics
END:VEVENT
END:VCALENDAR
