BEGIN:VCALENDAR
VERSION:2.0
PRODID:-//https://techplay.jp//JP
CALSCALE:GREGORIAN
METHOD:PUBLISH
X-WR-CALDESC:【豪華9時間】検索順位UP？レスポンシブWEBデ
 ザイン1日ブートキャンプ☆
X-WR-CALNAME:【豪華9時間】検索順位UP？レスポンシブWEBデ
 ザイン1日ブートキャンプ☆
X-WR-TIMEZONE:Asia/Tokyo
BEGIN:VTIMEZONE
TZID:Asia/Tokyo
BEGIN:STANDARD
DTSTART:19700101T000000
TZOFFSETFROM:+0900
TZOFFSETTO:+0900
TZNAME:JST
END:STANDARD
END:VTIMEZONE
BEGIN:VEVENT
UID:656710@techplay.jp
SUMMARY:【豪華9時間】検索順位UP？レスポンシブWEBデザイ
 ン1日ブートキャンプ☆
DTSTART;TZID=Asia/Tokyo:20180204T090000
DTEND;TZID=Asia/Tokyo:20180204T190000
DTSTAMP:20260424T080300Z
CREATED:20180129T141858Z
DESCRIPTION:イベント詳細はこちら\nhttps://techplay.jp/event/65671
 0?utm_medium=referral&utm_source=ics&utm_campaign=ics\n\n\n\n短期間で
 WEBデザイナー＆エンジニアスキルを学ぶノマドスクー
 ルの1日間集中ブートキャンプです。法人向けの研修も
 行っております。\n⇒1日～2日でデザインやプログラミ
 ングを学ぶワークショップを開催するノマドスクール\
 n⇒法人研修\n\n運営団体は、下記URLを見れば分かるよ
 うにデザインに特化した事業を行っているご安心下さ
 い。\n⇒月額6万円でWEB/印刷物/営業資料のデザインが
 依頼し放題になるノマドスタッフ\n\n＜こんなことを学
 びます＞\n学べる内容は、PCとスマホサイトが同じHTML
 で同時生成できる\n注目のレスポンシブウェブデザイ
 ンのコーディング方法です。\n\n現在のGoogleの検索結果
 は、WEBサイトの\nモバイルフレンドリー化が順位変動
 する要因の一つとされています。\n\nそのスマホ最適化
 する手段の中でGoogleが一押ししているのが、\nこの講
 座で挙げている「レスポンシブwebデザイン」です。\n\n
 レスポンシブWebデザインの特徴としては、従来のコー
 ディングのように\nPCとスマホとで別々のHTMLソースを
 記述することなく\n1つのHTMLソースで記述が完結するの
 で更新や修正に割く時間が少なくなります。\n\n3時間
 の講座と比較すると若干割高に感じますが、\n1日間集
 中で9時間のレッスンが受けれるので時間換算すると安
 いです。\n\nしかも今なら下記の特典が付いていて大変
 お得です。\n★☆参加特典☆★\n・受講後1ヶ月以内は
 復習内容についてチャットorメールで質問し放題♪\n・
 2人以上同時参加で人数分の1000円のクオカードを贈呈
 ♪\n・受講後1ヶ月以内にオンラインメンターに申込み
 で料金が最大全額キャッシュバック\n※オンラインメ
 ンターはブートキャンプ参加後に入会をご検討下さい
 。\n\nレスポンシブウェブデザインを作れることになる
 メリット☆\n\n「レスポンシブウェブデザイン（responsiv
 e web design）とは、PC、タブレット、スマートフォンな
 どの画面サイズが異なる端末でWEBサイトにアクセスし
 たときに、\n端末の横幅に応じてページのレイアウト
 ・デザインを柔軟に調整する新しいコーディング方法
 です。\n従来のコーディングでは、PCとスマホで別々の
 HTMLを作成することが一般的でしたが、レスポンシブウ
 ェブデザインでは、CSS3（Media Queries）を使って画面サ
 イズに応じたレイアウト変更が可能になるので1つのHTM
 Lファイルだけで済みます。1つのHTMLファイルになるこ
 とで、コーディングにかかる時間が短縮できたり、デ
 ータの更新性が楽になったり、PCとスマホでURLが分散
 されずユーザーに親切というメリットがもたらされま
 す。」\n\n＜習得可能なスキル＞\n\n基礎から応用まで
 を1日（計9時間）に盛り込んでいるので、\n短期間で次
 のようなことを学びます。\n\n1.レスポンシブWebデザイ
 ンの基本\nレスポンシブWebデザインの基本を学んでウ
 ォーミングアップを行います。\n\n2.レスポンシブWebデ
 ザイン用のHTML作業\nレスポンシブ対応させるために必
 要なマークアップについて学び、\n実際に手を動かし
 てコーディングしてもらいます。\n\n3.レスポンシブWeb
 デザイン用のCSS作業\nレスポンシブ対応させるために
 必要なスタイルシートについて学び、\n実際に手を動
 かしてコーディングしてもらいます。\n\n※コーディン
 グ中心の講座のためデザイン作業は行いません。\nデ
 ザイン作業を1日集中でしっかりと学びたいとう方は、
 \n別日に開催している「売上倍増？ランディングペー
 ジ1日ブートキャンプ☆」を受講下さい。\n\n＜よくあ
 る質問＞\n\nQ.講義の時間は決まってますか？\n\nA.講義
 形式の授業は1日9時間と決まっています。\n9：00開始～
 19：00終了 ※お昼休憩を1時間程挟みます。\n\nQ.初心者
 ですが、参加しても大丈夫ですか？\n\nA.はい、もちろ
 ん可能です。カリキュラムの難易度は、簡単な基礎作
 業は序盤に行い、応用作業を中心に行いますので少し
 難しい内容も含まれますが、\n実践的なことを学びた
 いのであれば満足いただけるかと存じます。\n\nQ.キャ
 ンプという名前ですが、バーベキューやテントなどで
 寝泊りもするんですか？\n\nA.申し訳ございませんが、
 当社のキャンプというのは短期間で集中してスキルア
 ップを行うという意味で、食事や宿泊施設の提供はご
 ざいません。\nもし遠方からお越しになる方は各自で
 宿泊施設の手配をいただくようお願いします。\n\n他に
 不明点などあればお気軽にメッセージをお送り下さい
 。\n\n■参加費\n\n29\,160円\n\n・レッスン費用\n・レッス
 ン教材費用\n・レッスン会場費用\n以上全てが含まれて
 おります。\n\n■こんな方を対象としています\n\n・ス
 マホ対応したHTMLコーディングスキルを学びたい方\nPC
 サイトとスマホサイトに対応したレスポンシブWEBデザ
 インの技術が短期間で学べます。\n\n・レスポンシブWEB
 デザインに興味がある方\n世界的に見ても制作需要が
 年々増えているレスポンシブWEBデザインは覚えておく
 と仕事の幅が広がります。\n\n・パソコンスクールに通
 うお金がない方\n一般的なパソコンスクールは、同じ
 ようなコースで2～5倍近い金額がかかりますが、短期
 間かつ運営費用を抑ることで圧倒的な低価格で提供し
 ています。\n\n・パソコンスクールに通う時間がない方
 \n一般的なパソコンスクールは、ゆっくりと幅広く教
 えるため受講期間が長いですが、制作対象物を決めて
 要点を絞って教えるため短期間に凝縮しています。\n\n
 ※恐れ入りますが当講座は、講師やスクール業など\n
 同業の方の参加はお断りしております。\n\n■参加の際
 の留意事項\n\n＜持ち物＞\n\n以下持参物をご準備下さ
 い。\n\n1.無線LAN対応のノートパソコン（Windows・Mac両方
 OK）\n※長時間の講座のため電源アダプターもご持参く
 ださい。\n\n2.インストール済みのテキストエディタ\n\n
 文字コードがutf-8で保存できるテキストエディタが\nイ
 ンストールされてればOKですが、可能な限り紹介して
 いる\n高機能なテキストエディタを準備下さい。（Windo
 wsのメモ帳はNG）\n\nテキストエディタをお持ちでない
 場合は、\n以下のいずれかのサイトからインストール
 しておいてください。\n※全て無料ですが、当日テキ
 ストエディタの使い方は説明しませんので、\n事前に
 ご自身で触って慣れていただくようお願いします。\n\n
 入力作業が多いため紹介しているテキストエディタの
 ように予測変換コードがあるほうが望ましいです。\n\n
 Brackets（Win&Mac対応）\nhttp://brackets.io/\n\natom（Win&Mac対応
 ）\nhttps://atom.io/\n\nSublime text（Win&Mac対応）\nhttp://www.subl
 imetext.com/3\n\n3.インストール済みのGoogle Chrome\n\n4.レッ
 スン教材\n当日までにPDFデータを配布しますのでご自
 身のパソコンにダウンロードしてご持参ください。\n\n
 ＜遅刻・欠席について＞\n遅刻については、途中参加
 はＯＫですが、講義に対する理解が低くなることと、\
 n講義開始後は電話やメールなどに対応できない可能性
 がございますのでご留意下さい。\n欠席については、
 講師の都合で開催できなくなった場合を除き返金対応
 が難しいのでご留意下さい。\n前日までに参加が難し
 いことが分かりご連絡いただいた場合、直近で同じコ
 ースの開催日に1回に限り振替することは可能です。\n\
 n＜その他＞\n当講座は、パソコン自体（Windows・Mac）の
 基本操作はレクチャーしませんので予めご了承下さい
 。\n（基本操作の例：キーボードの入力、コピー＆ペ
 ーストの方法、フォルダの生成など）\n\n■当日の流れ
 とタイムライン\n\n所要時間 : 9：00～19：00（9時間の講
 座）\n※お昼休憩を1時間程挟みます。\n\n内容 :HTMLとCSS
 を中心に学びます。\n・HTML5とCSS3の基本(約1時間)\n・レ
 スポンシブWebデザイン用のHTML作業(約2時間)\n・レスポ
 ンシブWebデザイン用のCSS作業(約6時間)\n\n■受講生の声
 \n\n女性 30代\nこの講座は「実践的で効率的。大変満足
 ♪」でした\n\n別途開催しているhtml5・css3の講座を受講
 した後に参加しました。\nなので、分かりやすくて大
 変満足でした。普段はWebディレクターをしています。\
 nレスポンシブの知りたかったポイントが網羅されてい
 て、充実した内容だったと思います。\ntopと下層ペー
 ジとで3ページコーディングしました。1日でサイト全
 体を効率良く理解出来たと思います。\nテキストなど
 の教材がとっても丁寧なので、家でよく復習して早速
 実践で役立てられそうです。ありがとうございました
 ！\n\n女性 40代\nこの講座は「知りたいことが学べまし
 た」でした\n\n丁寧に作られた教材で、質の高い授業を
 受けられました。\n学習環境も静かで良かったです。\n
 \n■担当講師\n\n安部　智昭\nnomad staff（ノマドスタッフ
 ）　代表\n過去に自らが創業したWEB制作会社（既に譲
 渡済）で500社以上の案件に携わった経験を持つ10年以
 上の実務経験者。\nWEBデザイン、印刷物デザインが元
 々得意で、最近はRuby on RailsなどでWEBサービスのプログ
 ラミングもこなすクリエイター。\n\n■利用規約\n\nご
 参加いただくにあたり、下記URLの規約に同意したもの
 とみなさせていただきます。予めご了承下さい。\n\n⇒
 利用規約はこちら\n\n\n\n\n\n
LOCATION:東京コンテンツインキュベーションセンター 21号
 室 東京都中野区弥生町2-41-17　東京コンテンツインキ
 ュベーションセンター21号室
URL:https://techplay.jp/event/656710?utm_medium=referral&utm_source=ics&utm
 _campaign=ics
END:VEVENT
END:VCALENDAR
