BEGIN:VCALENDAR
VERSION:2.0
PRODID:-//https://techplay.jp//JP
CALSCALE:GREGORIAN
METHOD:PUBLISH
X-WR-CALDESC:03東京：ユーザー視点でわかりやすいサイトを
 作る「UI設計のツボ」
X-WR-CALNAME:03東京：ユーザー視点でわかりやすいサイトを
 作る「UI設計のツボ」
X-WR-TIMEZONE:Asia/Tokyo
BEGIN:VTIMEZONE
TZID:Asia/Tokyo
BEGIN:STANDARD
DTSTART:19700101T000000
TZOFFSETFROM:+0900
TZOFFSETTO:+0900
TZNAME:JST
END:STANDARD
END:VTIMEZONE
BEGIN:VEVENT
UID:656733@techplay.jp
SUMMARY:03東京：ユーザー視点でわかりやすいサイトを作
 る「UI設計のツボ」
DTSTART;TZID=Asia/Tokyo:20180211T130000
DTEND;TZID=Asia/Tokyo:20180211T170000
DTSTAMP:20260419T222101Z
CREATED:20180129T211442Z
DESCRIPTION:イベント詳細はこちら\nhttps://techplay.jp/event/65673
 3?utm_medium=referral&utm_source=ics&utm_campaign=ics\n\n著名サイト
 で表現されているデザインやインタフェースは参考事
 例として注目を集めますが、そのユーザビリティ性能
 を分析していくと、実はユーザーにとっては使いにく
 い理由が、数多く浮かび上がってきます！\nいつも目
 にするWEBデザインのユーザービリティを、有名サイト
 だからと安心せず、UIデザインの落とし穴と呼ぶべき
 盲点から、本来あるべきユーザビリティ性能とは何か
 をたっぷりと学ぶ3時間です。\n大好評書籍「だから、
 そのデザインはダメなんだ。」の著者が、書籍には未
 掲載の最新ノウハウも交えて、「使いやすい・分かり
 やすいWEBデザイン」のためのプロでも知りたいテクニ
 ックや知識をご紹介します！\n▼サンプル動画\nユーザ
 ーの知りたい度を考える\nタイトルとリードで伝わる
 情報デザイン\n【インタフェース編】\n\nトップページ
 の位置づけと求められる役割\nトップページ「カルー
 セルパネル」の見せ方善し悪し\nナビゲーションの位
 置づけと求められる役割\n『次』が見えるナビゲーシ
 ョン\n『次』を明示させるヘルプ機能\n機能がわかるボ
 タンらしいフラットデザイン\nスマホ版の使いやすい
 メニューとハンバーガーメニュー\n検索窓を使わない
 検索機能\n\n【コンテンツページ編集構成編】\n\n重要
 なことはPV数を稼ぐことではなく伝えること\nタイトル
 とリードで伝わる情報デザイン\nメイン導線とサブ導
 線で分かれるターゲットの興味\nリピートユーザーに
 は内容だけでなく情報鮮度も大切\n注意喚起は見ても
 らわなければ意味がない\nユーザーの利用シーンを考
 慮した編集\nターゲットのリテラシーを考えたコンテ
 ンツテーマと専門性\n登録フォームはいかに入力要素
 を削減できるかがカギ！\nストレスがためない入力フ
 ォーム\n
LOCATION:エッサム神田ホール1号館 東京都千代田区神田鍛
 冶町3-2-2 
URL:https://techplay.jp/event/656733?utm_medium=referral&utm_source=ics&utm
 _campaign=ics
END:VEVENT
END:VCALENDAR
