BEGIN:VCALENDAR
VERSION:2.0
PRODID:-//https://techplay.jp//JP
CALSCALE:GREGORIAN
METHOD:PUBLISH
X-WR-CALDESC:【参加枠120のみです！】アドテク × 機械学習 
 -オレシカナイト Vol.５
X-WR-CALNAME:【参加枠120のみです！】アドテク × 機械学習 
 -オレシカナイト Vol.５
X-WR-TIMEZONE:Asia/Tokyo
BEGIN:VTIMEZONE
TZID:Asia/Tokyo
BEGIN:STANDARD
DTSTART:19700101T000000
TZOFFSETFROM:+0900
TZOFFSETTO:+0900
TZNAME:JST
END:STANDARD
END:VTIMEZONE
BEGIN:VEVENT
UID:656760@techplay.jp
SUMMARY:【参加枠120のみです！】アドテク × 機械学習 -オ
 レシカナイト Vol.５
DTSTART;TZID=Asia/Tokyo:20180223T193000
DTEND;TZID=Asia/Tokyo:20180223T220000
DTSTAMP:20260419T212658Z
CREATED:20180130T021901Z
DESCRIPTION:イベント詳細はこちら\nhttps://techplay.jp/event/65676
 0?utm_medium=referral&utm_source=ics&utm_campaign=ics\n\nオレシカナ
 イトについて\nサイバーエージェントが運営するメデ
 ィアの広告部門である\n「Publisher adTechnology Assosiation」
 のエンジニアが、\n新規技術に挑戦するにあたって学
 んだことや、プロダクトを開発・運用する過程\nで学
 んだことを皆様に共有する勉強会です。今回が５回目
 の開催となります。\n今回のテーマは“機械学習”。
 弊社が提供する各アドテク商品の開発に携わるエンジ
 ニアやデータサイエンティストに加え、株式会社フリ
 ークアウト・ホールディングスの三原氏による登壇も
 予定しています。\nその後、現場のリアルな話を交換
 し合えるような懇親会をご用意しています。 美味しい
 ビールや軽食もご用意してお待ちしています!（*もち
 ろんノンアルコールもあります。）\nこの機会にみな
 さまと出会えることを楽しみにしておりますので、ぜ
 ひお気軽にエントリーください！\n趣旨説明スライド\n
 http://www.slideshare.net/secret/8JYNwu4UmO2drN\n日時・場所\n\n開
 催日: 2018年2月23日(金) 19：30～  (19：10受付開始)\n場所: 
 株式会社サイバーエージェント クリエイティブラウン
 ジ\n東京都渋谷区円山町19番1号 渋谷プライムプラザ4F\n
 https://www.cyberagent.co.jp/access_print/id=7037\n※マークシティ
 ではありませんのでご注意ください。\n※エレベータ
 ーにて直接4Fまでおあがりください。\n参加費: 無料\n\n
 対象者\n\n社会人限定\nアドテクに興味がある方\nエン
 ジニア、ディレクターなど開発に関わる方\n\n登壇者\n
 小越 崇広 　　　 　株式会社AJA 取締役 Cyberagent Publisher
  adTechnology Associaion 会長\nTristan Irvine 　株式会社サイバ
 ーエージェント 技術本部 秋葉原ラボ\n阿部 昌利 　　
 　 　株式会社AbemaTV 広告本部 開発局\n川瀬 英俊 　　 
 　　株式会社サイバーエージェント アドテク本部 Dynal
 ystカンパニー データサイエンティスト\n三原 秀司 氏
 　　　 株式会社フリークアウト・ホールディングス\nL
 T登壇者\n畑中 悠作 氏　　　 株式会社Speee\n久留 玲 　
 　　　　 株式会社サイバーエージェント メディアデ
 ィベロップメント事業本部(MDH)\n大澤 翔梧 　　　　 株
 式会社サイバーエージェント メディアディベロップメ
 ント事業本部(MDH)\nタイムテーブル\n\n\n\n時間\n登壇者\n
 発表テーマ\n\n\n\n\n19:30-19:35\n小越 崇広\n開会挨拶\n\n\n19
 :35-19:55\n阿部 昌利\nAbemaTVにおける属性の推定(仮)\n\n\n19
 :55-20:15\n川瀬 英俊\nRTBにおける落札率・落札額予測の
 話\n\n\n20:15-20:20\n休憩(5分)\n-\n\n\n20:20-20:40\n三原 秀司\nRT
 Bの入札最適化における機械学習\n\n\n20:40-21:00\nTristan Irv
 ine\n嘘つくメトリクス\n\n\n21:00-22:00\n懇親 & LTタイム\n-\n
 \n\n\n※タイムテーブル・内容は都度更新または変更に
 なる場合がございます。\n注意事項\n\n当イベントは 社
 会人 限定とさせて頂きます。\n入場受付時に名刺を２
 枚いただいております。\nイベントの写真を撮らせて
 頂く場合がございます。\n営業目的の参加はご遠慮願
 います。\n\n ※サイバーエージェント関連社員は登録
 なしでご参加頂けます。
LOCATION:株式会社サイバーエージェント 渋谷プライムプ
 ラザ4F　クリエイティブラウンジ 東京都渋谷区円山町1
 9番1号
URL:https://techplay.jp/event/656760?utm_medium=referral&utm_source=ics&utm
 _campaign=ics
END:VEVENT
END:VCALENDAR
