BEGIN:VCALENDAR
VERSION:2.0
PRODID:-//https://techplay.jp//JP
CALSCALE:GREGORIAN
METHOD:PUBLISH
X-WR-CALDESC:Scala勉強会第215回 in 西新宿
X-WR-CALNAME:Scala勉強会第215回 in 西新宿
X-WR-TIMEZONE:Asia/Tokyo
BEGIN:VTIMEZONE
TZID:Asia/Tokyo
BEGIN:STANDARD
DTSTART:19700101T000000
TZOFFSETFROM:+0900
TZOFFSETTO:+0900
TZNAME:JST
END:STANDARD
END:VTIMEZONE
BEGIN:VEVENT
UID:657539@techplay.jp
SUMMARY:Scala勉強会第215回 in 西新宿
DTSTART;TZID=Asia/Tokyo:20180207T193000
DTEND;TZID=Asia/Tokyo:20180207T210000
DTSTAMP:20260421T063310Z
CREATED:20180202T141331Z
DESCRIPTION:イベント詳細はこちら\nhttps://techplay.jp/event/65753
 9?utm_medium=referral&utm_source=ics&utm_campaign=ics\n\n初心者・初
 学者大歓迎！\n「Scalaってなに？」「来月から、会社で
 Scalaのプロジェクトが始まるんだけど・・」「Scalaを覚
 えたい！」\nそんなあなた！大歓迎です！！\nScala勉強
 会では、最初の３０分を初心者向けの質問タイムに当
 てています。Scalaについての素朴な疑問や「今更こん
 なこと聞けない(>_<)」という質問も大丈夫！なんでも
 聞いてください！\nまた、後半の発表タイム以降でも
 随時、どんな質問や発言も大歓迎！もちろん発表も！\
 nあなたの参加によって勉強会が加速します。(^_^)v\n資
 料\n\nrpscalaのギッター 聞きたいことがあれば、ここで\
 nWiki よくある質問集など\n\n途中からでも大丈夫！\n開
 催は、19:30からですが、途中入退場自由です！\n仕事や
 いろんな都合で遅れる方も、是非お気軽にご参加くだ
 さい。(^^)\nまた、遠隔地の方や用事が入って会場に来
 れない場合は、ハングアウト参加も可能です。\nhttps://
 hangouts.google.com/call/1VQJufgLwRmmsavcpzDdAAEM から参加して下
 さい。\n概要\nScala関係なら何でもありの勉強会です。\
 n西新宿の株式会社セプテーニ・オリジナルの会議室で
 開催します。\nサブテーマ\n今回のサブテーマは「Scala
 のWebフレームワーク(主にPlay framework)」です。\nサブテ
 ーマは、下に挙げているテーマを順繰り回していくラ
 ウンドロビン方式となっています。\nもし、テーマ決
 めに参加したいという方は、rpscalaのギッターで、主張
 すると多分通ります。必要なのは熱意です！\nまた、
 毎回のrpscalaでもテーマ募集しています。\n現在の候補
 はこんな感じです\nサブテーマ６傑\n\nScalaの言語仕様\n
 ScalaのWebフレームワーク(主にPlay framework)\nScalaで学ぶ関
 数型プログラミング\nScalaで作るウェブサービス\nScala
 でデータ解析\nScalaのHot topics\n\n会場\nアクセス\n\n東京
 メトロ丸ノ内線「西新宿駅」出口1より徒歩３分\n都営
 大江戸線「都庁前駅」出口E5より徒歩６分\nref. http://www
 .septeni-original.co.jp/company/access.html\n\n入場方法\n\n住友不
 動産新宿グランドタワー正面入り口から入りエスカレ
 ーター前、左手のエレベーターで11Fへ\n11Fエレベータ
 ーホールからロゴを正面に右手(通路の突き当たりから
 外が見える方)の一番奥まで移動\n「セプテーニグルー
 プ受付」と書かれたドアより入室\n一番奥の「25 Fansipan
 」会議室へ\n\n※ もし「セプテーニグループ受付」と
 書かれたドアが閉まっていた場合\n\n050-3187-7738 に電話
 をかけてください。※ 転送の都合上、繋がるまでに時
 間がかかります。\n「Scala 勉強会に来ました」とお伝
 えください。会場担当がドアを開錠します。\n\n道に迷
 ったとか何か分からないことがあれば\n\nTwitter でハッ
 シュタグ #rpscala をつけてtweet\nrpscalaのギッター に書き
 込み\n\nもしくは今回参加している人の誰かに助けを求
 めてください。\n会場諸注意\n\n電源及び無線LANが使え
 ますが、万が一に備えてモバイルルーターをお持ちい
 ただいたほうがいいかもしれません。\n会場内では飲
 食可能です。散らかさないでくださいね。\n定員は一
 応15名にしていますが定員に入れなかった人もきてい
 ただいて大丈夫です。 \n\n開催時間\n\n開場：19:15\n開始
 ：19:30\n終了：21:00時位\n\n過去の資料\nScala勉強会では
 、色々ありまして、過去の開催に関する資料があまり
 まとまっていません！(第165回現在)\nそのため、有志に
 よる資料化をお願いしています！(土下座)\n詳細、発表
 者の資料などは rpscalaのギッター に流すようにしてい
 ます。\n勉強会前、勉強会中、勉強会後を問わず、こ
 ちらにて情報を募集しています！\nそしてさらに、rpsca
 laのGithub にまとめた記事をプルリクしてくれる方を熱
 望しています！！！(土下寝)\nGithub & Gitter chat room\nGithub
 : https://github.com/rpscala\nGitter: https://gitter.im/rpscala/rpscala\n
 その他のコミュニケーション\nTwitter\nTwitterハッシュタ
 グ： #rpscala\nTwitterアカウント： @shibuyascala\nメーリング
 リスト\nURL: http://bit.ly/NW0lvI\n発表内容（予定）\n\n\n\n時
 間\n内容\n発表者\n\n\n\n\n19:30～19:35\n自己紹介を簡単に
 。\n全員\n\n\n19:35～前半\nScala入門タイム\n誰か\n\n\n後半
 ～21:00\n自由発表タイム　発表者随時募集中！！！(当
 日でも)\n\n\n\n\n最新情報は勉強会のページをご覧くだ
 さい。\n毎回書いていますが、色々募集中\nScala好きが
 集まって、肩ひじ張らずにゆるく運営している勉強会
 です。\n勉強会は、皆さんの参加で成り立っています
 。質問でも発表でも、会に足を運ぶだけでももちろんO
 K！\n勉強会に参加しませんか？\n「勉強会って何か上
 級者ばっかりでついていけなさそう」\nなんて思って
 いませんか？\nもちろん上級者の方も結構いますが、
 そんな上級者のみなさんも親切に色々教えてくれます
 。初心者は初心者の視点で色々質問をする事が 上級者
 の方にとって「気づき」となる場合も往々にしてあり
 ます。\nという事で、Scalaに興味があるならぜひご参加
 ください。\n自己紹介は、twitter or github or Facebookベース
 に進めます。自己紹介を拡充しておくとウケが取れる
 かも！？\nScalaに入門しませんか？\n会の前半は、Scala
 への入門をテーマにScalaの基本文法や、ライブラリ、
 つまずきやすそうなところの紹介などをします。内容
 は、その場で決めるので、聞きたいテーマがあればリ
 クエストすれば高確率で教えてもらえます。^^\;\n質問
 も随時受け付けます！\nScalaに関することなら何でも誰
 でも質問する時間です。どんどん活用しよう！事前に
 質問内容がわかる人は、このページのコメントやメー
 リングリストに投げておくと回答がスムーズに得られ
 るかもしれません。^^\;\n発表しませんか？\n発表者募
 集中です。初心者大歓迎。← 本当です。\n過去の発表
 者からは\n「自分で発表すると、事前に色々勉強する
 し当日も楽しめる。」\n「色々な人から色んな事を教
 えてもらって勉強になった。」\n「鉞が飛んできて痛
 かったけど、むしろ癖になりそう。」\n\n\n\nなどと、
 喜びの声が多数。\nLTみたいに5分程度でもOKです。色ん
 なレベル、色んな立場の人の色んな意見が出ると色々
 楽しいかなと。以下のようなのでも全く問題なし。\n
 「こんなん作ったけど、ここってどうすればいいか分
 からないので教えて！」\n「このライブラリ面白そう
 だし、みんなでソース読んでみない？」\n「うちの会
 社でScala使ってるけど、こうやるとスムーズに導入で
 きるよ。」\n「Scala導入したら、生産性3倍になったよ
 。赤いロゴってのもポイント高いね。」\n\n\n\nなどな
 ど\n発表表明は、\n\nrpacalaのギッター に投げる\n#rpscala
 をつけてつぶやく\n\nなどで、承っています！\n懇親会
 に参加しませんか？\n勉強の後は、クールダウンが必
 要ですよね？\nScala勉強会では、有志による懇親会がオ
 マケでついています。\nむしろ、懇親会だけ参加する
 人も(!!)。\nその甲斐あってか懇親会参加率最高１２０
 ％を誇ります！ （勉強会参加者全員参加した上に懇親
 会だけ来た人が）\nと言っても、ただの飲み会ですが
 、毎回本編よりも盛り上がったりしてます。ぜひご参
 加ください。
LOCATION:株式会社セプテーニ・オリジナル 東京都新宿区
 西新宿8-17-1(住友不動産新宿グランドタワー11F)
URL:https://techplay.jp/event/657539?utm_medium=referral&utm_source=ics&utm
 _campaign=ics
END:VEVENT
END:VCALENDAR
