BEGIN:VCALENDAR
VERSION:2.0
PRODID:-//https://techplay.jp//JP
CALSCALE:GREGORIAN
METHOD:PUBLISH
X-WR-CALDESC:第18回【初心者向け無料】スッキリわかる!! ブ
 ロックチェーンセミナー｜実利用でサクサク動くmijin(
 ミジン)もご紹介・デモ有り
X-WR-CALNAME:第18回【初心者向け無料】スッキリわかる!! ブ
 ロックチェーンセミナー｜実利用でサクサク動くmijin(
 ミジン)もご紹介・デモ有り
X-WR-TIMEZONE:Asia/Tokyo
BEGIN:VTIMEZONE
TZID:Asia/Tokyo
BEGIN:STANDARD
DTSTART:19700101T000000
TZOFFSETFROM:+0900
TZOFFSETTO:+0900
TZNAME:JST
END:STANDARD
END:VTIMEZONE
BEGIN:VEVENT
UID:658041@techplay.jp
SUMMARY:第18回【初心者向け無料】スッキリわかる!! ブロ
 ックチェーンセミナー｜実利用でサクサク動くmijin(ミ
 ジン)もご紹介・デモ有り
DTSTART;TZID=Asia/Tokyo:20180226T150000
DTEND;TZID=Asia/Tokyo:20180226T170000
DTSTAMP:20260425T114506Z
CREATED:20180206T020932Z
DESCRIPTION:イベント詳細はこちら\nhttps://techplay.jp/event/65804
 1?utm_medium=referral&utm_source=ics&utm_campaign=ics\n\n第18回【初
 心者向け無料】スッキリわかる!! ブロックチェーンセ
 ミナー｜実利用でサクサク動くmijin(ミジン)もご紹介・
 デモ有り\n\n概要\n\n好評につき今月も開催します。\n\n2
 017年はついにmijinブロックチェーンも実利用事例を発
 表できました。\n★ 日本初！ジビエ食肉流通トレーサ
 ビリティにmijinブロックチェーンを本採用\n関連リンク
 ：http://mijin.io/ja/985.html\n\n2018年は異なるブロックチェ
 ーン技術をつなぐユースケースにも関心が集まりそう
 です。\n★ 世界初！mijinとHyperledger Fabricを連携。 ジャ
 パンネット銀行とテックビューロが、契約書締結過程
 でのブロックチェーン適用を検証開始\nhttp://mijin.io/ja/1
 367.html\n\n話題のmijin/NEMブロックチェーン技術「マルチ
 シグ」のデモも併せ、ブロックチェーンのいろはから
 ご紹介するセミナーです。本セミナーは実際にブロッ
 クチェーン技術の導入を検討されている法人様が対象
 となります。\n\n本セミナーは「価値のインターネット
 」と言われるブロックチェーン技術をわかりやすくご
 紹介。どう使えばユーザー体験や社会が変わるような
 仕組みとして活用する事が出来るかをご提案いたしま
 す。\n\n得た知識は明日使える”初心者限定のブロック
 チェーンセミナー”です。\nカジュアルな雰囲気で開
 催しますので、どうぞお気軽にお越しください。\n\n\n\
 n☆初歩的なご質問も大歓迎、こんな方にご参加をお勧
 めします☆\n\n\nブロックチェーン入門レベルの方\n新
 規事業開発や、事業企画部門の方\n年下のエンジニア
 の部下と最新テクノロジーについて話をしたいが勉強
 する時間がなかなか取れないシニア・マネージメント
 の方\nシェアリングエコノミーなど、次世代消費活動
 に関心の高い方\n新しいテクノロジー動向を常におさ
 えておきたい方\n非エンジニア、非IT情報システム部門
 の方\n\n\n\nタイムスケジュール\n\n　（受付）　14:45-15:0
 0\n\n　 1. 「ブロックチェーン」について理解する 15:00
 から\n\n・非エンジニアの方向けに、日常よく使われる
 ”経費精算システム”と”Excel”を例にとり、ICTシス
 テムとデータ管理に触れながらブロックチェーンの特
 性をご紹介します。\n\n　 2. 「ブロックチェーン」事
 例紹介\n\n・本人確認がスマホでOK!! ・中間業者不要の
 シェアリングエコノミー ・トレーサビリティーを安く
 構築 ・地域通貨やトークンの流通が広域・活性化 ・
 フラット化した効率的な消費社会 これらの事例を参考
 に、ブロックチェーンがどのように使われているかを
 ご紹介します\n\n　 3. mijin(ミジン)ブロックチェーンの
 ご紹介\n\n・マルチシグのデモをご紹介します。\n\n　 4
 . 個別相談（事前予約制）17:00より\n\n・実際に業務上
 の課題を抱えておられ、ブロックチェーンでの解決を
 検討されている方は、ぜひ遠慮なくご相談ください。\
 n※ 当日予告なく時間配分・内容が変更になる可能性
 がございます。\n\n\n\n持ち物\n\n名刺２枚\n\n※ 受付時
 にお渡し下さい。\n\n参加費\n\n【無料】\n\nお問い合わ
 せ\n\n主催社：　テックビューロ株式会社　セミナー事
 務局\n\nイベントに関するお問い合わせはこちらからお
 願いします。\n\n注意事項\n\n本セミナーは実際にブロ
 ックチェーン技術の導入を検討されている法人様が対
 象となります。\n会社名、フルネーム、会社メールア
 ドレスの御記載がない個人の方のご参加は、誠に勝手
 ながらご遠慮頂いております。\nまたインターネット
 等で会社名やホームページが確認できないお申し込み
 は、全てお断りをしております。事前にご了承くださ
 い。\n\n欠席される場合は、お手数ですが速やかにキャ
 ンセル処理をお願い致します。\n
LOCATION:東京都内（大手町）会場は抽選に当たった方にお
 知らせします。 東京都千代田区
URL:https://techplay.jp/event/658041?utm_medium=referral&utm_source=ics&utm
 _campaign=ics
END:VEVENT
END:VCALENDAR
