BEGIN:VCALENDAR
VERSION:2.0
PRODID:-//https://techplay.jp//JP
CALSCALE:GREGORIAN
METHOD:PUBLISH
X-WR-CALDESC:第2回フロントエンドもくもく寺@オンライン
X-WR-CALNAME:第2回フロントエンドもくもく寺@オンライン
X-WR-TIMEZONE:Asia/Tokyo
BEGIN:VTIMEZONE
TZID:Asia/Tokyo
BEGIN:STANDARD
DTSTART:19700101T000000
TZOFFSETFROM:+0900
TZOFFSETTO:+0900
TZNAME:JST
END:STANDARD
END:VTIMEZONE
BEGIN:VEVENT
UID:658077@techplay.jp
SUMMARY:第2回フロントエンドもくもく寺@オンライン
DTSTART;TZID=Asia/Tokyo:20180210T120000
DTEND;TZID=Asia/Tokyo:20180210T180000
DTSTAMP:20260422T162552Z
CREATED:20180206T061506Z
DESCRIPTION:イベント詳細はこちら\nhttps://techplay.jp/event/65807
 7?utm_medium=referral&utm_source=ics&utm_campaign=ics\n\nSlack上でで
 やりとりしながらフロントエンド関連でもくもくする
 会です。\n途中参加・退場OK！\n参加される方へ\n事前
 にこちらから、Slackへの参加をお願いします。\nhttps://i
 nfinite-badlands-25460.herokuapp.com/\n(Slack のドメインは 'fronten
 d-temple' です)\nスケジュール\n\n13:00 自己紹介、やるこ
 と報告\n18:00 やったこと報告\n\n準備するもの\nもくも
 くするもの\n場所\nお好きなところでどうぞ！
LOCATION:オンライン
URL:https://techplay.jp/event/658077?utm_medium=referral&utm_source=ics&utm
 _campaign=ics
END:VEVENT
END:VCALENDAR
