BEGIN:VCALENDAR
VERSION:2.0
PRODID:-//https://techplay.jp//JP
CALSCALE:GREGORIAN
METHOD:PUBLISH
X-WR-CALDESC:【東京】LINE Login 超入門 Node.js編
X-WR-CALNAME:【東京】LINE Login 超入門 Node.js編
X-WR-TIMEZONE:Asia/Tokyo
BEGIN:VTIMEZONE
TZID:Asia/Tokyo
BEGIN:STANDARD
DTSTART:19700101T000000
TZOFFSETFROM:+0900
TZOFFSETTO:+0900
TZNAME:JST
END:STANDARD
END:VTIMEZONE
BEGIN:VEVENT
UID:660452@techplay.jp
SUMMARY:【東京】LINE Login 超入門 Node.js編
DTSTART;TZID=Asia/Tokyo:20180314T190000
DTEND;TZID=Asia/Tokyo:20180314T213000
DTSTAMP:20260425T023458Z
CREATED:20180221T021903Z
DESCRIPTION:イベント詳細はこちら\nhttps://techplay.jp/event/66045
 2?utm_medium=referral&utm_source=ics&utm_campaign=ics\n\n今回のテー
 マ\nこのイベントは全員参加型のハンズオン型の勉強
 会で、各自ノートPCをお持ちいただいて開発を実際に
 おこなっていきます。コンテンツはあらかじめ準備さ
 れており、各ステップを解説しながら進めていきます
 。レベルは初級者の方々を対象としています（Javascript
 \, Node.jsの基本的な知識は必要）。\n今回のテーマは「L
 INE Login 超入門 Node.js編」です。自分のWebサービスにLINE
  Loginを組み込むことにより、LINEユーザーであれば新た
 にIDやパスワードを設定せずとも自社サービスにサイ
 ンアップしてもらうことができ、認証の仕組みをLINEに
 任せることができます。\n\n\n\n\nまた、サインアップし
 たユーザーに自動的にBotを友だち追加してもらうこと
 ができ、ユーザーにLINEで能動的にコンタクトするとい
 う機能もEnjoyできます。\nご参加にあたっては公衆Wifi
 が利用可能なノートPCを携行いただくことと、事前準
 備をおこなっておいていただくことが必要ですのでご
 注意ください！\n対象者・必要なスキル\n\nLINE Loginをゼ
 ロから学びたい人\nJavascript\, Node.jsの基本的な知識があ
 る人\nコマンドラインでの簡単な操作ができる人\n\nア
 ジェンダ\n\nLINE Login Channelの作成\nWebサービスの作成とL
 INE Loginの組み込み\n取得したトークンによるAPIアクセ
 ス\nBotを友だち追加\n\n講師\n中嶋一樹（LINE株式会社）\
 nLINE株式会社のDeveloper Advocateです。LINEのAPIを使ってア
 イデアをカタチにする仕事をしています。\nタイムテ
 ーブル\n\n\n\n時間\n内容\n\n\n\n\n18:30〜\n会場オープン\n\n
 \n19:00〜\nハンズオン\n\n\n20:30〜\n懇親会（任意）\n\n\n21:
 30\n終了\n\n\n\n日時\n2018/3/14 (水) 19:00\n会場\nLINE株式会社
 \nhttps://linecorp.com/ja/company/contact\n当日の持ち物\n\n公衆Wi
 fiが利用可能なノートPC\n(特に会社支給PCの場合、Proxy
 などのセキュリティ措置によって公衆Wifiに接続できな
 いケースがありますので事前にご確認ください)\nLINEが
 インストールされたスマートフォン\n\n事前準備\n\nLogin
  Channel作成にご自身のLINEアカウント（メールアドレス
 ・パスワード）が必要になりますので、こちらのサイ
 トでログインできるかどうかを確認ください\n当日作
 業するノートPCにNode.jsのLTS（最新安定版）をインスト
 ールしておいてください。\nWindows PCの方はPower Shellが
 使えるようにしておくのが望ましいです。\n\n入館方法
 ・受付\n\n新宿ミライナタワー 5Fエントランスに設置し
 た本イベント用の簡易受付で入館手続きをしてくださ
 い\nその際 connpass の本イベントで発行した受付票をご
 提示頂き、受付番号をお伝えください\nスタッフから
 ゲストカードを受け取り頂き、エレベーターで会場と
 なる 15F にお上り下さい\nゲストカードはお帰りの際に
 スタッフに返却願います\n【19:15】に受付はクローズし
 ます。入館手続き上、以後は入館できませんのでご注
 意ください。\n\nその他\n\n会場では WiFi が利用できま
 す\n\nチュートリアル\nhttps://qiita.com/nkjm/items/c8eac296dfee14
 fe5cf7\nSlack (#tokyoと#login-bootcampチャネルに参加してくだ
 さい）\nhttps://goo.gl/iQJjSQ
LOCATION:LINE株式会社 東京都新宿区新宿四丁目1番6号 (JR新
 宿ミライナタワー)
URL:https://techplay.jp/event/660452?utm_medium=referral&utm_source=ics&utm
 _campaign=ics
END:VEVENT
END:VCALENDAR
