BEGIN:VCALENDAR
VERSION:2.0
PRODID:-//https://techplay.jp//JP
CALSCALE:GREGORIAN
METHOD:PUBLISH
X-WR-CALDESC:【働き方改革】3/17(土)Webスキルアップ勉強会
 ＠新宿(実践向けワードプレスの仕組みを徹底解説)
X-WR-CALNAME:【働き方改革】3/17(土)Webスキルアップ勉強会
 ＠新宿(実践向けワードプレスの仕組みを徹底解説)
X-WR-TIMEZONE:Asia/Tokyo
BEGIN:VTIMEZONE
TZID:Asia/Tokyo
BEGIN:STANDARD
DTSTART:19700101T000000
TZOFFSETFROM:+0900
TZOFFSETTO:+0900
TZNAME:JST
END:STANDARD
END:VTIMEZONE
BEGIN:VEVENT
UID:662399@techplay.jp
SUMMARY:【働き方改革】3/17(土)Webスキルアップ勉強会＠新
 宿(実践向けワードプレスの仕組みを徹底解説)
DTSTART;TZID=Asia/Tokyo:20180317T150000
DTEND;TZID=Asia/Tokyo:20180317T163000
DTSTAMP:20260425T205705Z
CREATED:20180304T055014Z
DESCRIPTION:イベント詳細はこちら\nhttps://techplay.jp/event/66239
 9?utm_medium=referral&utm_source=ics&utm_campaign=ics\n\n満員御礼！
 ！\n参加者の満足度が高いと大好評をいただいている
 、株式会社エッグシステムのシステムエンジニア向け
 勉強会です！\n\n\n\n今回は、ワードプレス（WordPress）
 を使ったホームページ制作の実践で役に立つ以下の内
 容を行います！\n\n◎ワードプレスのファイル構成、テ
 ーマ構成を説明\n◎ワードプレスのテーマをカスタマ
 イズする方法・手順を徹底解説\n\n\n今回は実戦形式で
 行うため、事前にローカル環境でワードプレスを動か
 せる環境をご用意ください！\n\n\n\n\n※要注意\n3/17(土)
 のみ、通常とは時間が異なりますのでご注意ください
 。\n『15:00〜16:30』で行います。\n\n\n\nこんな方にオス
 スメです\n\n「ホームページ制作の基礎知識はつけたか
 ら次のステップへ進んで、できることを増やしたい！
 」\n\n「テーマをそのまま使えば一人でもホームページ
 を制作できるようになってきたけど、ユーザの要求を
 聞いてもっと柔軟にホームページを作れるようになり
 たい！」\nなどなど\n\n\nいずれの方も大歓迎です。\nも
 ちろん勉強会自体が初参加、という方も大歓迎です！\
 n\n\n\nエッグシステムの仕事へジョイン！\n\n本内容を
 受けられた方は、ぜひ株式会社エッグシステムと一緒
 に仕事をしましょう！\n\n\n\n【主催】\n株式会社エッグ
 システム\nhttp://eggsystem.co.jp/\n\n\n\n\n\n（１）内容（予定
 ）\n\n１．イントロダクション\n自己紹介\n\n２．ワード
 プレスの構成\nファイル構成、テーマ構成など\n\n３．
 テーマカスタマイズの実践講座\nテーマで使うファイ
 ル、どのphpファイルをカスタマイズするか、など\n\n\n\
 n※注意※\n・PCをご持参ください。\n・ローカル環境で
 ワードプレスを動かせる環境をご準備ください\n\n（２
 ）参加者の声\n\n満足度が高かったという感想を多数い
 ただいています。\nありがとうございます！\n\n\n\n\n\n  
 感想\n\n\n\n\n  【H.Tさん／男性／参加した勉強会：ホー
 ムページ制作 】初心者に対して分かりやすく例を用い
 て説明してくれて、ホームページの基礎知識から制作
 、公開までの流れも詳しく説明していただきました。
 口調も穏やかで質問しやすく、非常に満足できました
 。\n\n\n  【A.K.さん／女性／参加した勉強会：ホームペ
 ージ制作】こんなにお安いお値段でお勉強させていた
 だき、ありがたかったです。ワードプレスは１度諦め
 ていたのですが、またやってみたいと思いました。\n\n
 \n  【S.O.さん／男性／参加した勉強会：ホームページ
 制作】説明がとても丁寧だったのでプログラミングを
 やったことがない人でもホームページ制作の考え方や
 やり方を感覚的に学べると思います。初心者にはとて
 も良かったです。広い範囲をぎゅっと詰め込んだ内容
 でした。\n\n\n  【M.S.さん／男性／参加した勉強会：ホ
 ームページ制作】説明がとても分かりやすかったです
 。これからも勉強していきたいと思いました。\n\n\n  
 【M.H.さん／男性／参加した勉強会：ホームページ制作
 】ワードプレスの注意点で知らない部分を知れたので
 良かったです。\n\n\n  【M.S.さん／女性／参加した勉強
 会：ホームページ制作】少人数で最適なペースで分か
 りやすいです。\n\n\n  【K.W.さん／女性／参加した勉強
 会：ホームページ制作】参加前は心配でしたが、分か
 りやすく楽しめました。また参加したいと思います。\
 n\n\n  【N.O.さん／男性／参加した勉強会：ホームペー
 ジ制作】子テーマを作る理由やその方法は、なんとな
 くしか分かっていなかったので、明確になって良かっ
 たです。満足です。\n\n\n  【K.W.さん／男性／参加した
 勉強会：ホームページ制作】勉強会には初めて参加し
 たのですが、大変ためになりました。また次回も参加
 したいです。時間が足りないくらいでした。\n\n\n  【M.
 S.さん／女性／参加した勉強会：ホームページ制作】
 基礎で飛ばしていたところを再確認できました。他の
 方と一緒に勉強できる機会もとても貴重なのでありが
 たいです。\n\n\n  【Y.N.さん／男性／参加した勉強会：
 ホームページ制作】周囲に相談できる人がいないため
 、流れや用語、業界の実情を教えていただけるだけで
 ありがたいです。\n\n\n  【H.M.さん／男性／参加した勉
 強会：ホームページ制作】興味のある内容だったし、
 分かりやすかったのでとても勉強になった。分野を超
 えて教えていただいてありがたかった。\n\n\n  【S.Kさ
 ん／男性／参加した勉強会：Webマーケティング基礎】
 テーマは"Webマーケティング"でしたが、初心者でも気
 軽に参加しやすい雰囲気が印象的でした。専門的な知
 識の部分も分かりやすく理解できました。\n\n\n  【J.O
 さん／男性／参加した勉強会：Webマーケティング基礎 
 】前半のマーケティングの基礎が普段関わるのことな
 い分野だったので参考になりました。\n\n\n  【R.Kさん
 ／男性／参加した勉強会：Webマーケティング基礎】マ
 ーケティングの本質の理解ができました。具体的な事
 例を挙げて説明していただき、分かりやすかったです
 。\n\n\n  【T.Kさん／男性／参加した勉強会：Webマーケ
 ティング基礎】普段触れない内容で大変参考になりま
 した。より実践的な施策も聞いてみたかったです。\n\n
 \n  【O.Kさん／男性／参加した勉強会：Webマーケティン
 グ基礎 】Webマーケの基礎が知れてよかったです。自分
 のブログで参考にします。\n\n\n  【Y.Oさん／男性／参
 加した勉強会：Webマーケティング基礎 】何となく知っ
 ていたことが明確になりました。\n\n\n  【S.Kさん／男
 性／参加した勉強会：Webデザイン入門 】Webデザインに
 関する事が中心かと思ってましたが、デザインの基本
 的な考え方に関する事で、とても勉強になりました。
 また機会があれば来たいと思います。\n\n\n  【M.Hさん
 ／男性／参加した勉強会：Webデザイン入門 】実際にフ
 リーでWebデザインを仕事としている方の話なので、説
 得力がありました。90分の勉強会なので情報量が多く
 感じましたが、分かりやすかったです。\n\n\n  【S.Sさ
 ん／男性／参加した勉強会：Webデザイン入門 】デザイ
 ンとは？から始まり、今まで考えてこなかった内容に
 ついて知れたのが大変ありがたかったです。\n\n\n  【S.
 Uさん／男性／参加した勉強会：Webデザイン入門 】今
 まで学んできたことを再確認できたこと、デザイナー
 さんの視点からみたデザイン、について学べたのは良
 かったです。\n\n\n  【H.Aさん／男性／参加した勉強会
 ：Webデザイン入門 】デザインについてはまったく知ら
 なかったので、今日来てよかったです。\n\n\n\n\n\n\n注
 意事項\n\n会場がやや分かりにくいため、当日ビルの６
 階へ到着しましたら、主催者へお電話ください。\n 電
 話番号は参加者の方へ事前にご連絡いたします。\n\n\n\
 n\n会場について\n\n〒160-0022\n東京都新宿区新宿4-3-17 FORE
 CAST新宿SOUTH 6階\n\n・東京メトロ『新宿三丁目』駅から1
 分\n・JR・私鉄・都営『新宿』駅から4分\n\n※東京メト
 ロ副都心線・丸ノ内線・都営新宿線『新宿三丁目』駅E
 5\,E7より徒歩1分、JR・小田急線・京王線・都営大江戸
 線『新宿』駅南口より徒歩4分\n\n\n
LOCATION:CROSSCOOP新宿SOUTH6階 東京都新宿区新宿 4−3−17 FOREC
 AST新宿SOUTH6階
URL:https://techplay.jp/event/662399?utm_medium=referral&utm_source=ics&utm
 _campaign=ics
END:VEVENT
END:VCALENDAR
