BEGIN:VCALENDAR
VERSION:2.0
PRODID:-//https://techplay.jp//JP
CALSCALE:GREGORIAN
METHOD:PUBLISH
X-WR-CALDESC:[秋葉原] Vue.js もくもく勉強会 (初心者大歓迎
 ！)
X-WR-CALNAME:[秋葉原] Vue.js もくもく勉強会 (初心者大歓迎
 ！)
X-WR-TIMEZONE:Asia/Tokyo
BEGIN:VTIMEZONE
TZID:Asia/Tokyo
BEGIN:STANDARD
DTSTART:19700101T000000
TZOFFSETFROM:+0900
TZOFFSETTO:+0900
TZNAME:JST
END:STANDARD
END:VTIMEZONE
BEGIN:VEVENT
UID:663050@techplay.jp
SUMMARY:[秋葉原] Vue.js もくもく勉強会 (初心者大歓迎！)
DTSTART;TZID=Asia/Tokyo:20180314T191500
DTEND;TZID=Asia/Tokyo:20180314T220000
DTSTAMP:20260424T155603Z
CREATED:20180307T141754Z
DESCRIPTION:イベント詳細はこちら\nhttps://techplay.jp/event/66305
 0?utm_medium=referral&utm_source=ics&utm_campaign=ics\n\nVue.jsのもく
 もく会\nVue.jsをもくもく勉強する会です。\n参加者が気
 軽に質問出来るような場所を目指しております。\nこ
 れからフロントエンドの開発をしていきたい方も大歓
 迎です。\n希望者がいれば発表やLTも行います。\nもく
 もく会とは\n一つの場所に集まって、各自がやりたい
 こと(勉強したり作業したり本を読んだり)をやる会で
 す。\n家ではどうも集中できない方、集まって作業を
 したい方、知り合いを増やしたい方におすすめです。\
 n是非お気軽にご参加ください。\n希望があれば学習の
 サポートや環境構築などお手伝いいたします。\nスケ
 ジュール\n\n\n\n時間\n内容\n\n\n\n\n18:00 -\n開場\n\n\n19:15 - 
 19:20\n簡単な挨拶＆自己紹介\n\n\n19:20 - 22:00\nもくもくタ
 イム＆成果発表(希望者のみ)\n\n\n\n※会場は18時〜23時
 でご利用いただけます。\n事前に来て作業していただ
 いても構いません。\n参加費\n1000円（会場費）\n持って
 くる物\nPC、作業等に必要なもの（書籍等）\nSlack\nhttps:
 //now-examples-slackin-mswfphbzab.now.sh/\n情報共有にSlackを使用
 します。\n(#js_frontendというchannelです)\n開催場所\nコワ
 ーキングスペース秋葉原 Weeyble（ウィーブル)\nhttp://weey
 ble.com/ \n東京都千代田区神田須田町２丁目１９−２３(
 野村第３ビル４階)\n秋葉原駅電気街口または中央改札
 口より徒歩3分。 都営新宿線 岩本町駅徒歩3分、銀座線
  神田駅6番出口徒歩2分
LOCATION:コワーキングスペース秋葉原Weeyble 東京都千代田
 区神田須田町２丁目１９−２３ (野村第３ビル ４階)
URL:https://techplay.jp/event/663050?utm_medium=referral&utm_source=ics&utm
 _campaign=ics
END:VEVENT
END:VCALENDAR
