BEGIN:VCALENDAR
VERSION:2.0
PRODID:-//https://techplay.jp//JP
CALSCALE:GREGORIAN
METHOD:PUBLISH
X-WR-CALDESC:※限定5社※【3時間で体感するOpen Innovation BootC
 amp Program】勉強会
X-WR-CALNAME:※限定5社※【3時間で体感するOpen Innovation BootC
 amp Program】勉強会
X-WR-TIMEZONE:Asia/Tokyo
BEGIN:VTIMEZONE
TZID:Asia/Tokyo
BEGIN:STANDARD
DTSTART:19700101T000000
TZOFFSETFROM:+0900
TZOFFSETTO:+0900
TZNAME:JST
END:STANDARD
END:VTIMEZONE
BEGIN:VEVENT
UID:665266@techplay.jp
SUMMARY:※限定5社※【3時間で体感するOpen Innovation BootCamp P
 rogram】勉強会
DTSTART;TZID=Asia/Tokyo:20180425T190000
DTEND;TZID=Asia/Tokyo:20180425T220000
DTSTAMP:20260425T142258Z
CREATED:20180322T233402Z
DESCRIPTION:イベント詳細はこちら\nhttps://techplay.jp/event/66526
 6?utm_medium=referral&utm_source=ics&utm_campaign=ics\n\n概要\n\neiicon
 は、スタートアップ企業への支援・投資を行うインキ
 ュベーションのエキスパートであるサムライインキュ
 ベートとタッグを組んで事業会社×スタートアップに
 よる新規事業創造を約3ヶ月間で実現するオープンイノ
 ベーションプログラムを、今春リリースしました。\n
 今回はそのオープンイノベーションプログラムの骨子
 を惜しみなくお伝えし、骨太なオープンイノベーショ
 ンプログラムを各社が実践できるような勉強会を開催
 。\n濃い時間とさせていただくため、限定5社の開催と
 なります。\nぜひご参加検討ください。\n\n☞Open Innovati
 on BootCamp Programに関するプレスリリース\n\n☞Open Innovatio
 n BootCamp Program詳細\n\n\n\n詳細\n\n◆日時4月25日(水)19:00～
 （受付開始18:30）\n\n◆場所　大手町ビル5F\n\n◆アクセ
 ス　大手町駅直結ビル　大手町ビル5F（東京都千代田
 区大手町1-6-1 ）\n\n◆参加費　無料\n\n◆お持ち物　\n\n
 名刺（受付で頂戴致します）\n\n当日スケジュール\n\n18
 :30   受付開始\n\n19:00-19:15 本日のプログラム説明\n\n19:30
 -21:30 　レクチャー・勉強会\n\n21:30-21:30　ネットワーキ
 ング\n\n参加対象\n\n●2018年度　オープンイノベーショ
 ンを実施することが決定しており手法を模索している
 事業会社担当者（限定5社）\n\n講師・登壇者\n\n\n\n▼写
 真右　株式会社サムライインキュベート　\n\nPartner 兼 
 Chief Strategy Officer　長野 英章氏\n\n2010年グルーポン・ジ
 ャパンへ入社。ナショナルクライアントチームの立ち
 上げを行う。2011年Rocket Internetの旅行系C2C事業Wimduの日
 本創業チームの立ち上げマネージャーとして、事業開
 発からPRまでを実施。同年、ダイマーズラボ株式会社
 を創業。複数サービスを立ち上げ、VCや上場企業の創
 業者等から資金調達を実施。2015年、オプトホールディ
 ングとダイマーズラボ株式会社共同で、新規事業の量
 産に特化した新会社「オプトインキュベート」を設立
 し、代表取締役COO就任。エキスパートチームをゼロか
 ら構築し、複数の事業の0→1立ち上げ、大企業との共
 同事業、新規事業立ち上げのコンサルプロジェクトを
 推進。2017年、株式会社サムライインキュベートにPartne
 r & CSOとして入社し、Investment GroupとEnterprise Group（Open In
 novationの推進）の業務を兼任しながらスタートアップ
 と大企業の支援に従事。\n\n▼写真左　eiicon founder 中村
  亜由子\n\n2008年インテリジェンスに入社。正社員の転
 職支援領域における営業を経験する。最速で営業マネ
 ージャーに昇進、約1000名の転職をサポート、MVP他社内
 表彰受賞歴多数。2015年育休中にeiiconを単独起案。0to1
 という社内新規事業制度第1回目で単独＆唯一通過。201
 6年４月に育休から復職後、予算取りに駆け回り7月か
 ら本格的に立ち上げを開始。地の利に関係なく地方含
 めた日本企業のオープンイノベーション実践をアシス
 トするオープンイノベーションのための企業検索プラ
 ットフォームeiicon（エイコン）を担う。\n\n主催\n\nオ
 ープンイノベーションプラットフォーム『eiicon』\n\n\n\
 neiiconへ☞\n
LOCATION:大手町ビル5F　クライアントスペース（パーソル
 キャリア　大手町オフィス内） 〒100-0004 東京都千代田
 区大手町1-6-1 大手町ビル5F　
URL:https://techplay.jp/event/665266?utm_medium=referral&utm_source=ics&utm
 _campaign=ics
END:VEVENT
END:VCALENDAR
