BEGIN:VCALENDAR
VERSION:2.0
PRODID:-//https://techplay.jp//JP
CALSCALE:GREGORIAN
METHOD:PUBLISH
X-WR-CALDESC:SDGs Meetup Vol.4  ～SDGsカードゲーム『SDGs2030』の
 講師、黒井理恵が語るSDGsとは？ 　日本における課題
 とそれに対するアプローチ～
X-WR-CALNAME:SDGs Meetup Vol.4  ～SDGsカードゲーム『SDGs2030』の
 講師、黒井理恵が語るSDGsとは？ 　日本における課題
 とそれに対するアプローチ～
X-WR-TIMEZONE:Asia/Tokyo
BEGIN:VTIMEZONE
TZID:Asia/Tokyo
BEGIN:STANDARD
DTSTART:19700101T000000
TZOFFSETFROM:+0900
TZOFFSETTO:+0900
TZNAME:JST
END:STANDARD
END:VTIMEZONE
BEGIN:VEVENT
UID:665552@techplay.jp
SUMMARY:SDGs Meetup Vol.4  ～SDGsカードゲーム『SDGs2030』の講師
 、黒井理恵が語るSDGsとは？ 　日本における課題とそ
 れに対するアプローチ～
DTSTART;TZID=Asia/Tokyo:20180413T135000
DTEND;TZID=Asia/Tokyo:20180413T170000
DTSTAMP:20260422T011403Z
CREATED:20180325T055215Z
DESCRIPTION:イベント詳細はこちら\nhttps://techplay.jp/event/66555
 2?utm_medium=referral&utm_source=ics&utm_campaign=ics\n\nSDGs Meetup Vol.
 4 ～SDGsカードゲーム『SDGs2030』の講師、黒井理恵が語
 るSDGsとは？日本における課題とそれに対するアプロー
 チ～\n\n\n\nイベント内容\n\n未来技術推進協会主催、第4
 回SDGs説明会、『SDGs Meetup Vol.4』の開催が決定しました
 。\n今回は、20年以上にわたり国際協力・開発分野に関
 わり、2012年には、SDGsの方針を固めた、国連持続可能
 開発会議にも参加した経験を持ち、現在ではSDGsカード
 ゲーム「SDGs2030（えすでぃーじーず　にいぜろさんぜ
 ろ）」のインストラクターとしてもご活躍中の、株式
 会社Dkdo取締役 黒井理恵様をゲストとしてお招きして
 おります。\n\nSDGsとは、地球規模の経済、環境、社会
 面の問題を解決するために、2015年に世界共通の目標と
 して国連が定めた、持続可能な開発目標のことです。2
 030年をゴールとして、世界的な優先課題とあるべき姿
 を提示しており、17の目標と169のターゲットから構成
 されています。\n\nSDGsの特徴は、国家だけではなく、
 企業が明確なプレーヤーとして位置付けられているこ
 とです。企業にとっては、SDGsへの貢献を目指すことで
 、事業の課題発見につながり、 その課題への戦略を考
 える事で、市場開拓、企業価値の向上、ステークホル
 ダーの連携強化などにつながると言われています。で
 すが、国内では、まだまだ具体的な取り組みを行って
 いる企業が少ないのが現状です。\n\n今回は、ゲストス
 ピーカーの黒井理恵様の豊富なご経験に基づくお話や
 、本協会講師の北畑によるSDGs推進への取り組みの説明
 会を通し、SDGsの理解を深めつつ、目標達成に向かうア
 プローチを考えてまいります。\n\n説明会後には、協会
 講師の阿部による、協会オリジナルボードゲームを体
 験して頂く予定です。\n本ボードゲームでは、SDGsの理
 解をより深めるだけでなく、企業として、個人として
 我々が何をできるかを共に考えることができる仕様と
 なっております。ボードゲームを通じて、SDGsの本質を
 体験からつかみ、ビジネスや世界の変化を共に学び、S
 DGsがなぜ必要であるのかを、共に考えていきましょう
 。\n\n私たち未来技術推進協会は、企業や専門を超えた
 20代-30代の若手研究者・技術者を中心とした団体であ
 り、企業や団体と連携し、SDGsの推進や日本の技術革新
 に貢献してまいります。 \nまた、私たちは、共に、社
 会課題を解決し、技術革新に貢献するパートナーを募
 集しております。\n\n\n個人で社会問題に取り組むきっ
 かけにしたい！\n企業のSDGs活動導入の一環にしたい！\
 nといった方、大歓迎です。\n\n\n誰でも楽しめるものに
 なっていますのでお気軽にご参加ください。\n\nなお、
 当日は懇親会の時間も準備してございますので、 協会
 の活動について気になる方も、ざっくばらんにお話で
 きればと思います。 \n\nタイムスケジュール\n\n\n\n\n  
 時間\n  内容\n\n\n\n\n  13:50〜\n  受付開始\n\n\n  14:00〜\n  
 ゲストスピーカー黒井様　〜SDGs説明会スタート〜\n\n\n
   14:30〜\n  協会説明会\n\n\n  15:00〜\n  ボードゲーム\n\n\n
   16:30　\n  懇親会\n\n\n  17:00　\n  終了\n\n\n\n\n\n\n参加対
 象\n\nSDGs、最先端技術にご興味のある方なら、どなた
 でも参加できます。\n\n持ち物\n\n名刺を1枚お持ちくだ
 さい。\n\n※ 受付時にお渡し下さい。\n\n参加費\n\n当日
 現金払い　3\,000円\n\n※ 未来技術推進協会の有料個人
 会員 になっていただくと、講演会(参加費3000円)・アイ
 デアソン・SDGs Meetupが1年間、全て無料で参加できます
 ！\n年会費は1万円となります。この機会にぜひご登録
 ください。\n\n企画・運営\n\n一般社団法人　未来技術
 推進協会 \n\n私たち未来技術推進協会は、企業や専門
 を超えた20代-30代の若手研究者・技術者を中心とした
 団体です。\n大学研究者、企業、投資家、新しい技術
 に興味を持つ社会人・学生からなるコミュニティーを
 形成し、社会課題をテクノロジーで解決することを目
 的としています。\n\n今後も、将来の日本を担う最先端
 技術を世の中に発信し、特にSDGsをテクノロジーで解決
 すべく、コミュニティー形成に取り組んでまいります
 。\n\nURL\nhttps://future-tech-association.org/\n\nスピーカー：黒
 井理恵（くろい・りえ）\n\n\n株式会社DKdo取締役\n静岡
 県立大学国際関係学部卒業後、出版社、CSRコンサルタ
 ントを経て、2014年に出身地の北海道名寄（なよろ）市
 にUターン。\n現在は第一回「ジャパンSDGsアワード内閣
 総理大臣賞」を受賞した、北海道下川町を中心とした
 自治体の地域活性・地方創生や、東京企業の組織開発
 ・人材開発に携わる。\nSDGsの方針が固められた、2012年
 の国連持続可能開発会議（リオデジャネイロ開催）に
 も市民セクター代表団の一員として参加した経験をも
 ち、20年以上国際協力・開発分野と関わりを持ち続け
 ている。\n現在はSDGsカードゲーム「SDGs2030（えすでぃ
 ーじーず　にいぜろさんぜろ）」のインストラクター
 としても活躍中。\n\n協会スピーカー：北畑（きたはた
 ）\n大阪大学を卒業後、某自動車メーカーに就職。\nそ
 の後転職し自動運転開発に携わり、製品企画、基盤開
 発を担当。\n現在はエンジニアとして活躍する一方、
 未来技術推進協会の企画部隊を担当。\n持続可能な社
 会に向けた普及事業に取り組み、アイデアソン企画、S
 DGs Meetupのプロデューサーなどを務める。\n\nSDGs Board Gam
 e 講師：阿部（あべ）\n東京大学を卒業後、某大手電気
 メーカーに就職。\nその後転職しSEとして様々な技術を
 学ぶ。\n現在はエンジニアとして活躍する一方、未来
 技術推進協会のゲーム企画部隊リーダーを担当。\nSDGs
 活動を擬似体験可能なゲームを開発中。\n\n会場\n\n会
 場：株式会社カドベヤ\n住所：渋谷区神南1-7-9 北谷マ
 ンション301\nURL：https://goo.gl/maps/2wa3XbX2MtM2\n\nお問い合
 わせ\n\n一般社団法人　未来技術推進協会 \n代表理事　
 草場 \nTel：090-4486-4854\nMail：s-kusaba@extrafuture-tech.com\n\n注
 意事項\n\nリクルーティング、勧誘、採用活動、人の話
 を聞かないなど、目的に沿わない行為につきまして、
 主催者が相応しくないと判断した場合は即刻退出処分
 とします。全員が気持ちよく過ごすことが出来るよう
 、ご協力をお願い致します。\n
LOCATION:株式会社カドベヤ 渋谷区神南1-7-9 北谷マンショ
 ン301
URL:https://techplay.jp/event/665552?utm_medium=referral&utm_source=ics&utm
 _campaign=ics
END:VEVENT
END:VCALENDAR
