BEGIN:VCALENDAR
VERSION:2.0
PRODID:-//https://techplay.jp//JP
CALSCALE:GREGORIAN
METHOD:PUBLISH
X-WR-CALDESC:UnityでスマホVR制作を楽しむ！ VR・AR開発業界
 トレンド解説
X-WR-CALNAME:UnityでスマホVR制作を楽しむ！ VR・AR開発業界
 トレンド解説
X-WR-TIMEZONE:Asia/Tokyo
BEGIN:VTIMEZONE
TZID:Asia/Tokyo
BEGIN:STANDARD
DTSTART:19700101T000000
TZOFFSETFROM:+0900
TZOFFSETTO:+0900
TZNAME:JST
END:STANDARD
END:VTIMEZONE
BEGIN:VEVENT
UID:667089@techplay.jp
SUMMARY:UnityでスマホVR制作を楽しむ！ VR・AR開発業界トレ
 ンド解説
DTSTART;TZID=Asia/Tokyo:20180418T190000
DTEND;TZID=Asia/Tokyo:20180418T210000
DTSTAMP:20260420T110223Z
CREATED:20180403T042721Z
DESCRIPTION:イベント詳細はこちら\nhttps://techplay.jp/event/66708
 9?utm_medium=referral&utm_source=ics&utm_campaign=ics\n\n\n\nUnityでス
 マホVR制作を楽しむ！VR・AR開発業界トレンド解説\n\nセ
 ミナー概略\n\n\n\nプロモーション、イベントで大人気
 のスマホVRビューアーを作りましょう！ソースコード
 や各種解説資料配布なので初心者でも安心です！\n\n　
 \n\nVR元年と言われた2016年を境に進化を続け、盛り上が
 りを見せ続けるAR・VR業界。\n本セミナーでは、現場を
 統括している開発エンジニアがAR・VR開発の基礎知識か
 ら最新技術、トレンドラインについて楽しく解説しま
 す。また、プログラミング初学者でも簡単にVRの開発
 ができる、サンプルプロジェクトを使ってライブ開発
 の実演をします。（Unityデータ・チュートリアル動画
 を提供！）その後のもくもく会では皆さんと一緒に、
 開発を楽しみたいと思いますのでぜひご参加ください
 。\n\n開催概要\n\n\n\nセミナー第1部\n\n\n    VR開発事例・
 ノウハウ紹介　19:00～20:00（18:45開場）\n・イベントや
 コンサートなどでのVRアプリ開発の事例、海外オフシ
 ョア開発事情の紹介\n・さまざまなＶＲ端末の最新動
 向、開発に必要な基礎知識/技術・環境\n・お仕事や趣
 味でＶＲをはじめる方からの質問にどんどんお答えし
 ます。\n※商用アプリの企画開発に活用できる開発デ
 ータ、動画解説資料をご提供！ \n\n\n\n\nセミナー第2部\
 n \n\n    VRプログラミング への誘い　20:00～20:30\n・VRア
 プリのプログラミングを実演・解説します。ノンプロ
 グラマーや初学者のためにプログラミングの基礎知識
 やエッセンスについても毎回テーマを変えてご紹介し
 ます。\n※ハンズオン講座ではありませんので、ＰＣ
 が無くても参加歓迎です。\n\n\nもくもく会・交流会\n\n
 \n20:35～21:00\n参加費 無料　参加自由\n・楽しく、みん
 なで開発しましょう。アプリ開発に関して講師がアド
 バイスをします。　\n※通信環境は各自ご用意くださ
 い。\n\n\n\n会場\n\n株式会社クリーク･アンド･リバー
 社　麹町制作ルーム\n〒102-0082\n東京都千代田区一番町8
 番地　住友不動産一番町ビル５F\n\n\n\n\n\n\n登壇者\n\n\n\
 n五味渕 弘毅氏\n\n株式会社ミックスインターナショナ
 ルコミュニケーションズ　エンジニア\n\n\n家庭の事情
 でファミコンが買えずにPC8801でゲームを作るところか
 らはじまり、組み込みエンジニア、スマホアプリエン
 ジニア、プロジェクトマネージャー、プログラミング
 講師として活動。\n最近は、Unityでのイベント・ビジネ
 スアプリの開発や、AR\,VRアプリの企画開発に携わる他
 、IoT開発で盛り上がる組み込み業界に出戻りで関わり
 始め、時代の移り変わりを感じている。\n\n\nこんな方
 におすすめ\n\n\nゲーム、３ＤＣＧやＷｅｂサービスの
 開発・制作に携わるエンジニア・クリエイター\nＶＲ/
 ＡＲイベント、ITメディア、アプリ開発、関連ビジネ
 スをお考えのプロデューサー、ディレクター\nWeb、ア
 プリ業界への就職・転職に関心がある、業界未経験者\
 n(アプリ開発未経験の方も歓迎です。)\n\n\n無料で開発
 が始められるゲームエンジン「Unity」について\n\nVR、AR
 の様々なデバイス開発に対応しています。3DCGを活用し
 たスマホゲームアプリの制作現場ではもっとも採用さ
 れています。\nVRやARの様々なデバイス開発でも業界標
 準の開発ツールです。\n開発をスムーズに始めるため
 のデータ配布サイト（アセットストア）や、独学のた
 めの情報が豊富にあり、これからVR開発を始める方に
 もおすすめです。\n\n\n\n\nUnity制作事例動画はこちら\n\n
 こちらの動画はUnityのアセットストアにあるフリー素
 材です。このようなパッケージプランを使い、１から
 全て制作しなくても素材をダウンロードするだけで、
 簡単にキャラクターを踊らせたり質の高いものが作れ
 ます。\n\nUnity公式サイトはこちら\n\n\n\n持ち物\n\nUnity
 をダウンロードしたノートPC（必須ではありません）\n
 無線環境をお持ちいただくことをオススメします。\n
 　\n\nお問い合わせ\n\n株式会社クリーク･アンド･リ
 バー社\nデジタル･コミュニケーション･グループ\nリ
 クルーティング・セクション\nEmail：cr_training@hq.cri.co.jp
 \nTEL：03-4550-0003\n\n12月9日のセミナー　体験レポート\n\n
 こんにちは。３Dの作品が作れたらいいなあと思ってい
 るUnity初心者のタナベと申します。私は前回出席させ
 て頂きましたので、簡単に講座の内容をレポートをさ
 せて頂きます！\n\nVRアプリ開発の技術トレンド、業界
 裏話\n\n\n\n講師の五味渕先生は商用アプリの開発経験
 が豊富で、Unityの開発だけでなく、大手有名企業との
 タイアップ事例や、予算の話など業界裏話、オフショ
 ア開発事情の体験談が楽しめました。\n\n\n\nフラット
 な語り口でとてもわかりやすい内容でした。質問にも
 丁寧かつ的確に対応していただけますので、出席者か
 らの質問が絶えず、満足度も高かったと思います。こ
 れからVR関連のビジネスを考えていらっしゃる方にも
 オススメの楽しい講義内容ですよ！\n\nUnityアプリ開発
 実演\n\n開発実演は、VR静止画、AR動画、VR動画のアプリ
 ３点を制作していきます。全てスマホで遊べる作品で
 す。\n\nUnityのプログラミングのソースコードの説明は
 ありますが、一切触らなくてもオリジナルアプリの制
 作はできますので、経験がない方でも入りやすい内容
 になってます。\n\n次回はチュートリアルの動画配布を
 いただけるとのことなので、自習で作業をトレースで
 きるようになってます！プランナー、営業、デザイナ
 ーの方もオススメですね。\n\n無料参加可能ＯＫのもく
 もく会では開発をすぐにすすめることができます。Unit
 yをダウンロードしたノートPCをお持ちになることをオ
 ススメします。（なくても参加可能です）\n\n私はかな
 りの初学者でしたが、告知でご紹介したユニティーち
 ゃんというキャラクターを踊らせることができるよう
 になりました。AR動画にも手を加えてたりしていじっ
 てみたいです。\n\n\n\nこちらは開発環境。ARを作業して
 います。adobeみたいなUIです。一見難しそうに感じます
 が、動画資料も配布なのでどなたでもトレースできま
 す。\n\n\n\n\n\n\n\n前回は別の畑のエンジニアからディレ
 クター系、学生、クリエイター系など様々な方がいら
 っしゃっていたので、それぞれの立場からの質疑応答
 あり勉強になりました。初学者は質問をするのに尻込
 みしがちですが、とても楽しかったです。\n\nこれから
 アプリ開発を始めたい方にとっては内容が至れり尽せ
 りなので、個人的にはこれで3000円はかなりお得だと思
 います！ぜひ楽しんで学んでください！\n
LOCATION:株式会社クリーク･アンド･リバー社　麹町制作
 ルーム　５F　大会議室  東京都千代田区一番町8番地　
 住友不動産一番町ビル
URL:https://techplay.jp/event/667089?utm_medium=referral&utm_source=ics&utm
 _campaign=ics
END:VEVENT
END:VCALENDAR
