BEGIN:VCALENDAR
VERSION:2.0
PRODID:-//https://techplay.jp//JP
CALSCALE:GREGORIAN
METHOD:PUBLISH
X-WR-CALDESC:【増枠！】LIFULL.apk #2 - Re: Google I/O 2018
X-WR-CALNAME:【増枠！】LIFULL.apk #2 - Re: Google I/O 2018
X-WR-TIMEZONE:Asia/Tokyo
BEGIN:VTIMEZONE
TZID:Asia/Tokyo
BEGIN:STANDARD
DTSTART:19700101T000000
TZOFFSETFROM:+0900
TZOFFSETTO:+0900
TZNAME:JST
END:STANDARD
END:VTIMEZONE
BEGIN:VEVENT
UID:667758@techplay.jp
SUMMARY:【増枠！】LIFULL.apk #2 - Re: Google I/O 2018
DTSTART;TZID=Asia/Tokyo:20180523T190000
DTEND;TZID=Asia/Tokyo:20180523T213000
DTSTAMP:20260424T100326Z
CREATED:20180406T101723Z
DESCRIPTION:イベント詳細はこちら\nhttps://techplay.jp/event/66775
 8?utm_medium=referral&utm_source=ics&utm_campaign=ics\n\nイベント概
 要\n本イベントは Google I/O 2018 で得た知見を共有し合う
 勉強会です。\n\nセッションで得た知識をシェアしたい
 \nセッションの復習をしたい\n実は講演者とこんなお話
 をしたので共有したい\nお気に入りのセッションにつ
 いて熱く語りたい\nあのトークのココがわからなかっ
 た！意見交換がしたい\nセッションで得た知見を活か
 してうまくいった or いかなかったことを共有したい\n
 上記に当てはまる方、Google I/O 2018 に行かれた方も行か
 れなかった方も、お気軽にご参加ください。\n\n今回は
 、Google I/O 2018に参加した弊社エンジニアによる報告に
 併せ、\nGoogle JapanからLe Viet Gia Khanh氏をゲストスピーカ
 ーに招き、Google I/O 2018にて発表された内容について話
 していただく予定です。\nまた、報告会の後の懇親会
 はAndroidエンジニア同士のコミュニケーションとしても
 ご活用ください。 \nその他にも、Google I/Oのお土産も確
 保できれば、抽選形式でプレゼントしたいと考えてお
 ります！\nLIFULL IPPON GRANDPRIX\nGoogle I/Oお土産付き(今年限
 定のアイテムもあり) Twitter大喜利企画です！\n以下の
 リンクから、たくさんの回答をお待ちしております！\
 nhttps://goo.gl/U8XN1P\nタイムテーブル\n\n\n\n時間\nタイトル
 \n登壇者\n\n\n\n\n19:00 -\n開場・受付\n\n\n\n19:30 - 19:40\nご
 挨拶・ご案内\n\n\n\n19:40 - 19:50\nGoogle I/O 2018 Report\n崔 賀
 植(チェ ハシク)\n\n\n19:50 - 20:00\nGoogle I/O 2018振り返りとA
 R技術\n衛藤 剛史( @doramusukotake )\n\n\n20:00 - 20:15\nFirebase 
 アップデートのまとめ\nDeveloper Advocate @ Google Japan  Le Vie
 t Gia Khanh氏\n\n\n20:15 - 20:45\n休憩・懇親会①\n\n\n\n20:45 - 2
 0:50\n[Google I/O 2018 Highlights] Sandbox\nKenichi Kambara  (korodroid) 
 \n\n\n20:50 - 20:55\nNavigation\nkosuke matsumura  (kosuke_matsumura_9) \
 n\n\n20:55 - 21:00\nGoogle Assistant\nmasatoshiitoh (masatoshiitoh) \n\n\
 n21:00 - 21:30\n懇親会②\n\n\n\n21:30 -\n解散&撤収\n\n\n\n\nゲ
 ストスピーカー\nLe Viet Gia Khanh @ Google Japan\n日本と韓国
 のデベロッパーが Google 最新技術を活用して頂けるよ
 うに、技術支援の仕事をしています。\n主な担当領域
 は、Firebase、Android Instant Apps などのモバイルアプリ関
 連技術です。\n登壇者\n衛藤 剛史 @ 株式会社LIFULL\n2014
 年中途入社。\nLIFULL HOME'SのAndroidアプリ開発及びバック
 エンドAPIの開発・運用を担当。\n最近はMachine Learningに
 関連したPJにも携わっている。\n趣味はドラム。\n崔 賀
 植(チェ ハシク) @ 株式会社LIFULL\n2017年中途入社。\nLIFUL
 L HOME’SのAndroidアプリの開発を担当。\n趣味は写真撮影
 。\n懇親会\nドリンクや軽食をご用意いたしております
 。 技術交流の場として、ぜひご活用ください。\n会場
 について\n 株式会社LIFULL  東京都千代田区麹町1-4-4\n\n
 半蔵門線 半蔵門駅 3a出口より徒歩2分\n有楽町線 麹町
 駅 3出口より徒歩6分\n\nLIFULLビルに入館後、8Fまでいら
 してください。 8Fに受付がございますので、係りの者
 にご自身のお名前または、ConnpassIDをお伝えください。
  入館証をお渡しさせていただきます。\nLT\n5分間のLTを
 していただけるスピーカーを募集しています。Google I/O
  2018で発表された内容に関することであればテーマは
 自由です。\n発表希望者の方は申し込み時にタイトル
 宣言していただくか、決まり次第このページ下部の「
 フィード」欄にてタイトルをお知らせ頂けると幸いで
 す。\n過去にどのようなLTが行われたかは下記をご覧く
 ださい。\n\nLIFULL.apk #1\n\nその他\n下記のご用意をして
 おります。 数に限りがあるものがございますので、ご
 注意ください。\n\nWi-Fi\n電源タップ\n\nイベント趣旨に
 そぐわないと判断した場合、参加をご遠慮いただくこ
 とがあります。
LOCATION:株式会社LIFULL 東京都千代田区麹町１丁目４−４
URL:https://techplay.jp/event/667758?utm_medium=referral&utm_source=ics&utm
 _campaign=ics
END:VEVENT
END:VCALENDAR
