BEGIN:VCALENDAR
VERSION:2.0
PRODID:-//https://techplay.jp//JP
CALSCALE:GREGORIAN
METHOD:PUBLISH
X-WR-CALDESC:コンサルと学ぶ!Oracle最新技術 #2
X-WR-CALNAME:コンサルと学ぶ!Oracle最新技術 #2
X-WR-TIMEZONE:Asia/Tokyo
BEGIN:VTIMEZONE
TZID:Asia/Tokyo
BEGIN:STANDARD
DTSTART:19700101T000000
TZOFFSETFROM:+0900
TZOFFSETTO:+0900
TZNAME:JST
END:STANDARD
END:VTIMEZONE
BEGIN:VEVENT
UID:668083@techplay.jp
SUMMARY:コンサルと学ぶ!Oracle最新技術 #2
DTSTART;TZID=Asia/Tokyo:20180423T183000
DTEND;TZID=Asia/Tokyo:20180423T200000
DTSTAMP:20260420T165332Z
CREATED:20180409T045612Z
DESCRIPTION:イベント詳細はこちら\nhttps://techplay.jp/event/66808
 3?utm_medium=referral&utm_source=ics&utm_campaign=ics\n\nコンサルと
 学ぶ!Oracle最新技術 #2\n\n概要\n\nOracleコンサルタントの
 働き方にご興味のある方必見！\n\n現在、Oracleコンサル
 タントとして一緒に活躍したい方を募集しております
 。\n採用イベントの一環として4月から複数回にわたり
 、\n現役コンサルが働き方やOracle最新技術に関してセ
 ッション／座談会を行います。\nOracleコンサルタント
 の仕事内容・文化について、Oracle最新技術について、\
 n少しでも興味のある方は是非ご参加ください。\n\n第
 二回目としては、「機械学習」をテーマとし、第一回
 目より技術内容が濃いセッションを行います！\n支援
 例のご紹介やデモンストレーション、機械学習を行う
 際のコツなど、\n技術大好きな現マネージャーが熱く
 ！？語ります。\n\nお仕事終わりの時間帯となりますの
 で、飲み物食べ物をご用意しております。\n途中参加
 ／途中抜け可能ですので、是非お気軽にご参加くださ
 い！\n\n[開催日時] 2018年4月23日(月) 18:30-20:00\n [開催場
 所] オラクル青山センター 22F カフェ\n\nタイムスケジ
 ュール\n\n\n\n\n  時間\n  内容\n  登壇者\n\n\n\n\n  18:15-\n  
 受付開始\n  \n\n\n  18:30-19:30\n  コンサルと学ぶ!Oracle最新
 技術～オラクルクラウドですぐに使える！機械学習の
 現場ワザ～\n  内村友亮さん\n\n\n  19:30-20:00\n  相談会 (
 ※その後、有志で2次会あり)\n  \n\n\n\n\n※ 当日予告な
 く時間配分・内容が変更になる可能性がございます。\
 n\nセッション概要\n\nコンサルと学ぶ!Oracle最新技術～
 オラクルクラウドですぐに使える！機械学習の現場ワ
 ザ～  \n内村友亮さん\n\n最近のオラクルコンサルチー
 ムは、データ分析支援や機械学習支援、グラフデータ
 ベース支援もやっていたりします。\n本日のセッショ
 ンでは、それらの一部の支援サービスをご紹介し、ど
 んなエンジニアが在籍しているかを、\nコンサル週報
 をグラフ構造化して俯瞰しようと思っています。\n最
 後に、これから機械学習に取り組もうとしている方を
 対象に、\n技術的な観点で、機械学習を適用したステ
 ップをご紹介します。\n\n\n参加方法\n\n\nオラクル青山
 センターの 2F ロビーからエレベーターにて直接 22F の
 カフェまでお越しください。\n受付票は不要です。カ
 フェの受付にて登録時のお名前と企業名または学校名
 がわかるものをご提示ください。\n\n\n持ち物\n\n名刺な
 ど、お名前と企業名または学校名がわかるもの\n\n※ 
 ご本人様確認として受付時にご提示ください。\n\n参加
 費\n\n無料\n\nお問い合わせ\n\nイベントに関するお問い
 合わせは\nこちら\nへお願い致します。\n件名または本
 文に「コンサルと学ぶ!Oracle最新技術」を記載頂けます
 と幸いです。\n
LOCATION:オラクル青山センター 22F カフェ 東京都港区北青
 山2-5-8
URL:https://techplay.jp/event/668083?utm_medium=referral&utm_source=ics&utm
 _campaign=ics
END:VEVENT
END:VCALENDAR
